BEGIN:VCALENDAR
VERSION:2.0
PRODID:-//Sciencenter - ECPv6.15.20//NONSGML v1.0//EN
CALSCALE:GREGORIAN
METHOD:PUBLISH
X-WR-CALNAME:Sciencenter
X-ORIGINAL-URL:https://sciencenter.org
X-WR-CALDESC:Events for Sciencenter
REFRESH-INTERVAL;VALUE=DURATION:PT1H
X-Robots-Tag:noindex
X-PUBLISHED-TTL:PT1H
BEGIN:VTIMEZONE
TZID:America/New_York
BEGIN:DAYLIGHT
TZOFFSETFROM:-0500
TZOFFSETTO:-0400
TZNAME:EDT
DTSTART:20230312T070000
END:DAYLIGHT
BEGIN:STANDARD
TZOFFSETFROM:-0400
TZOFFSETTO:-0500
TZNAME:EST
DTSTART:20231105T060000
END:STANDARD
BEGIN:DAYLIGHT
TZOFFSETFROM:-0500
TZOFFSETTO:-0400
TZNAME:EDT
DTSTART:20240310T070000
END:DAYLIGHT
BEGIN:STANDARD
TZOFFSETFROM:-0400
TZOFFSETTO:-0500
TZNAME:EST
DTSTART:20241103T060000
END:STANDARD
BEGIN:DAYLIGHT
TZOFFSETFROM:-0500
TZOFFSETTO:-0400
TZNAME:EDT
DTSTART:20250309T070000
END:DAYLIGHT
BEGIN:STANDARD
TZOFFSETFROM:-0400
TZOFFSETTO:-0500
TZNAME:EST
DTSTART:20251102T060000
END:STANDARD
END:VTIMEZONE
BEGIN:VEVENT
DTSTART;TZID=America/New_York:20240324T140000
DTEND;TZID=America/New_York:20240324T150000
DTSTAMP:20260422T162246
CREATED:20240228T182533Z
LAST-MODIFIED:20240228T182533Z
UID:10001581-1711288800-1711292400@sciencenter.org
SUMMARY:Science Connections: Exploring Radio Technologies
DESCRIPTION:Join Tompkins County Public Library and Sciencenter to explore the world of radio technologies. Discover how the library uses radio technology to make book checkout faster and easier. Speak with librarians to learn about the new RFID project transforming the library experience. Engage in hands-on activities to learn about the impact of radio technologies on our world.
URL:https://sciencenter.org/event/science-connections-exploring-radio-technologies/
LOCATION:Tompkins County Public Library\, 101 E Green St\, Ithaca\, NY\, 14850\, United States
ATTACH;FMTTYPE=image/png:https://sciencenter.org/wp-content/uploads/Radio-Technologies.png
END:VEVENT
END:VCALENDAR