BEGIN:VCALENDAR
VERSION:2.0
PRODID:-//Sciencenter - ECPv6.15.20//NONSGML v1.0//EN
CALSCALE:GREGORIAN
METHOD:PUBLISH
X-ORIGINAL-URL:https://sciencenter.org
X-WR-CALDESC:Events for Sciencenter
REFRESH-INTERVAL;VALUE=DURATION:PT1H
X-Robots-Tag:noindex
X-PUBLISHED-TTL:PT1H
BEGIN:VTIMEZONE
TZID:America/New_York
BEGIN:DAYLIGHT
TZOFFSETFROM:-0500
TZOFFSETTO:-0400
TZNAME:EDT
DTSTART:20260308T070000
END:DAYLIGHT
BEGIN:STANDARD
TZOFFSETFROM:-0400
TZOFFSETTO:-0500
TZNAME:EST
DTSTART:20261101T060000
END:STANDARD
BEGIN:DAYLIGHT
TZOFFSETFROM:-0500
TZOFFSETTO:-0400
TZNAME:EDT
DTSTART:20270314T070000
END:DAYLIGHT
BEGIN:STANDARD
TZOFFSETFROM:-0400
TZOFFSETTO:-0500
TZNAME:EST
DTSTART:20271107T060000
END:STANDARD
BEGIN:DAYLIGHT
TZOFFSETFROM:-0500
TZOFFSETTO:-0400
TZNAME:EDT
DTSTART:20280312T070000
END:DAYLIGHT
BEGIN:STANDARD
TZOFFSETFROM:-0400
TZOFFSETTO:-0500
TZNAME:EST
DTSTART:20281105T060000
END:STANDARD
END:VTIMEZONE
BEGIN:VEVENT
DTSTART;TZID=America/New_York:20270306T110000
DTEND;TZID=America/New_York:20270306T150000
DTSTAMP:20260422T183440
CREATED:20251219T171046Z
LAST-MODIFIED:20260319T204314Z
UID:10002981-1804330800-1804345200@sciencenter.org
SUMMARY:Math Fun with MathHappens!
DESCRIPTION:Join us for playful\, informal math exploration with the MathHappens Foundation! Discover the “M” in STEM through hands-on models and engaging learning experiences.
URL:https://sciencenter.org/event/math-fun-with-mathhappens-2/2027-03-06/
LOCATION:Sciencenter\, 601 1st Street\, Ithaca\, NY\, 14850\, United States
ATTACH;FMTTYPE=image/png:https://sciencenter.org/wp-content/uploads/MathHappens-Website-Event-Graphic-1200-x-675-px.png
END:VEVENT
BEGIN:VEVENT
DTSTART;TZID=America/New_York:20270313T110000
DTEND;TZID=America/New_York:20270313T150000
DTSTAMP:20260422T183440
CREATED:20251219T171046Z
LAST-MODIFIED:20260319T204314Z
UID:10002982-1804935600-1804950000@sciencenter.org
SUMMARY:Math Fun with MathHappens!
DESCRIPTION:Join us for playful\, informal math exploration with the MathHappens Foundation! Discover the “M” in STEM through hands-on models and engaging learning experiences.
URL:https://sciencenter.org/event/math-fun-with-mathhappens-2/2027-03-13/
LOCATION:Sciencenter\, 601 1st Street\, Ithaca\, NY\, 14850\, United States
ATTACH;FMTTYPE=image/png:https://sciencenter.org/wp-content/uploads/MathHappens-Website-Event-Graphic-1200-x-675-px.png
END:VEVENT
BEGIN:VEVENT
DTSTART;TZID=America/New_York:20270320T110000
DTEND;TZID=America/New_York:20270320T150000
DTSTAMP:20260422T183440
CREATED:20251219T171046Z
LAST-MODIFIED:20260319T204314Z
UID:10002983-1805540400-1805554800@sciencenter.org
SUMMARY:Math Fun with MathHappens!
DESCRIPTION:Join us for playful\, informal math exploration with the MathHappens Foundation! Discover the “M” in STEM through hands-on models and engaging learning experiences.
URL:https://sciencenter.org/event/math-fun-with-mathhappens-2/2027-03-20/
LOCATION:Sciencenter\, 601 1st Street\, Ithaca\, NY\, 14850\, United States
ATTACH;FMTTYPE=image/png:https://sciencenter.org/wp-content/uploads/MathHappens-Website-Event-Graphic-1200-x-675-px.png
END:VEVENT
BEGIN:VEVENT
DTSTART;TZID=America/New_York:20270327T110000
DTEND;TZID=America/New_York:20270327T150000
DTSTAMP:20260422T183440
CREATED:20251219T171046Z
LAST-MODIFIED:20260319T204314Z
UID:10002984-1806145200-1806159600@sciencenter.org
SUMMARY:Math Fun with MathHappens!
DESCRIPTION:Join us for playful\, informal math exploration with the MathHappens Foundation! Discover the “M” in STEM through hands-on models and engaging learning experiences.
URL:https://sciencenter.org/event/math-fun-with-mathhappens-2/2027-03-27/
LOCATION:Sciencenter\, 601 1st Street\, Ithaca\, NY\, 14850\, United States
ATTACH;FMTTYPE=image/png:https://sciencenter.org/wp-content/uploads/MathHappens-Website-Event-Graphic-1200-x-675-px.png
END:VEVENT
END:VCALENDAR