BEGIN:VCALENDAR
VERSION:2.0
PRODID:-//Sciencenter - ECPv6.15.20//NONSGML v1.0//EN
CALSCALE:GREGORIAN
METHOD:PUBLISH
X-ORIGINAL-URL:https://sciencenter.org
X-WR-CALDESC:Events for Sciencenter
REFRESH-INTERVAL;VALUE=DURATION:PT1H
X-Robots-Tag:noindex
X-PUBLISHED-TTL:PT1H
BEGIN:VTIMEZONE
TZID:America/New_York
BEGIN:DAYLIGHT
TZOFFSETFROM:-0500
TZOFFSETTO:-0400
TZNAME:EDT
DTSTART:20230312T070000
END:DAYLIGHT
BEGIN:STANDARD
TZOFFSETFROM:-0400
TZOFFSETTO:-0500
TZNAME:EST
DTSTART:20231105T060000
END:STANDARD
BEGIN:DAYLIGHT
TZOFFSETFROM:-0500
TZOFFSETTO:-0400
TZNAME:EDT
DTSTART:20240310T070000
END:DAYLIGHT
BEGIN:STANDARD
TZOFFSETFROM:-0400
TZOFFSETTO:-0500
TZNAME:EST
DTSTART:20241103T060000
END:STANDARD
BEGIN:DAYLIGHT
TZOFFSETFROM:-0500
TZOFFSETTO:-0400
TZNAME:EDT
DTSTART:20250309T070000
END:DAYLIGHT
BEGIN:STANDARD
TZOFFSETFROM:-0400
TZOFFSETTO:-0500
TZNAME:EST
DTSTART:20251102T060000
END:STANDARD
END:VTIMEZONE
BEGIN:VEVENT
DTSTART;TZID=America/New_York:20240207T103000
DTEND;TZID=America/New_York:20240207T110000
DTSTAMP:20260422T175728
CREATED:20230809T151209Z
LAST-MODIFIED:20231207T020311Z
UID:10001491-1707301800-1707303600@sciencenter.org
SUMMARY:Science Together: Roller Coasters
DESCRIPTION:Explore ups and downs as you make and test a roller coaster! \nScience Together activities are designed for ages 0-4.
URL:https://sciencenter.org/event/science-together-roller-coasters/2024-02-07/
LOCATION:Sciencenter\, 601 1st Street\, Ithaca\, NY\, 14850\, United States
ATTACH;FMTTYPE=image/jpeg:https://sciencenter.org/wp-content/uploads/roller-coaster1-crop.jpg
END:VEVENT
BEGIN:VEVENT
DTSTART;TZID=America/New_York:20240206T103000
DTEND;TZID=America/New_York:20240206T110000
DTSTAMP:20260422T175728
CREATED:20230809T151209Z
LAST-MODIFIED:20231207T020311Z
UID:10001490-1707215400-1707217200@sciencenter.org
SUMMARY:Science Together: Roller Coasters
DESCRIPTION:Explore ups and downs as you make and test a roller coaster! \nScience Together activities are designed for ages 0-4.
URL:https://sciencenter.org/event/science-together-roller-coasters/2024-02-06/
LOCATION:Sciencenter\, 601 1st Street\, Ithaca\, NY\, 14850\, United States
ATTACH;FMTTYPE=image/jpeg:https://sciencenter.org/wp-content/uploads/roller-coaster1-crop.jpg
END:VEVENT
BEGIN:VEVENT
DTSTART;TZID=America/New_York:20240203T140000
DTEND;TZID=America/New_York:20240203T150000
DTSTAMP:20260422T175728
CREATED:20231212T162226Z
LAST-MODIFIED:20240521T154935Z
UID:10001508-1706968800-1706972400@sciencenter.org
SUMMARY:Cold Show
DESCRIPTION:Get ready for some freezing fun! We’ll explore states of matter and how temperature affects materials as we explore dry ice.
URL:https://sciencenter.org/event/cold-show/2024-02-03/
LOCATION:Sciencenter\, 601 1st Street\, Ithaca\, NY\, 14850\, United States
ATTACH;FMTTYPE=image/jpeg:https://sciencenter.org/wp-content/uploads/Cold-Show-1.jpg
END:VEVENT
BEGIN:VEVENT
DTSTART;TZID=America/New_York:20240202T103000
DTEND;TZID=America/New_York:20240202T110000
DTSTAMP:20260422T175728
CREATED:20231207T015948Z
LAST-MODIFIED:20231207T015948Z
UID:10001489-1706869800-1706871600@sciencenter.org
SUMMARY:Science Together: Baking Soda and Vinegar
DESCRIPTION:Explore the process of experimentation as you create chemical reactions with baking soda and vinegar! \nScience Together activities are designed for ages 0-4.
URL:https://sciencenter.org/event/science-together-baking-soda-and-vinegar/2024-02-02/
LOCATION:Sciencenter\, 601 1st Street\, Ithaca\, NY\, 14850\, United States
ATTACH;FMTTYPE=image/jpeg:https://sciencenter.org/wp-content/uploads/Baking-Soda-and-Vinegar.jpg
END:VEVENT
BEGIN:VEVENT
DTSTART;TZID=America/New_York:20240201T103000
DTEND;TZID=America/New_York:20240201T110000
DTSTAMP:20260422T175728
CREATED:20231207T015948Z
LAST-MODIFIED:20231207T015948Z
UID:10001488-1706783400-1706785200@sciencenter.org
SUMMARY:Science Together: Baking Soda and Vinegar
DESCRIPTION:Explore the process of experimentation as you create chemical reactions with baking soda and vinegar! \nScience Together activities are designed for ages 0-4.
URL:https://sciencenter.org/event/science-together-baking-soda-and-vinegar/2024-02-01/
LOCATION:Sciencenter\, 601 1st Street\, Ithaca\, NY\, 14850\, United States
ATTACH;FMTTYPE=image/jpeg:https://sciencenter.org/wp-content/uploads/Baking-Soda-and-Vinegar.jpg
END:VEVENT
BEGIN:VEVENT
DTSTART;TZID=America/New_York:20240131T160000
DTEND;TZID=America/New_York:20240131T163000
DTSTAMP:20260422T175728
CREATED:20231212T162609Z
LAST-MODIFIED:20240213T162040Z
UID:10000577-1706716800-1706718600@sciencenter.org
SUMMARY:Animal Feeding
DESCRIPTION:Join an Animal Keeper to observe snakes\, lizards\, frogs\, and fish snacking on their preferred prey.
URL:https://sciencenter.org/event/animal-feeding-2/2024-01-31/
LOCATION:Sciencenter\, 601 1st Street\, Ithaca\, NY\, 14850\, United States
ATTACH;FMTTYPE=image/jpeg:https://sciencenter.org/wp-content/uploads/snake.jpg
END:VEVENT
BEGIN:VEVENT
DTSTART;TZID=America/New_York:20240131T103000
DTEND;TZID=America/New_York:20240131T110000
DTSTAMP:20260422T175728
CREATED:20231207T015948Z
LAST-MODIFIED:20231207T015948Z
UID:10001487-1706697000-1706698800@sciencenter.org
SUMMARY:Science Together: Baking Soda and Vinegar
DESCRIPTION:Explore the process of experimentation as you create chemical reactions with baking soda and vinegar! \nScience Together activities are designed for ages 0-4.
URL:https://sciencenter.org/event/science-together-baking-soda-and-vinegar/2024-01-31/
LOCATION:Sciencenter\, 601 1st Street\, Ithaca\, NY\, 14850\, United States
ATTACH;FMTTYPE=image/jpeg:https://sciencenter.org/wp-content/uploads/Baking-Soda-and-Vinegar.jpg
END:VEVENT
BEGIN:VEVENT
DTSTART;TZID=America/New_York:20240130T103000
DTEND;TZID=America/New_York:20240130T110000
DTSTAMP:20260422T175728
CREATED:20231207T015948Z
LAST-MODIFIED:20231207T015948Z
UID:10001486-1706610600-1706612400@sciencenter.org
SUMMARY:Science Together: Baking Soda and Vinegar
DESCRIPTION:Explore the process of experimentation as you create chemical reactions with baking soda and vinegar! \nScience Together activities are designed for ages 0-4.
URL:https://sciencenter.org/event/science-together-baking-soda-and-vinegar/2024-01-30/
LOCATION:Sciencenter\, 601 1st Street\, Ithaca\, NY\, 14850\, United States
ATTACH;FMTTYPE=image/jpeg:https://sciencenter.org/wp-content/uploads/Baking-Soda-and-Vinegar.jpg
END:VEVENT
BEGIN:VEVENT
DTSTART;TZID=America/New_York:20240128T140000
DTEND;TZID=America/New_York:20240128T150000
DTSTAMP:20260422T175728
CREATED:20240115T171127Z
LAST-MODIFIED:20240115T171127Z
UID:10001541-1706450400-1706454000@sciencenter.org
SUMMARY:Science Connections: Penny Chemistry
DESCRIPTION:Join Sciencenter staff to explore the chemistry of copper!
URL:https://sciencenter.org/event/science-connections-penny-chemistry/
LOCATION:Sciencenter\, 601 1st Street\, Ithaca\, NY\, 14850\, United States
ATTACH;FMTTYPE=image/png:https://sciencenter.org/wp-content/uploads/Penny-Chemistry-1.png
END:VEVENT
BEGIN:VEVENT
DTSTART;TZID=America/New_York:20240126T103000
DTEND;TZID=America/New_York:20240126T110000
DTSTAMP:20260422T175728
CREATED:20230809T154911Z
LAST-MODIFIED:20231207T014916Z
UID:10000568-1706265000-1706266800@sciencenter.org
SUMMARY:Science Together: Sink or Float
DESCRIPTION:Test and sort items with a water play\, sink or float experiment! \nScience Together activities are designed for ages 0-4.
URL:https://sciencenter.org/event/science-together-sink-or-float/2024-01-26/
LOCATION:Sciencenter\, 601 1st Street\, Ithaca\, NY\, 14850\, United States
ATTACH;FMTTYPE=image/jpeg:https://sciencenter.org/wp-content/uploads/SinkFloat.jpg
END:VEVENT
BEGIN:VEVENT
DTSTART;TZID=America/New_York:20240125T103000
DTEND;TZID=America/New_York:20240125T110000
DTSTAMP:20260422T175728
CREATED:20230809T154911Z
LAST-MODIFIED:20231207T014916Z
UID:10000567-1706178600-1706180400@sciencenter.org
SUMMARY:Science Together: Sink or Float
DESCRIPTION:Test and sort items with a water play\, sink or float experiment! \nScience Together activities are designed for ages 0-4.
URL:https://sciencenter.org/event/science-together-sink-or-float/2024-01-25/
LOCATION:Sciencenter\, 601 1st Street\, Ithaca\, NY\, 14850\, United States
ATTACH;FMTTYPE=image/jpeg:https://sciencenter.org/wp-content/uploads/SinkFloat.jpg
END:VEVENT
BEGIN:VEVENT
DTSTART;TZID=America/New_York:20240124T160000
DTEND;TZID=America/New_York:20240124T163000
DTSTAMP:20260422T175728
CREATED:20231212T162609Z
LAST-MODIFIED:20240213T162040Z
UID:10000576-1706112000-1706113800@sciencenter.org
SUMMARY:Animal Feeding
DESCRIPTION:Join an Animal Keeper to observe snakes\, lizards\, frogs\, and fish snacking on their preferred prey.
URL:https://sciencenter.org/event/animal-feeding-2/2024-01-24/
LOCATION:Sciencenter\, 601 1st Street\, Ithaca\, NY\, 14850\, United States
ATTACH;FMTTYPE=image/jpeg:https://sciencenter.org/wp-content/uploads/snake.jpg
END:VEVENT
BEGIN:VEVENT
DTSTART;TZID=America/New_York:20240124T103000
DTEND;TZID=America/New_York:20240124T110000
DTSTAMP:20260422T175728
CREATED:20230809T154911Z
LAST-MODIFIED:20231207T014916Z
UID:10000566-1706092200-1706094000@sciencenter.org
SUMMARY:Science Together: Sink or Float
DESCRIPTION:Test and sort items with a water play\, sink or float experiment! \nScience Together activities are designed for ages 0-4.
URL:https://sciencenter.org/event/science-together-sink-or-float/2024-01-24/
LOCATION:Sciencenter\, 601 1st Street\, Ithaca\, NY\, 14850\, United States
ATTACH;FMTTYPE=image/jpeg:https://sciencenter.org/wp-content/uploads/SinkFloat.jpg
END:VEVENT
BEGIN:VEVENT
DTSTART;TZID=America/New_York:20240123T103000
DTEND;TZID=America/New_York:20240123T110000
DTSTAMP:20260422T175728
CREATED:20230809T154911Z
LAST-MODIFIED:20231207T014916Z
UID:10000565-1706005800-1706007600@sciencenter.org
SUMMARY:Science Together: Sink or Float
DESCRIPTION:Test and sort items with a water play\, sink or float experiment! \nScience Together activities are designed for ages 0-4.
URL:https://sciencenter.org/event/science-together-sink-or-float/2024-01-23/
LOCATION:Sciencenter\, 601 1st Street\, Ithaca\, NY\, 14850\, United States
ATTACH;FMTTYPE=image/jpeg:https://sciencenter.org/wp-content/uploads/SinkFloat.jpg
END:VEVENT
BEGIN:VEVENT
DTSTART;TZID=America/New_York:20240121T140000
DTEND;TZID=America/New_York:20240121T150000
DTSTAMP:20260422T175728
CREATED:20240202T134401Z
LAST-MODIFIED:20240202T134401Z
UID:10001553-1705845600-1705849200@sciencenter.org
SUMMARY:Science Connections: Resistance Painting
DESCRIPTION:Join us to create art using watercolors and crayons while making predictions and observations! We can’t wait to see what you create!
URL:https://sciencenter.org/event/science-connections-resistance-painting/
LOCATION:Sciencenter\, 601 1st Street\, Ithaca\, NY\, 14850\, United States
ATTACH;FMTTYPE=image/png:https://sciencenter.org/wp-content/uploads/Resistance-Painting-2.png
END:VEVENT
BEGIN:VEVENT
DTSTART;TZID=America/New_York:20240120T140000
DTEND;TZID=America/New_York:20240120T150000
DTSTAMP:20260422T175728
CREATED:20231212T163431Z
LAST-MODIFIED:20231212T163431Z
UID:10001513-1705759200-1705762800@sciencenter.org
SUMMARY:Reptile Show
DESCRIPTION:Learn all about reptiles — and get up close and personal with some of Sciencenter’s scaly animal ambassadors!
URL:https://sciencenter.org/event/reptile-show/
LOCATION:Sciencenter\, 601 1st Street\, Ithaca\, NY\, 14850\, United States
ATTACH;FMTTYPE=image/jpeg:https://sciencenter.org/wp-content/uploads/Carpet-Chameleon.jpg
END:VEVENT
BEGIN:VEVENT
DTSTART;TZID=America/New_York:20240119T103000
DTEND;TZID=America/New_York:20240119T110000
DTSTAMP:20260422T175728
CREATED:20231207T015438Z
LAST-MODIFIED:20231207T015438Z
UID:10001485-1705660200-1705662000@sciencenter.org
SUMMARY:Science Together: Ramp Painting
DESCRIPTION:Let’s paint with gravity! Make patterns and test ideas while we roll paint-covered balls down ramps. \nScience Together activities are designed for ages 0-4.
URL:https://sciencenter.org/event/science-together-ramp-painting/2024-01-19/
LOCATION:Sciencenter\, 601 1st Street\, Ithaca\, NY\, 14850\, United States
ATTACH;FMTTYPE=image/jpeg:https://sciencenter.org/wp-content/uploads/Ramp-Painting.jpg
END:VEVENT
BEGIN:VEVENT
DTSTART;TZID=America/New_York:20240118T103000
DTEND;TZID=America/New_York:20240118T110000
DTSTAMP:20260422T175728
CREATED:20231207T015438Z
LAST-MODIFIED:20231207T015438Z
UID:10001484-1705573800-1705575600@sciencenter.org
SUMMARY:Science Together: Ramp Painting
DESCRIPTION:Let’s paint with gravity! Make patterns and test ideas while we roll paint-covered balls down ramps. \nScience Together activities are designed for ages 0-4.
URL:https://sciencenter.org/event/science-together-ramp-painting/2024-01-18/
LOCATION:Sciencenter\, 601 1st Street\, Ithaca\, NY\, 14850\, United States
ATTACH;FMTTYPE=image/jpeg:https://sciencenter.org/wp-content/uploads/Ramp-Painting.jpg
END:VEVENT
BEGIN:VEVENT
DTSTART;TZID=America/New_York:20240117T160000
DTEND;TZID=America/New_York:20240117T163000
DTSTAMP:20260422T175728
CREATED:20231212T162609Z
LAST-MODIFIED:20240213T162040Z
UID:10000575-1705507200-1705509000@sciencenter.org
SUMMARY:Animal Feeding
DESCRIPTION:Join an Animal Keeper to observe snakes\, lizards\, frogs\, and fish snacking on their preferred prey.
URL:https://sciencenter.org/event/animal-feeding-2/2024-01-17/
LOCATION:Sciencenter\, 601 1st Street\, Ithaca\, NY\, 14850\, United States
ATTACH;FMTTYPE=image/jpeg:https://sciencenter.org/wp-content/uploads/snake.jpg
END:VEVENT
BEGIN:VEVENT
DTSTART;TZID=America/New_York:20240117T103000
DTEND;TZID=America/New_York:20240117T110000
DTSTAMP:20260422T175728
CREATED:20231207T015438Z
LAST-MODIFIED:20231207T015438Z
UID:10001483-1705487400-1705489200@sciencenter.org
SUMMARY:Science Together: Ramp Painting
DESCRIPTION:Let’s paint with gravity! Make patterns and test ideas while we roll paint-covered balls down ramps. \nScience Together activities are designed for ages 0-4.
URL:https://sciencenter.org/event/science-together-ramp-painting/2024-01-17/
LOCATION:Sciencenter\, 601 1st Street\, Ithaca\, NY\, 14850\, United States
ATTACH;FMTTYPE=image/jpeg:https://sciencenter.org/wp-content/uploads/Ramp-Painting.jpg
END:VEVENT
BEGIN:VEVENT
DTSTART;TZID=America/New_York:20240116T103000
DTEND;TZID=America/New_York:20240116T110000
DTSTAMP:20260422T175728
CREATED:20231207T015438Z
LAST-MODIFIED:20231207T015438Z
UID:10001482-1705401000-1705402800@sciencenter.org
SUMMARY:Science Together: Ramp Painting
DESCRIPTION:Let’s paint with gravity! Make patterns and test ideas while we roll paint-covered balls down ramps. \nScience Together activities are designed for ages 0-4.
URL:https://sciencenter.org/event/science-together-ramp-painting/2024-01-16/
LOCATION:Sciencenter\, 601 1st Street\, Ithaca\, NY\, 14850\, United States
ATTACH;FMTTYPE=image/jpeg:https://sciencenter.org/wp-content/uploads/Ramp-Painting.jpg
END:VEVENT
BEGIN:VEVENT
DTSTART;TZID=America/New_York:20240114T140000
DTEND;TZID=America/New_York:20240114T150000
DTSTAMP:20260422T175728
CREATED:20240111T143441Z
LAST-MODIFIED:20240111T143441Z
UID:10001540-1705240800-1705244400@sciencenter.org
SUMMARY:Science Connections: Rubber Duck Rescue
DESCRIPTION:Calling all engineers! We need your help to design\, build\, and test a contraption to help rubber ducks fly back to the pond.
URL:https://sciencenter.org/event/science-connections-rubber-duck-rescue/
LOCATION:Sciencenter\, 601 1st Street\, Ithaca\, NY\, 14850\, United States
ATTACH;FMTTYPE=image/png:https://sciencenter.org/wp-content/uploads/Rubber-Duck-Rescue.png
END:VEVENT
BEGIN:VEVENT
DTSTART;TZID=America/New_York:20240113T130000
DTEND;TZID=America/New_York:20240113T150000
DTSTAMP:20260422T175728
CREATED:20230809T154626Z
LAST-MODIFIED:20231229T162433Z
UID:10000531-1705150800-1705158000@sciencenter.org
SUMMARY:Science Connections: TCPL Robotics Club
DESCRIPTION:It’s robot racing time! Join roboticists from the Tompkins County Public Library Robotics Club and learn to program and tune a robot car to race around a track.
URL:https://sciencenter.org/event/science-connections-adaptive-toys/
LOCATION:Sciencenter\, 601 1st Street\, Ithaca\, NY\, 14850\, United States
ATTACH;FMTTYPE=image/png:https://sciencenter.org/wp-content/uploads/Robotics-Club.png
END:VEVENT
BEGIN:VEVENT
DTSTART;TZID=America/New_York:20240112T103000
DTEND;TZID=America/New_York:20240112T110000
DTSTAMP:20260422T175728
CREATED:20230809T152623Z
LAST-MODIFIED:20231207T014810Z
UID:10001481-1705055400-1705057200@sciencenter.org
SUMMARY:Science Together: Flubber
DESCRIPTION:Use a variety of tools to explore and make observations about the fun properties of Flubber! \nScience Together activities are designed for ages 0-4.
URL:https://sciencenter.org/event/science-together-flubber/2024-01-12/
LOCATION:Sciencenter\, 601 1st Street\, Ithaca\, NY\, 14850\, United States
ATTACH;FMTTYPE=image/jpeg:https://sciencenter.org/wp-content/uploads/flubber.jpg
END:VEVENT
BEGIN:VEVENT
DTSTART;TZID=America/New_York:20240110T160000
DTEND;TZID=America/New_York:20240110T163000
DTSTAMP:20260422T175728
CREATED:20231212T162609Z
LAST-MODIFIED:20240213T162040Z
UID:10000574-1704902400-1704904200@sciencenter.org
SUMMARY:Animal Feeding
DESCRIPTION:Join an Animal Keeper to observe snakes\, lizards\, frogs\, and fish snacking on their preferred prey.
URL:https://sciencenter.org/event/animal-feeding-2/2024-01-10/
LOCATION:Sciencenter\, 601 1st Street\, Ithaca\, NY\, 14850\, United States
ATTACH;FMTTYPE=image/jpeg:https://sciencenter.org/wp-content/uploads/snake.jpg
END:VEVENT
BEGIN:VEVENT
DTSTART;TZID=America/New_York:20240110T103000
DTEND;TZID=America/New_York:20240110T110000
DTSTAMP:20260422T175728
CREATED:20230809T152623Z
LAST-MODIFIED:20231207T014810Z
UID:10001480-1704882600-1704884400@sciencenter.org
SUMMARY:Science Together: Flubber
DESCRIPTION:Use a variety of tools to explore and make observations about the fun properties of Flubber! \nScience Together activities are designed for ages 0-4.
URL:https://sciencenter.org/event/science-together-flubber/2024-01-10/
LOCATION:Sciencenter\, 601 1st Street\, Ithaca\, NY\, 14850\, United States
ATTACH;FMTTYPE=image/jpeg:https://sciencenter.org/wp-content/uploads/flubber.jpg
END:VEVENT
BEGIN:VEVENT
DTSTART;TZID=America/New_York:20240109T103000
DTEND;TZID=America/New_York:20240109T110000
DTSTAMP:20260422T175728
CREATED:20230809T152623Z
LAST-MODIFIED:20231207T014810Z
UID:10001479-1704796200-1704798000@sciencenter.org
SUMMARY:Science Together: Flubber
DESCRIPTION:Use a variety of tools to explore and make observations about the fun properties of Flubber! \nScience Together activities are designed for ages 0-4.
URL:https://sciencenter.org/event/science-together-flubber/2024-01-09/
LOCATION:Sciencenter\, 601 1st Street\, Ithaca\, NY\, 14850\, United States
ATTACH;FMTTYPE=image/jpeg:https://sciencenter.org/wp-content/uploads/flubber.jpg
END:VEVENT
BEGIN:VEVENT
DTSTART;TZID=America/New_York:20240107T140000
DTEND;TZID=America/New_York:20240107T150000
DTSTAMP:20260422T175728
CREATED:20231212T170829Z
LAST-MODIFIED:20231212T170829Z
UID:10001534-1704636000-1704639600@sciencenter.org
SUMMARY:Chemsations: Polymer Party
DESCRIPTION:Explore chemistry during this hands-on program! We’ll have lots of messy fun as we explore super-absorbent materials and make slime to explore the properties of polymers!
URL:https://sciencenter.org/event/chemsations-polymer-party/
LOCATION:Sciencenter\, 601 1st Street\, Ithaca\, NY\, 14850\, United States
ATTACH;FMTTYPE=image/png:https://sciencenter.org/wp-content/uploads/Slime-2.png
END:VEVENT
BEGIN:VEVENT
DTSTART;TZID=America/New_York:20240106T140000
DTEND;TZID=America/New_York:20240106T150000
DTSTAMP:20260422T175728
CREATED:20231212T162226Z
LAST-MODIFIED:20240521T154935Z
UID:10001507-1704549600-1704553200@sciencenter.org
SUMMARY:Cold Show
DESCRIPTION:Get ready for some freezing fun! We’ll explore states of matter and how temperature affects materials as we explore dry ice.
URL:https://sciencenter.org/event/cold-show/2024-01-06/
LOCATION:Sciencenter\, 601 1st Street\, Ithaca\, NY\, 14850\, United States
ATTACH;FMTTYPE=image/jpeg:https://sciencenter.org/wp-content/uploads/Cold-Show-1.jpg
END:VEVENT
BEGIN:VEVENT
DTSTART;TZID=America/New_York:20240105T103000
DTEND;TZID=America/New_York:20240105T110000
DTSTAMP:20260422T175728
CREATED:20231207T014035Z
LAST-MODIFIED:20231207T014953Z
UID:10001112-1704450600-1704452400@sciencenter.org
SUMMARY:Science Together: Ice Melting
DESCRIPTION:Test out different methods to melt ice with tools like warm water and salt. See if you can rescue an animal trapped in ice! \nScience Together activities are designed for ages 0-4.
URL:https://sciencenter.org/event/science-together-ice-melting/2024-01-05/
LOCATION:Sciencenter\, 601 1st Street\, Ithaca\, NY\, 14850\, United States
ATTACH;FMTTYPE=image/jpeg:https://sciencenter.org/wp-content/uploads/Ice-Melting.jpg
END:VEVENT
END:VCALENDAR