BEGIN:VCALENDAR
VERSION:2.0
PRODID:-//Sciencenter - ECPv6.15.20//NONSGML v1.0//EN
CALSCALE:GREGORIAN
METHOD:PUBLISH
X-WR-CALNAME:Sciencenter
X-ORIGINAL-URL:https://sciencenter.org
X-WR-CALDESC:Events for Sciencenter
REFRESH-INTERVAL;VALUE=DURATION:PT1H
X-Robots-Tag:noindex
X-PUBLISHED-TTL:PT1H
BEGIN:VTIMEZONE
TZID:America/New_York
BEGIN:DAYLIGHT
TZOFFSETFROM:-0500
TZOFFSETTO:-0400
TZNAME:EDT
DTSTART:20230312T070000
END:DAYLIGHT
BEGIN:STANDARD
TZOFFSETFROM:-0400
TZOFFSETTO:-0500
TZNAME:EST
DTSTART:20231105T060000
END:STANDARD
BEGIN:DAYLIGHT
TZOFFSETFROM:-0500
TZOFFSETTO:-0400
TZNAME:EDT
DTSTART:20240310T070000
END:DAYLIGHT
BEGIN:STANDARD
TZOFFSETFROM:-0400
TZOFFSETTO:-0500
TZNAME:EST
DTSTART:20241103T060000
END:STANDARD
BEGIN:DAYLIGHT
TZOFFSETFROM:-0500
TZOFFSETTO:-0400
TZNAME:EDT
DTSTART:20250309T070000
END:DAYLIGHT
BEGIN:STANDARD
TZOFFSETFROM:-0400
TZOFFSETTO:-0500
TZNAME:EST
DTSTART:20251102T060000
END:STANDARD
END:VTIMEZONE
BEGIN:VEVENT
DTSTART;TZID=America/New_York:20240310T140000
DTEND;TZID=America/New_York:20240310T150000
DTSTAMP:20260423T002758
CREATED:20240227T215004Z
LAST-MODIFIED:20240227T215004Z
UID:10001580-1710079200-1710082800@sciencenter.org
SUMMARY:Science Connections: Raptor 4-H Club
DESCRIPTION:Talk about hawks\, howl for owls\, and learn about falcons’ gift for swift during an interactive presentation with the Raptor 4-H club!
URL:https://sciencenter.org/event/raptor-4-h-club/
LOCATION:Sciencenter\, 601 1st Street\, Ithaca\, NY\, 14850\, United States
ATTACH;FMTTYPE=image/png:https://sciencenter.org/wp-content/uploads/Raptor-4-H-Club.png
END:VEVENT
BEGIN:VEVENT
DTSTART;TZID=America/New_York:20240310T130000
DTEND;TZID=America/New_York:20240310T150000
DTSTAMP:20260423T002758
CREATED:20240307T210333Z
LAST-MODIFIED:20240307T210427Z
UID:10001590-1710075600-1710082800@sciencenter.org
SUMMARY:Lifespan Labs at Cornell (LiLaC)
DESCRIPTION:We’re excited to collaborate with the Lifespan Labs at Cornell (LiLaC) to share science and research opportunities with visitors! LiLaC is a consortium of developmental psychology labs at Cornell University. The lifespan labs study all stages of human development\, from infancy and childhood to adolescence and adulthood to better understand how humans learn and grow at each point across the lifespan! \nStop by Curiosity Corner on Sunday afternoon from 1-3 pm to connect with scientists!
URL:https://sciencenter.org/event/lifespan-labs-at-cornell-lilac/
LOCATION:Sciencenter\, 601 1st Street\, Ithaca\, NY\, 14850\, United States
ATTACH;FMTTYPE=image/png:https://sciencenter.org/wp-content/uploads/LiLaC.png
END:VEVENT
BEGIN:VEVENT
DTSTART;TZID=America/New_York:20240309T140000
DTEND;TZID=America/New_York:20240309T150000
DTSTAMP:20260423T002758
CREATED:20240227T214354Z
LAST-MODIFIED:20240227T214354Z
UID:10001579-1709992800-1709996400@sciencenter.org
SUMMARY:Science Connections: Exploring Radio Technologies
DESCRIPTION:Join Tompkins County Public Library and Sciencenter to explore the world of radio technologies. Discover how the library uses radio technology to make book checkout faster and easier. Speak with librarians to learn about the new RFID project transforming the library experience. Engage in hands-on activities to learn about the impact of radio technologies on our world.
URL:https://sciencenter.org/event/radio-technologies/
LOCATION:Sciencenter\, 601 1st Street\, Ithaca\, NY\, 14850\, United States
ATTACH;FMTTYPE=image/png:https://sciencenter.org/wp-content/uploads/Radio-Technologies.png
END:VEVENT
BEGIN:VEVENT
DTSTART;TZID=America/New_York:20240308T103000
DTEND;TZID=America/New_York:20240308T110000
DTSTAMP:20260423T002758
CREATED:20240215T215245Z
LAST-MODIFIED:20240301T204545Z
UID:10001573-1709893800-1709895600@sciencenter.org
SUMMARY:Science Together: Ice Melting
DESCRIPTION:Test out different methods to melt ice with tools like warm water and salt. See if you can rescue an animal trapped in ice! \nScience Together activities are designed for ages 0-4.
URL:https://sciencenter.org/event/science-together-ice-melting-2/2024-03-08/
LOCATION:Sciencenter\, 601 1st Street\, Ithaca\, NY\, 14850\, United States
ATTACH;FMTTYPE=image/jpeg:https://sciencenter.org/wp-content/uploads/Ice-Melting.jpg
END:VEVENT
BEGIN:VEVENT
DTSTART;TZID=America/New_York:20240307T103000
DTEND;TZID=America/New_York:20240307T110000
DTSTAMP:20260423T002758
CREATED:20240215T215245Z
LAST-MODIFIED:20240301T204545Z
UID:10001572-1709807400-1709809200@sciencenter.org
SUMMARY:Science Together: Ice Melting
DESCRIPTION:Test out different methods to melt ice with tools like warm water and salt. See if you can rescue an animal trapped in ice! \nScience Together activities are designed for ages 0-4.
URL:https://sciencenter.org/event/science-together-ice-melting-2/2024-03-07/
LOCATION:Sciencenter\, 601 1st Street\, Ithaca\, NY\, 14850\, United States
ATTACH;FMTTYPE=image/jpeg:https://sciencenter.org/wp-content/uploads/Ice-Melting.jpg
END:VEVENT
BEGIN:VEVENT
DTSTART;TZID=America/New_York:20240306T160000
DTEND;TZID=America/New_York:20240306T163000
DTSTAMP:20260423T002758
CREATED:20240213T161826Z
LAST-MODIFIED:20240213T161915Z
UID:10000582-1709740800-1709742600@sciencenter.org
SUMMARY:Animal Feeding
DESCRIPTION:Join an Animal Keeper to observe snakes\, lizards\, frogs\, and fish snacking on their preferred prey.
URL:https://sciencenter.org/event/animal-feeding-2-2/2024-03-06/
LOCATION:Sciencenter\, 601 1st Street\, Ithaca\, NY\, 14850\, United States
ATTACH;FMTTYPE=image/png:https://sciencenter.org/wp-content/uploads/Animal-Feeding.png
END:VEVENT
BEGIN:VEVENT
DTSTART;TZID=America/New_York:20240305T103000
DTEND;TZID=America/New_York:20240305T110000
DTSTAMP:20260423T002758
CREATED:20240215T215245Z
LAST-MODIFIED:20240301T204545Z
UID:10001570-1709634600-1709636400@sciencenter.org
SUMMARY:Science Together: Ice Melting
DESCRIPTION:Test out different methods to melt ice with tools like warm water and salt. See if you can rescue an animal trapped in ice! \nScience Together activities are designed for ages 0-4.
URL:https://sciencenter.org/event/science-together-ice-melting-2/2024-03-05/
LOCATION:Sciencenter\, 601 1st Street\, Ithaca\, NY\, 14850\, United States
ATTACH;FMTTYPE=image/jpeg:https://sciencenter.org/wp-content/uploads/Ice-Melting.jpg
END:VEVENT
BEGIN:VEVENT
DTSTART;TZID=America/New_York:20240303T140000
DTEND;TZID=America/New_York:20240303T150000
DTSTAMP:20260423T002758
CREATED:20240215T215046Z
LAST-MODIFIED:20240215T215046Z
UID:10001565-1709474400-1709478000@sciencenter.org
SUMMARY:Chemsations: Polymer Party
DESCRIPTION:Explore chemistry during this hands-on program! We’ll have lots of messy fun as we explore super-absorbent materials and make slime to explore the properties of polymers!
URL:https://sciencenter.org/event/chemsations-polymer-party-2/
LOCATION:Sciencenter\, 601 1st Street\, Ithaca\, NY\, 14850\, United States
ATTACH;FMTTYPE=image/png:https://sciencenter.org/wp-content/uploads/Slime-2.png
END:VEVENT
BEGIN:VEVENT
DTSTART;TZID=America/New_York:20240302T140000
DTEND;TZID=America/New_York:20240302T150000
DTSTAMP:20260423T002758
CREATED:20231212T162226Z
LAST-MODIFIED:20240521T154935Z
UID:10001509-1709388000-1709391600@sciencenter.org
SUMMARY:Cold Show
DESCRIPTION:Get ready for some freezing fun! We’ll explore states of matter and how temperature affects materials as we explore dry ice.
URL:https://sciencenter.org/event/cold-show/2024-03-02/
LOCATION:Sciencenter\, 601 1st Street\, Ithaca\, NY\, 14850\, United States
ATTACH;FMTTYPE=image/jpeg:https://sciencenter.org/wp-content/uploads/Cold-Show-1.jpg
END:VEVENT
BEGIN:VEVENT
DTSTART;TZID=America/New_York:20240301T103000
DTEND;TZID=America/New_York:20240301T110000
DTSTAMP:20260423T002758
CREATED:20231207T022244Z
LAST-MODIFIED:20240227T151619Z
UID:10001564-1709289000-1709290800@sciencenter.org
SUMMARY:Science Together: Worms
DESCRIPTION:Observe and measure live worms! \nScience Together activities are designed for ages 0-4.
URL:https://sciencenter.org/event/science-together-worms/2024-03-01/
LOCATION:Sciencenter\, 601 1st Street\, Ithaca\, NY\, 14850\, United States
ATTACH;FMTTYPE=image/jpeg:https://sciencenter.org/wp-content/uploads/Worms.jpg
END:VEVENT
BEGIN:VEVENT
DTSTART;TZID=America/New_York:20240229T103000
DTEND;TZID=America/New_York:20240229T110000
DTSTAMP:20260423T002758
CREATED:20231207T022244Z
LAST-MODIFIED:20240227T151619Z
UID:10001503-1709202600-1709204400@sciencenter.org
SUMMARY:Science Together: Worms
DESCRIPTION:Observe and measure live worms! \nScience Together activities are designed for ages 0-4.
URL:https://sciencenter.org/event/science-together-worms/2024-02-29/
LOCATION:Sciencenter\, 601 1st Street\, Ithaca\, NY\, 14850\, United States
ATTACH;FMTTYPE=image/jpeg:https://sciencenter.org/wp-content/uploads/Worms.jpg
END:VEVENT
BEGIN:VEVENT
DTSTART;TZID=America/New_York:20240228T160000
DTEND;TZID=America/New_York:20240228T163000
DTSTAMP:20260423T002758
CREATED:20240213T161826Z
LAST-MODIFIED:20240213T161915Z
UID:10000581-1709136000-1709137800@sciencenter.org
SUMMARY:Animal Feeding
DESCRIPTION:Join an Animal Keeper to observe snakes\, lizards\, frogs\, and fish snacking on their preferred prey.
URL:https://sciencenter.org/event/animal-feeding-2-2/2024-02-28/
LOCATION:Sciencenter\, 601 1st Street\, Ithaca\, NY\, 14850\, United States
ATTACH;FMTTYPE=image/png:https://sciencenter.org/wp-content/uploads/Animal-Feeding.png
END:VEVENT
BEGIN:VEVENT
DTSTART;TZID=America/New_York:20240227T103000
DTEND;TZID=America/New_York:20240227T110000
DTSTAMP:20260423T002758
CREATED:20231207T022244Z
LAST-MODIFIED:20240227T151619Z
UID:10001501-1709029800-1709031600@sciencenter.org
SUMMARY:Science Together: Worms
DESCRIPTION:Observe and measure live worms! \nScience Together activities are designed for ages 0-4.
URL:https://sciencenter.org/event/science-together-worms/2024-02-27/
LOCATION:Sciencenter\, 601 1st Street\, Ithaca\, NY\, 14850\, United States
ATTACH;FMTTYPE=image/jpeg:https://sciencenter.org/wp-content/uploads/Worms.jpg
END:VEVENT
BEGIN:VEVENT
DTSTART;TZID=America/New_York:20240225T140000
DTEND;TZID=America/New_York:20240225T150000
DTSTAMP:20260423T002758
CREATED:20240215T210915Z
LAST-MODIFIED:20240215T214647Z
UID:10001563-1708869600-1708873200@sciencenter.org
SUMMARY:Science Connections: Explore Bicycles!
DESCRIPTION:Bike Walk Tompkins works to build a future where every Ithaca and Tompkins County resident can safely bike\, walk\, and roll in our community. Stop by the featured ‘GEAR UP’ exhibition on Saturday\, February 25 at 2 pm to learn about hands-on bike safety and skills\, education events\, a community bike shop\, and bike/pedestrian advocacy efforts.
URL:https://sciencenter.org/event/science-connections-explore-bicycles/
LOCATION:Sciencenter\, 601 1st Street\, Ithaca\, NY\, 14850\, United States
ATTACH;FMTTYPE=image/png:https://sciencenter.org/wp-content/uploads/Bikewalk.png
END:VEVENT
BEGIN:VEVENT
DTSTART;TZID=America/New_York:20240224T140000
DTEND;TZID=America/New_York:20240224T150000
DTSTAMP:20260423T002758
CREATED:20240409T193931Z
LAST-MODIFIED:20240409T194108Z
UID:10001543-1708783200-1708786800@sciencenter.org
SUMMARY:Family Workshop: Take Apart
DESCRIPTION:Bring the whole family and use various tools to take apart and explore the inner workings of electronics!
URL:https://sciencenter.org/event/family-workshop-take-apart-2/2024-02-24/
LOCATION:Sciencenter\, 601 1st Street\, Ithaca\, NY\, 14850\, United States
ATTACH;FMTTYPE=image/jpeg:https://sciencenter.org/wp-content/uploads/Take-Apart_-1.jpg
END:VEVENT
BEGIN:VEVENT
DTSTART;TZID=America/New_York:20240224T140000
DTEND;TZID=America/New_York:20240224T150000
DTSTAMP:20260423T002758
CREATED:20231212T164242Z
LAST-MODIFIED:20240409T193608Z
UID:10001542-1708783200-1708786800@sciencenter.org
SUMMARY:Family Workshop: Take Apart
DESCRIPTION:Bring the whole family and use various tools to take apart and explore the inner workings of electronics!
URL:https://sciencenter.org/event/family-workshop-take-apart/2024-02-24/
LOCATION:Sciencenter\, 601 1st Street\, Ithaca\, NY\, 14850\, United States
ATTACH;FMTTYPE=image/jpeg:https://sciencenter.org/wp-content/uploads/Take-Apart_-1.jpg
END:VEVENT
BEGIN:VEVENT
DTSTART;TZID=America/New_York:20240223T103000
DTEND;TZID=America/New_York:20240223T110000
DTSTAMP:20260423T002758
CREATED:20231207T021659Z
LAST-MODIFIED:20231207T021659Z
UID:10001500-1708684200-1708686000@sciencenter.org
SUMMARY:Science Together: Kinetic Sand
DESCRIPTION:Explore the different properties of kinetic sand! \nScience Together activities are designed for ages 0-4.
URL:https://sciencenter.org/event/science-together-kinetic-sand/2024-02-23/
LOCATION:Sciencenter\, 601 1st Street\, Ithaca\, NY\, 14850\, United States
ATTACH;FMTTYPE=image/jpeg:https://sciencenter.org/wp-content/uploads/kinetic-sand.jpg
END:VEVENT
BEGIN:VEVENT
DTSTART;TZID=America/New_York:20240222T110000
DTEND;TZID=America/New_York:20240222T120000
DTSTAMP:20260423T002758
CREATED:20240125T181942Z
LAST-MODIFIED:20240213T160958Z
UID:10001547-1708599600-1708603200@sciencenter.org
SUMMARY:Playtime with Finger Lakes Toy Library
DESCRIPTION:Join the Sciencenter and the Finger Lakes Toy Library for a fun-filled playtime!
URL:https://sciencenter.org/event/playtime-finger-lakes-toy-library/
LOCATION:Sciencenter\, 601 1st Street\, Ithaca\, NY\, 14850\, United States
ATTACH;FMTTYPE=image/png:https://sciencenter.org/wp-content/uploads/Playtime-with-FLTL.png
END:VEVENT
BEGIN:VEVENT
DTSTART;TZID=America/New_York:20240222T103000
DTEND;TZID=America/New_York:20240222T110000
DTSTAMP:20260423T002758
CREATED:20231207T021659Z
LAST-MODIFIED:20231207T021659Z
UID:10001499-1708597800-1708599600@sciencenter.org
SUMMARY:Science Together: Kinetic Sand
DESCRIPTION:Explore the different properties of kinetic sand! \nScience Together activities are designed for ages 0-4.
URL:https://sciencenter.org/event/science-together-kinetic-sand/2024-02-22/
LOCATION:Sciencenter\, 601 1st Street\, Ithaca\, NY\, 14850\, United States
ATTACH;FMTTYPE=image/jpeg:https://sciencenter.org/wp-content/uploads/kinetic-sand.jpg
END:VEVENT
BEGIN:VEVENT
DTSTART;TZID=America/New_York:20240221T160000
DTEND;TZID=America/New_York:20240221T163000
DTSTAMP:20260423T002758
CREATED:20240213T161826Z
LAST-MODIFIED:20240213T161915Z
UID:10000580-1708531200-1708533000@sciencenter.org
SUMMARY:Animal Feeding
DESCRIPTION:Join an Animal Keeper to observe snakes\, lizards\, frogs\, and fish snacking on their preferred prey.
URL:https://sciencenter.org/event/animal-feeding-2-2/2024-02-21/
LOCATION:Sciencenter\, 601 1st Street\, Ithaca\, NY\, 14850\, United States
ATTACH;FMTTYPE=image/png:https://sciencenter.org/wp-content/uploads/Animal-Feeding.png
END:VEVENT
BEGIN:VEVENT
DTSTART;TZID=America/New_York:20240221T103000
DTEND;TZID=America/New_York:20240221T110000
DTSTAMP:20260423T002758
CREATED:20231207T021659Z
LAST-MODIFIED:20231207T021659Z
UID:10001498-1708511400-1708513200@sciencenter.org
SUMMARY:Science Together: Kinetic Sand
DESCRIPTION:Explore the different properties of kinetic sand! \nScience Together activities are designed for ages 0-4.
URL:https://sciencenter.org/event/science-together-kinetic-sand/2024-02-21/
LOCATION:Sciencenter\, 601 1st Street\, Ithaca\, NY\, 14850\, United States
ATTACH;FMTTYPE=image/jpeg:https://sciencenter.org/wp-content/uploads/kinetic-sand.jpg
END:VEVENT
BEGIN:VEVENT
DTSTART;TZID=America/New_York:20240220T103000
DTEND;TZID=America/New_York:20240220T110000
DTSTAMP:20260423T002758
CREATED:20231207T021659Z
LAST-MODIFIED:20231207T021659Z
UID:10001497-1708425000-1708426800@sciencenter.org
SUMMARY:Science Together: Kinetic Sand
DESCRIPTION:Explore the different properties of kinetic sand! \nScience Together activities are designed for ages 0-4.
URL:https://sciencenter.org/event/science-together-kinetic-sand/2024-02-20/
LOCATION:Sciencenter\, 601 1st Street\, Ithaca\, NY\, 14850\, United States
ATTACH;FMTTYPE=image/jpeg:https://sciencenter.org/wp-content/uploads/kinetic-sand.jpg
END:VEVENT
BEGIN:VEVENT
DTSTART;TZID=America/New_York:20240218T140000
DTEND;TZID=America/New_York:20240218T150000
DTSTAMP:20260423T002758
CREATED:20240125T162953Z
LAST-MODIFIED:20240209T215531Z
UID:10001545-1708264800-1708268400@sciencenter.org
SUMMARY:Science Connections: Celebrate Black History Month with the National Society of Black Engineers!
DESCRIPTION:Presented by the National Society of Black Engineers\, we invite all curious minds to join us in celebration of Black History Month! This special event promises an exciting blend of education\, inspiration\, and fun for participants of all ages through an interactive STEM workshop.
URL:https://sciencenter.org/event/science-connections-black-history-month/
LOCATION:Sciencenter\, 601 1st Street\, Ithaca\, NY\, 14850\, United States
ATTACH;FMTTYPE=image/png:https://sciencenter.org/wp-content/uploads/NSBE.png
END:VEVENT
BEGIN:VEVENT
DTSTART;TZID=America/New_York:20240217T140000
DTEND;TZID=America/New_York:20240217T150000
DTSTAMP:20260423T002758
CREATED:20240201T170953Z
LAST-MODIFIED:20240506T184034Z
UID:10001548-1708178400-1708182000@sciencenter.org
SUMMARY:Reptile Show
DESCRIPTION:Learn all about reptiles — and get up close and personal with some of Sciencenter’s scaly animal ambassadors!
URL:https://sciencenter.org/event/reptile-show-2/2024-02-17/
LOCATION:Sciencenter\, 601 1st Street\, Ithaca\, NY\, 14850\, United States
ATTACH;FMTTYPE=image/jpeg:https://sciencenter.org/wp-content/uploads/Beared-Dragan.jpg
END:VEVENT
BEGIN:VEVENT
DTSTART;TZID=America/New_York:20240216T103000
DTEND;TZID=America/New_York:20240216T110000
DTSTAMP:20260423T002758
CREATED:20230809T154032Z
LAST-MODIFIED:20231207T020811Z
UID:10001496-1708079400-1708081200@sciencenter.org
SUMMARY:Science Together: Magnet Fishing
DESCRIPTION:Sort and count the fish you catch! \nScience Together activities are designed for ages 0-4.
URL:https://sciencenter.org/event/science-together-magnet-fishing/2024-02-16/
LOCATION:Sciencenter\, 601 1st Street\, Ithaca\, NY\, 14850\, United States
ATTACH;FMTTYPE=image/jpeg:https://sciencenter.org/wp-content/uploads/Fishing.jpg
END:VEVENT
BEGIN:VEVENT
DTSTART;TZID=America/New_York:20240215T103000
DTEND;TZID=America/New_York:20240215T110000
DTSTAMP:20260423T002758
CREATED:20230809T154032Z
LAST-MODIFIED:20231207T020811Z
UID:10001495-1707993000-1707994800@sciencenter.org
SUMMARY:Science Together: Magnet Fishing
DESCRIPTION:Sort and count the fish you catch! \nScience Together activities are designed for ages 0-4.
URL:https://sciencenter.org/event/science-together-magnet-fishing/2024-02-15/
LOCATION:Sciencenter\, 601 1st Street\, Ithaca\, NY\, 14850\, United States
ATTACH;FMTTYPE=image/jpeg:https://sciencenter.org/wp-content/uploads/Fishing.jpg
END:VEVENT
BEGIN:VEVENT
DTSTART;TZID=America/New_York:20240214T160000
DTEND;TZID=America/New_York:20240214T163000
DTSTAMP:20260423T002758
CREATED:20240213T161826Z
LAST-MODIFIED:20240213T161915Z
UID:10000579-1707926400-1707928200@sciencenter.org
SUMMARY:Animal Feeding
DESCRIPTION:Join an Animal Keeper to observe snakes\, lizards\, frogs\, and fish snacking on their preferred prey.
URL:https://sciencenter.org/event/animal-feeding-2-2/2024-02-14/
LOCATION:Sciencenter\, 601 1st Street\, Ithaca\, NY\, 14850\, United States
ATTACH;FMTTYPE=image/png:https://sciencenter.org/wp-content/uploads/Animal-Feeding.png
END:VEVENT
BEGIN:VEVENT
DTSTART;TZID=America/New_York:20240214T103000
DTEND;TZID=America/New_York:20240214T110000
DTSTAMP:20260423T002758
CREATED:20230809T154032Z
LAST-MODIFIED:20231207T020811Z
UID:10001494-1707906600-1707908400@sciencenter.org
SUMMARY:Science Together: Magnet Fishing
DESCRIPTION:Sort and count the fish you catch! \nScience Together activities are designed for ages 0-4.
URL:https://sciencenter.org/event/science-together-magnet-fishing/2024-02-14/
LOCATION:Sciencenter\, 601 1st Street\, Ithaca\, NY\, 14850\, United States
ATTACH;FMTTYPE=image/jpeg:https://sciencenter.org/wp-content/uploads/Fishing.jpg
END:VEVENT
BEGIN:VEVENT
DTSTART;TZID=America/New_York:20240213T103000
DTEND;TZID=America/New_York:20240213T110000
DTSTAMP:20260423T002758
CREATED:20230809T154032Z
LAST-MODIFIED:20231207T020811Z
UID:10001493-1707820200-1707822000@sciencenter.org
SUMMARY:Science Together: Magnet Fishing
DESCRIPTION:Sort and count the fish you catch! \nScience Together activities are designed for ages 0-4.
URL:https://sciencenter.org/event/science-together-magnet-fishing/2024-02-13/
LOCATION:Sciencenter\, 601 1st Street\, Ithaca\, NY\, 14850\, United States
ATTACH;FMTTYPE=image/jpeg:https://sciencenter.org/wp-content/uploads/Fishing.jpg
END:VEVENT
BEGIN:VEVENT
DTSTART;TZID=America/New_York:20240211T140000
DTEND;TZID=America/New_York:20240211T150000
DTSTAMP:20260423T002758
CREATED:20230809T152329Z
LAST-MODIFIED:20240202T133927Z
UID:10000264-1707660000-1707663600@sciencenter.org
SUMMARY:Science Connections: All About Dogs with the Jr Tailwaggers
DESCRIPTION:Sit\, down\, stay… Join the 4-H Jr. Tailwaggers to learn all about training dogs! They’ll share their expertise around communicating with canines. Learn about dog body language and how to safely greet a friendly dog\, and watch obedience and agility demonstrations!
URL:https://sciencenter.org/event/science-connections-all-about-dogs/
LOCATION:Sciencenter\, 601 1st Street\, Ithaca\, NY\, 14850\, United States
ATTACH;FMTTYPE=image/png:https://sciencenter.org/wp-content/uploads/Dogs-1200-x-675.png
END:VEVENT
END:VCALENDAR