BEGIN:VCALENDAR
VERSION:2.0
PRODID:-//Sciencenter - ECPv6.15.20//NONSGML v1.0//EN
CALSCALE:GREGORIAN
METHOD:PUBLISH
X-WR-CALNAME:Sciencenter
X-ORIGINAL-URL:https://sciencenter.org
X-WR-CALDESC:Events for Sciencenter
REFRESH-INTERVAL;VALUE=DURATION:PT1H
X-Robots-Tag:noindex
X-PUBLISHED-TTL:PT1H
BEGIN:VTIMEZONE
TZID:America/New_York
BEGIN:DAYLIGHT
TZOFFSETFROM:-0500
TZOFFSETTO:-0400
TZNAME:EDT
DTSTART:20230312T070000
END:DAYLIGHT
BEGIN:STANDARD
TZOFFSETFROM:-0400
TZOFFSETTO:-0500
TZNAME:EST
DTSTART:20231105T060000
END:STANDARD
BEGIN:DAYLIGHT
TZOFFSETFROM:-0500
TZOFFSETTO:-0400
TZNAME:EDT
DTSTART:20240310T070000
END:DAYLIGHT
BEGIN:STANDARD
TZOFFSETFROM:-0400
TZOFFSETTO:-0500
TZNAME:EST
DTSTART:20241103T060000
END:STANDARD
BEGIN:DAYLIGHT
TZOFFSETFROM:-0500
TZOFFSETTO:-0400
TZNAME:EDT
DTSTART:20250309T070000
END:DAYLIGHT
BEGIN:STANDARD
TZOFFSETFROM:-0400
TZOFFSETTO:-0500
TZNAME:EST
DTSTART:20251102T060000
END:STANDARD
END:VTIMEZONE
BEGIN:VEVENT
DTSTART;TZID=America/New_York:20240418T103000
DTEND;TZID=America/New_York:20240418T110000
DTSTAMP:20260422T190008
CREATED:20240409T201238Z
LAST-MODIFIED:20240409T201238Z
UID:10001692-1713436200-1713438000@sciencenter.org
SUMMARY:Science Together: Baking Soda and Vinegar
DESCRIPTION:Explore the process of experimentation as you create chemical reactions with baking soda and vinegar! \nScience Together activities are designed for ages 0-4.
URL:https://sciencenter.org/event/science-together-baking-soda-and-vinegar-2/2024-04-18/
LOCATION:Sciencenter\, 601 1st Street\, Ithaca\, NY\, 14850\, United States
ATTACH;FMTTYPE=image/jpeg:https://sciencenter.org/wp-content/uploads/Baking-Soda-and-Vinegar.jpg
END:VEVENT
BEGIN:VEVENT
DTSTART;TZID=America/New_York:20240417T160000
DTEND;TZID=America/New_York:20240417T163000
DTSTAMP:20260422T190008
CREATED:20240213T161826Z
LAST-MODIFIED:20240213T161915Z
UID:10000588-1713369600-1713371400@sciencenter.org
SUMMARY:Animal Feeding
DESCRIPTION:Join an Animal Keeper to observe snakes\, lizards\, frogs\, and fish snacking on their preferred prey.
URL:https://sciencenter.org/event/animal-feeding-2-2/2024-04-17/
LOCATION:Sciencenter\, 601 1st Street\, Ithaca\, NY\, 14850\, United States
ATTACH;FMTTYPE=image/png:https://sciencenter.org/wp-content/uploads/Animal-Feeding.png
END:VEVENT
BEGIN:VEVENT
DTSTART;TZID=America/New_York:20240417T103000
DTEND;TZID=America/New_York:20240417T110000
DTSTAMP:20260422T190008
CREATED:20240409T201238Z
LAST-MODIFIED:20240409T201238Z
UID:10001691-1713349800-1713351600@sciencenter.org
SUMMARY:Science Together: Baking Soda and Vinegar
DESCRIPTION:Explore the process of experimentation as you create chemical reactions with baking soda and vinegar! \nScience Together activities are designed for ages 0-4.
URL:https://sciencenter.org/event/science-together-baking-soda-and-vinegar-2/2024-04-17/
LOCATION:Sciencenter\, 601 1st Street\, Ithaca\, NY\, 14850\, United States
ATTACH;FMTTYPE=image/jpeg:https://sciencenter.org/wp-content/uploads/Baking-Soda-and-Vinegar.jpg
END:VEVENT
BEGIN:VEVENT
DTSTART;TZID=America/New_York:20240416T103000
DTEND;TZID=America/New_York:20240416T110000
DTSTAMP:20260422T190008
CREATED:20240409T201238Z
LAST-MODIFIED:20240409T201238Z
UID:10001690-1713263400-1713265200@sciencenter.org
SUMMARY:Science Together: Baking Soda and Vinegar
DESCRIPTION:Explore the process of experimentation as you create chemical reactions with baking soda and vinegar! \nScience Together activities are designed for ages 0-4.
URL:https://sciencenter.org/event/science-together-baking-soda-and-vinegar-2/2024-04-16/
LOCATION:Sciencenter\, 601 1st Street\, Ithaca\, NY\, 14850\, United States
ATTACH;FMTTYPE=image/jpeg:https://sciencenter.org/wp-content/uploads/Baking-Soda-and-Vinegar.jpg
END:VEVENT
BEGIN:VEVENT
DTSTART;TZID=America/New_York:20240414T140000
DTEND;TZID=America/New_York:20240414T150000
DTSTAMP:20260422T190008
CREATED:20240409T200859Z
LAST-MODIFIED:20240410T204958Z
UID:10001685-1713103200-1713106800@sciencenter.org
SUMMARY:Science Connections: Graduate Society of Women Engineers
DESCRIPTION:Learn how to extract DNA from fruit\, test your engineering skills by building and assessing paper bridges\, and explore diffusion with Cornell’s Graduate Society of Women Engineers!
URL:https://sciencenter.org/event/science-connections-graduate-society-of-women-engineers/
LOCATION:Sciencenter\, 601 1st Street\, Ithaca\, NY\, 14850\, United States
ATTACH;FMTTYPE=image/png:https://sciencenter.org/wp-content/uploads/Science-Connections-SWE-website.png
END:VEVENT
BEGIN:VEVENT
DTSTART;TZID=America/New_York:20240412T103000
DTEND;TZID=America/New_York:20240412T110000
DTSTAMP:20260422T190008
CREATED:20240308T191611Z
LAST-MODIFIED:20240308T191611Z
UID:10001609-1712917800-1712919600@sciencenter.org
SUMMARY:Science Together: Magnet Fishing
DESCRIPTION:Sort and count the fish you catch! \nScience Together activities are designed for ages 0-4.
URL:https://sciencenter.org/event/science-together-magnet-fishing-2/2024-04-12/
LOCATION:Sciencenter\, 601 1st Street\, Ithaca\, NY\, 14850\, United States
ATTACH;FMTTYPE=image/jpeg:https://sciencenter.org/wp-content/uploads/Fishing.jpg
END:VEVENT
BEGIN:VEVENT
DTSTART;TZID=America/New_York:20240411T100000
DTEND;TZID=America/New_York:20240411T120000
DTSTAMP:20260422T190008
CREATED:20240327T204808Z
LAST-MODIFIED:20240327T204829Z
UID:10001621-1712829600-1712836800@sciencenter.org
SUMMARY:Week of the Young Child Event
DESCRIPTION:Join the Sciencenter in celebrating Week of the Young Child! We will have hands-on activities geared towards early learners that support the development and practice of science process skills. Be sure to stop by the Connection Zone\, where you can pet baby goats! \nSponsored by CFCU Community Credit Union & Wegmans
URL:https://sciencenter.org/event/week-of-the-young-child-event/
LOCATION:Sciencenter\, 601 1st Street\, Ithaca\, NY\, 14850\, United States
ATTACH;FMTTYPE=image/png:https://sciencenter.org/wp-content/uploads/WOTYC.png
END:VEVENT
BEGIN:VEVENT
DTSTART;TZID=America/New_York:20240410T160000
DTEND;TZID=America/New_York:20240410T163000
DTSTAMP:20260422T190008
CREATED:20240213T161826Z
LAST-MODIFIED:20240213T161915Z
UID:10000587-1712764800-1712766600@sciencenter.org
SUMMARY:Animal Feeding
DESCRIPTION:Join an Animal Keeper to observe snakes\, lizards\, frogs\, and fish snacking on their preferred prey.
URL:https://sciencenter.org/event/animal-feeding-2-2/2024-04-10/
LOCATION:Sciencenter\, 601 1st Street\, Ithaca\, NY\, 14850\, United States
ATTACH;FMTTYPE=image/png:https://sciencenter.org/wp-content/uploads/Animal-Feeding.png
END:VEVENT
BEGIN:VEVENT
DTSTART;TZID=America/New_York:20240410T103000
DTEND;TZID=America/New_York:20240410T110000
DTSTAMP:20260422T190008
CREATED:20240308T191611Z
LAST-MODIFIED:20240308T191611Z
UID:10001608-1712745000-1712746800@sciencenter.org
SUMMARY:Science Together: Magnet Fishing
DESCRIPTION:Sort and count the fish you catch! \nScience Together activities are designed for ages 0-4.
URL:https://sciencenter.org/event/science-together-magnet-fishing-2/2024-04-10/
LOCATION:Sciencenter\, 601 1st Street\, Ithaca\, NY\, 14850\, United States
ATTACH;FMTTYPE=image/jpeg:https://sciencenter.org/wp-content/uploads/Fishing.jpg
END:VEVENT
BEGIN:VEVENT
DTSTART;TZID=America/New_York:20240409T103000
DTEND;TZID=America/New_York:20240409T110000
DTSTAMP:20260422T190008
CREATED:20240308T191611Z
LAST-MODIFIED:20240308T191611Z
UID:10001607-1712658600-1712660400@sciencenter.org
SUMMARY:Science Together: Magnet Fishing
DESCRIPTION:Sort and count the fish you catch! \nScience Together activities are designed for ages 0-4.
URL:https://sciencenter.org/event/science-together-magnet-fishing-2/2024-04-09/
LOCATION:Sciencenter\, 601 1st Street\, Ithaca\, NY\, 14850\, United States
ATTACH;FMTTYPE=image/jpeg:https://sciencenter.org/wp-content/uploads/Fishing.jpg
END:VEVENT
BEGIN:VEVENT
DTSTART;TZID=America/New_York:20240408T120000
DTEND;TZID=America/New_York:20240408T163000
DTSTAMP:20260422T190008
CREATED:20240223T033532Z
LAST-MODIFIED:20240327T203340Z
UID:10001574-1712577600-1712593800@sciencenter.org
SUMMARY:Total Solar Eclipse Viewing Event at Fair Haven Beach State Park
DESCRIPTION:The New York State Office of Parks is hosting a day-long viewing event at Fair Haven Beach State Park\, which is within the path of totality. The Sciencenter will be on site to celebrate the eclipse with hands-on space activities and provide Sciencenter eclipse glasses for safe viewing. \n\n12-2 Sabin Hall Talks: Dr. Nordgren will present\, See the Sun and Moon Align with You: See the spectacle that has terrified and inspired humans for millennia and is just as awe-inspiring today. Josh Teeter will share why State Parks is celebrating\, an overview of the last 100 years and how you can join the celebration! \n12-2 Bay Shelter Activities: Join Sciencenter staff to explore why eclipses happen\, investigate the future of lunar exploration\, create a pocket-sized solar system\, and more with hands-on space activities! \n2:00 (first contact) through totality will be hosted by Dr. Tyler Nordgren. \n2:30-Totality Roving Activities: Make your own pinhole eclipse viewer\, catalog the changing shadows\, and more with roving activities with the Sciencenter. \nEnd Totality – 4:30 Bay Shelter Activities resume and Facilitated Discussion: The Sciencenter team will offer a combination of written reflection prompts to create a community art observation/reflection project as well as a conversation with Dr. Nordgren and Sciencenter about the eclipse experience. \nFor more information\, please visit the New York State Office of Parks official event page here. Read more about Sciencenter’s eclipse programming here. \n\nBe advised that travel may be challenging. Visit iloveny.com for eclipse viewing locations and preparation.\nPlease note that the Sciencenter will be closed on Monday\, April 8th\, 2024.
URL:https://sciencenter.org/event/total-solar-eclipse/
LOCATION:Fair Haven Beach State Park\, 14985 State Park Road\, Fair Haven\, NY\, 13064
ATTACH;FMTTYPE=image/png:https://sciencenter.org/wp-content/uploads/Solar-Eclipse-Sciencenter-1.png
END:VEVENT
BEGIN:VEVENT
DTSTART;TZID=America/New_York:20240407T100000
DTEND;TZID=America/New_York:20240407T170000
DTSTAMP:20260422T190008
CREATED:20240223T035228Z
LAST-MODIFIED:20240327T202908Z
UID:10001578-1712484000-1712509200@sciencenter.org
SUMMARY:Total Solar Eclipse Activities
DESCRIPTION:Visitors of all ages are invited to participate in hands-on activities related to the solar eclipse and sun science. Our partner\, NISE Network\, has developed two of the activities\, namely “Bear’s Shadow” and “Big Sun\, Small Moon.” Other activities include modeling an eclipse\, looking at our magnetic Earth and Sun\, and tracing shadows\, weather permitting. \n\nRead more about Sciencenter’s eclipse programming here. \nPlease note that the Sciencenter will be closed on Monday\, April 8th\, 2024.
URL:https://sciencenter.org/event/total-solar-eclipse-activities/2024-04-07/
LOCATION:Sciencenter\, 601 1st Street\, Ithaca\, NY\, 14850\, United States
ATTACH;FMTTYPE=image/png:https://sciencenter.org/wp-content/uploads/1-1.png
END:VEVENT
BEGIN:VEVENT
DTSTART;TZID=America/New_York:20240406T140000
DTEND;TZID=America/New_York:20240406T150000
DTSTAMP:20260422T190008
CREATED:20231212T162226Z
LAST-MODIFIED:20240521T154935Z
UID:10001510-1712412000-1712415600@sciencenter.org
SUMMARY:Cold Show
DESCRIPTION:Get ready for some freezing fun! We’ll explore states of matter and how temperature affects materials as we explore dry ice.
URL:https://sciencenter.org/event/cold-show/2024-04-06/
LOCATION:Sciencenter\, 601 1st Street\, Ithaca\, NY\, 14850\, United States
ATTACH;FMTTYPE=image/jpeg:https://sciencenter.org/wp-content/uploads/Cold-Show-1.jpg
END:VEVENT
BEGIN:VEVENT
DTSTART;TZID=America/New_York:20240406T100000
DTEND;TZID=America/New_York:20240406T170000
DTSTAMP:20260422T190008
CREATED:20240223T035228Z
LAST-MODIFIED:20240327T202908Z
UID:10001575-1712397600-1712422800@sciencenter.org
SUMMARY:Total Solar Eclipse Activities
DESCRIPTION:Visitors of all ages are invited to participate in hands-on activities related to the solar eclipse and sun science. Our partner\, NISE Network\, has developed two of the activities\, namely “Bear’s Shadow” and “Big Sun\, Small Moon.” Other activities include modeling an eclipse\, looking at our magnetic Earth and Sun\, and tracing shadows\, weather permitting. \n\nRead more about Sciencenter’s eclipse programming here. \nPlease note that the Sciencenter will be closed on Monday\, April 8th\, 2024.
URL:https://sciencenter.org/event/total-solar-eclipse-activities/2024-04-06/
LOCATION:Sciencenter\, 601 1st Street\, Ithaca\, NY\, 14850\, United States
ATTACH;FMTTYPE=image/png:https://sciencenter.org/wp-content/uploads/1-1.png
END:VEVENT
BEGIN:VEVENT
DTSTART;TZID=America/New_York:20240405T103000
DTEND;TZID=America/New_York:20240405T110000
DTSTAMP:20260422T190008
CREATED:20240308T191145Z
LAST-MODIFIED:20240308T191145Z
UID:10001602-1712313000-1712314800@sciencenter.org
SUMMARY:Science Together: Flubber
DESCRIPTION:Use a variety of tools to explore and make observations about the fun properties of Flubber! \nScience Together activities are designed for ages 0-4.
URL:https://sciencenter.org/event/science-together-flubber-2/2024-04-05/
LOCATION:Sciencenter\, 601 1st Street\, Ithaca\, NY\, 14850\, United States
ATTACH;FMTTYPE=image/jpeg:https://sciencenter.org/wp-content/uploads/flubber.jpg
END:VEVENT
BEGIN:VEVENT
DTSTART;TZID=America/New_York:20240404T103000
DTEND;TZID=America/New_York:20240404T110000
DTSTAMP:20260422T190008
CREATED:20240308T191145Z
LAST-MODIFIED:20240308T191145Z
UID:10001601-1712226600-1712228400@sciencenter.org
SUMMARY:Science Together: Flubber
DESCRIPTION:Use a variety of tools to explore and make observations about the fun properties of Flubber! \nScience Together activities are designed for ages 0-4.
URL:https://sciencenter.org/event/science-together-flubber-2/2024-04-04/
LOCATION:Sciencenter\, 601 1st Street\, Ithaca\, NY\, 14850\, United States
ATTACH;FMTTYPE=image/jpeg:https://sciencenter.org/wp-content/uploads/flubber.jpg
END:VEVENT
BEGIN:VEVENT
DTSTART;TZID=America/New_York:20240403T160000
DTEND;TZID=America/New_York:20240403T163000
DTSTAMP:20260422T190008
CREATED:20240213T161826Z
LAST-MODIFIED:20240213T161915Z
UID:10000586-1712160000-1712161800@sciencenter.org
SUMMARY:Animal Feeding
DESCRIPTION:Join an Animal Keeper to observe snakes\, lizards\, frogs\, and fish snacking on their preferred prey.
URL:https://sciencenter.org/event/animal-feeding-2-2/2024-04-03/
LOCATION:Sciencenter\, 601 1st Street\, Ithaca\, NY\, 14850\, United States
ATTACH;FMTTYPE=image/png:https://sciencenter.org/wp-content/uploads/Animal-Feeding.png
END:VEVENT
BEGIN:VEVENT
DTSTART;TZID=America/New_York:20240402T103000
DTEND;TZID=America/New_York:20240402T110000
DTSTAMP:20260422T190008
CREATED:20240308T191145Z
LAST-MODIFIED:20240308T191145Z
UID:10001600-1712053800-1712055600@sciencenter.org
SUMMARY:Science Together: Flubber
DESCRIPTION:Use a variety of tools to explore and make observations about the fun properties of Flubber! \nScience Together activities are designed for ages 0-4.
URL:https://sciencenter.org/event/science-together-flubber-2/2024-04-02/
LOCATION:Sciencenter\, 601 1st Street\, Ithaca\, NY\, 14850\, United States
ATTACH;FMTTYPE=image/jpeg:https://sciencenter.org/wp-content/uploads/flubber.jpg
END:VEVENT
BEGIN:VEVENT
DTSTART;TZID=America/New_York:20240329T103000
DTEND;TZID=America/New_York:20240329T110000
DTSTAMP:20260422T190008
CREATED:20240308T190927Z
LAST-MODIFIED:20240308T190927Z
UID:10001596-1711708200-1711710000@sciencenter.org
SUMMARY:Science Together: Roller Coasters
DESCRIPTION:Explore ups and downs as you make and test a roller coaster! \nScience Together activities are designed for ages 0-4.
URL:https://sciencenter.org/event/science-together-roller-coasters-2/2024-03-29/
LOCATION:Sciencenter\, 601 1st Street\, Ithaca\, NY\, 14850\, United States
ATTACH;FMTTYPE=image/jpeg:https://sciencenter.org/wp-content/uploads/roller-coaster1-crop.jpg
END:VEVENT
BEGIN:VEVENT
DTSTART;TZID=America/New_York:20240328T103000
DTEND;TZID=America/New_York:20240328T110000
DTSTAMP:20260422T190008
CREATED:20240308T190927Z
LAST-MODIFIED:20240308T190927Z
UID:10001595-1711621800-1711623600@sciencenter.org
SUMMARY:Science Together: Roller Coasters
DESCRIPTION:Explore ups and downs as you make and test a roller coaster! \nScience Together activities are designed for ages 0-4.
URL:https://sciencenter.org/event/science-together-roller-coasters-2/2024-03-28/
LOCATION:Sciencenter\, 601 1st Street\, Ithaca\, NY\, 14850\, United States
ATTACH;FMTTYPE=image/jpeg:https://sciencenter.org/wp-content/uploads/roller-coaster1-crop.jpg
END:VEVENT
BEGIN:VEVENT
DTSTART;TZID=America/New_York:20240327T160000
DTEND;TZID=America/New_York:20240327T163000
DTSTAMP:20260422T190008
CREATED:20240213T161826Z
LAST-MODIFIED:20240213T161915Z
UID:10000585-1711555200-1711557000@sciencenter.org
SUMMARY:Animal Feeding
DESCRIPTION:Join an Animal Keeper to observe snakes\, lizards\, frogs\, and fish snacking on their preferred prey.
URL:https://sciencenter.org/event/animal-feeding-2-2/2024-03-27/
LOCATION:Sciencenter\, 601 1st Street\, Ithaca\, NY\, 14850\, United States
ATTACH;FMTTYPE=image/png:https://sciencenter.org/wp-content/uploads/Animal-Feeding.png
END:VEVENT
BEGIN:VEVENT
DTSTART;TZID=America/New_York:20240326T103000
DTEND;TZID=America/New_York:20240326T110000
DTSTAMP:20260422T190008
CREATED:20240308T190927Z
LAST-MODIFIED:20240308T190927Z
UID:10001594-1711449000-1711450800@sciencenter.org
SUMMARY:Science Together: Roller Coasters
DESCRIPTION:Explore ups and downs as you make and test a roller coaster! \nScience Together activities are designed for ages 0-4.
URL:https://sciencenter.org/event/science-together-roller-coasters-2/2024-03-26/
LOCATION:Sciencenter\, 601 1st Street\, Ithaca\, NY\, 14850\, United States
ATTACH;FMTTYPE=image/jpeg:https://sciencenter.org/wp-content/uploads/roller-coaster1-crop.jpg
END:VEVENT
BEGIN:VEVENT
DTSTART;TZID=America/New_York:20240324T140000
DTEND;TZID=America/New_York:20240324T150000
DTSTAMP:20260422T190008
CREATED:20240228T182533Z
LAST-MODIFIED:20240228T182533Z
UID:10001581-1711288800-1711292400@sciencenter.org
SUMMARY:Science Connections: Exploring Radio Technologies
DESCRIPTION:Join Tompkins County Public Library and Sciencenter to explore the world of radio technologies. Discover how the library uses radio technology to make book checkout faster and easier. Speak with librarians to learn about the new RFID project transforming the library experience. Engage in hands-on activities to learn about the impact of radio technologies on our world.
URL:https://sciencenter.org/event/science-connections-exploring-radio-technologies/
LOCATION:Tompkins County Public Library\, 101 E Green St\, Ithaca\, NY\, 14850\, United States
ATTACH;FMTTYPE=image/png:https://sciencenter.org/wp-content/uploads/Radio-Technologies.png
END:VEVENT
BEGIN:VEVENT
DTSTART;TZID=America/New_York:20240323T140000
DTEND;TZID=America/New_York:20240323T150000
DTSTAMP:20260422T190008
CREATED:20240409T193931Z
LAST-MODIFIED:20240409T194108Z
UID:10001625-1711202400-1711206000@sciencenter.org
SUMMARY:Family Workshop: Take Apart
DESCRIPTION:Bring the whole family and use various tools to take apart and explore the inner workings of electronics!
URL:https://sciencenter.org/event/family-workshop-take-apart-2/2024-03-23/
LOCATION:Sciencenter\, 601 1st Street\, Ithaca\, NY\, 14850\, United States
ATTACH;FMTTYPE=image/jpeg:https://sciencenter.org/wp-content/uploads/Take-Apart_-1.jpg
END:VEVENT
BEGIN:VEVENT
DTSTART;TZID=America/New_York:20240322T103000
DTEND;TZID=America/New_York:20240322T110000
DTSTAMP:20260422T190008
CREATED:20240312T195011Z
LAST-MODIFIED:20240314T134452Z
UID:10001617-1711103400-1711105200@sciencenter.org
SUMMARY:Science Together: Kinetic Sand
DESCRIPTION:Explore the different properties of kinetic sand! \nScience Together activities are designed for ages 0-4.
URL:https://sciencenter.org/event/science-together-kinetic-sand-2/2024-03-22/
LOCATION:Sciencenter\, 601 1st Street\, Ithaca\, NY\, 14850\, United States
ATTACH;FMTTYPE=image/jpeg:https://sciencenter.org/wp-content/uploads/kinetic-sand.jpg
END:VEVENT
BEGIN:VEVENT
DTSTART;TZID=America/New_York:20240321T103000
DTEND;TZID=America/New_York:20240321T110000
DTSTAMP:20260422T190008
CREATED:20240312T195011Z
LAST-MODIFIED:20240314T134452Z
UID:10001616-1711017000-1711018800@sciencenter.org
SUMMARY:Science Together: Kinetic Sand
DESCRIPTION:Explore the different properties of kinetic sand! \nScience Together activities are designed for ages 0-4.
URL:https://sciencenter.org/event/science-together-kinetic-sand-2/2024-03-21/
LOCATION:Sciencenter\, 601 1st Street\, Ithaca\, NY\, 14850\, United States
ATTACH;FMTTYPE=image/jpeg:https://sciencenter.org/wp-content/uploads/kinetic-sand.jpg
END:VEVENT
BEGIN:VEVENT
DTSTART;TZID=America/New_York:20240320T160000
DTEND;TZID=America/New_York:20240320T163000
DTSTAMP:20260422T190008
CREATED:20240213T161826Z
LAST-MODIFIED:20240213T161915Z
UID:10000584-1710950400-1710952200@sciencenter.org
SUMMARY:Animal Feeding
DESCRIPTION:Join an Animal Keeper to observe snakes\, lizards\, frogs\, and fish snacking on their preferred prey.
URL:https://sciencenter.org/event/animal-feeding-2-2/2024-03-20/
LOCATION:Sciencenter\, 601 1st Street\, Ithaca\, NY\, 14850\, United States
ATTACH;FMTTYPE=image/png:https://sciencenter.org/wp-content/uploads/Animal-Feeding.png
END:VEVENT
BEGIN:VEVENT
DTSTART;TZID=America/New_York:20240320T103000
DTEND;TZID=America/New_York:20240320T110000
DTSTAMP:20260422T190008
CREATED:20240312T195011Z
LAST-MODIFIED:20240314T134452Z
UID:10001619-1710930600-1710932400@sciencenter.org
SUMMARY:Science Together: Kinetic Sand
DESCRIPTION:Explore the different properties of kinetic sand! \nScience Together activities are designed for ages 0-4.
URL:https://sciencenter.org/event/science-together-kinetic-sand-2/2024-03-20/
LOCATION:Sciencenter\, 601 1st Street\, Ithaca\, NY\, 14850\, United States
ATTACH;FMTTYPE=image/jpeg:https://sciencenter.org/wp-content/uploads/kinetic-sand.jpg
END:VEVENT
BEGIN:VEVENT
DTSTART;TZID=America/New_York:20240319T103000
DTEND;TZID=America/New_York:20240319T110000
DTSTAMP:20260422T190008
CREATED:20240312T195011Z
LAST-MODIFIED:20240314T134452Z
UID:10001615-1710844200-1710846000@sciencenter.org
SUMMARY:Science Together: Kinetic Sand
DESCRIPTION:Explore the different properties of kinetic sand! \nScience Together activities are designed for ages 0-4.
URL:https://sciencenter.org/event/science-together-kinetic-sand-2/2024-03-19/
LOCATION:Sciencenter\, 601 1st Street\, Ithaca\, NY\, 14850\, United States
ATTACH;FMTTYPE=image/jpeg:https://sciencenter.org/wp-content/uploads/kinetic-sand.jpg
END:VEVENT
BEGIN:VEVENT
DTSTART;TZID=America/New_York:20240317T140000
DTEND;TZID=America/New_York:20240317T150000
DTSTAMP:20260422T190008
CREATED:20240308T192050Z
LAST-MODIFIED:20240313T164327Z
UID:10001610-1710684000-1710687600@sciencenter.org
SUMMARY:Science Connections: Instrument Petting Zoo
DESCRIPTION:See\, listen\, touch\, and learn about different instruments with Cornell’s Big Red Marching Band! \n  \n  \n 
URL:https://sciencenter.org/event/instrument-petting-zoo/
LOCATION:Sciencenter\, 601 1st Street\, Ithaca\, NY\, 14850\, United States
ATTACH;FMTTYPE=image/png:https://sciencenter.org/wp-content/uploads/BRMB.png
END:VEVENT
END:VCALENDAR