BEGIN:VCALENDAR
VERSION:2.0
PRODID:-//Sciencenter - ECPv6.15.20//NONSGML v1.0//EN
CALSCALE:GREGORIAN
METHOD:PUBLISH
X-WR-CALNAME:Sciencenter
X-ORIGINAL-URL:https://sciencenter.org
X-WR-CALDESC:Events for Sciencenter
REFRESH-INTERVAL;VALUE=DURATION:PT1H
X-Robots-Tag:noindex
X-PUBLISHED-TTL:PT1H
BEGIN:VTIMEZONE
TZID:America/New_York
BEGIN:DAYLIGHT
TZOFFSETFROM:-0500
TZOFFSETTO:-0400
TZNAME:EDT
DTSTART:20230312T070000
END:DAYLIGHT
BEGIN:STANDARD
TZOFFSETFROM:-0400
TZOFFSETTO:-0500
TZNAME:EST
DTSTART:20231105T060000
END:STANDARD
BEGIN:DAYLIGHT
TZOFFSETFROM:-0500
TZOFFSETTO:-0400
TZNAME:EDT
DTSTART:20240310T070000
END:DAYLIGHT
BEGIN:STANDARD
TZOFFSETFROM:-0400
TZOFFSETTO:-0500
TZNAME:EST
DTSTART:20241103T060000
END:STANDARD
BEGIN:DAYLIGHT
TZOFFSETFROM:-0500
TZOFFSETTO:-0400
TZNAME:EDT
DTSTART:20250309T070000
END:DAYLIGHT
BEGIN:STANDARD
TZOFFSETFROM:-0400
TZOFFSETTO:-0500
TZNAME:EST
DTSTART:20251102T060000
END:STANDARD
END:VTIMEZONE
BEGIN:VEVENT
DTSTART;TZID=America/New_York:20240606T103000
DTEND;TZID=America/New_York:20240606T110000
DTSTAMP:20260422T185356
CREATED:20240506T192844Z
LAST-MODIFIED:20240506T192844Z
UID:10001770-1717669800-1717671600@sciencenter.org
SUMMARY:Science Together: Baking Soda and Vinegar
DESCRIPTION:Explore the process of experimentation as you create chemical reactions with baking soda and vinegar! \nScience Together activities are designed for ages 0-4.
URL:https://sciencenter.org/event/science-together-baking-soda-and-vinegar-3/2024-06-06/
LOCATION:Sciencenter\, 601 1st Street\, Ithaca\, NY\, 14850\, United States
ATTACH;FMTTYPE=image/jpeg:https://sciencenter.org/wp-content/uploads/Baking-Soda-and-Vinegar.jpg
END:VEVENT
BEGIN:VEVENT
DTSTART;TZID=America/New_York:20240605T160000
DTEND;TZID=America/New_York:20240605T163000
DTSTAMP:20260422T185356
CREATED:20240213T161826Z
LAST-MODIFIED:20240213T161915Z
UID:10000595-1717603200-1717605000@sciencenter.org
SUMMARY:Animal Feeding
DESCRIPTION:Join an Animal Keeper to observe snakes\, lizards\, frogs\, and fish snacking on their preferred prey.
URL:https://sciencenter.org/event/animal-feeding-2-2/2024-06-05/
LOCATION:Sciencenter\, 601 1st Street\, Ithaca\, NY\, 14850\, United States
ATTACH;FMTTYPE=image/png:https://sciencenter.org/wp-content/uploads/Animal-Feeding.png
END:VEVENT
BEGIN:VEVENT
DTSTART;TZID=America/New_York:20240605T103000
DTEND;TZID=America/New_York:20240605T110000
DTSTAMP:20260422T185356
CREATED:20240506T192844Z
LAST-MODIFIED:20240506T192844Z
UID:10001769-1717583400-1717585200@sciencenter.org
SUMMARY:Science Together: Baking Soda and Vinegar
DESCRIPTION:Explore the process of experimentation as you create chemical reactions with baking soda and vinegar! \nScience Together activities are designed for ages 0-4.
URL:https://sciencenter.org/event/science-together-baking-soda-and-vinegar-3/2024-06-05/
LOCATION:Sciencenter\, 601 1st Street\, Ithaca\, NY\, 14850\, United States
ATTACH;FMTTYPE=image/jpeg:https://sciencenter.org/wp-content/uploads/Baking-Soda-and-Vinegar.jpg
END:VEVENT
BEGIN:VEVENT
DTSTART;TZID=America/New_York:20240604T103000
DTEND;TZID=America/New_York:20240604T110000
DTSTAMP:20260422T185356
CREATED:20240506T192844Z
LAST-MODIFIED:20240506T192844Z
UID:10001768-1717497000-1717498800@sciencenter.org
SUMMARY:Science Together: Baking Soda and Vinegar
DESCRIPTION:Explore the process of experimentation as you create chemical reactions with baking soda and vinegar! \nScience Together activities are designed for ages 0-4.
URL:https://sciencenter.org/event/science-together-baking-soda-and-vinegar-3/2024-06-04/
LOCATION:Sciencenter\, 601 1st Street\, Ithaca\, NY\, 14850\, United States
ATTACH;FMTTYPE=image/jpeg:https://sciencenter.org/wp-content/uploads/Baking-Soda-and-Vinegar.jpg
END:VEVENT
BEGIN:VEVENT
DTSTART;TZID=America/New_York:20240602T133000
DTEND;TZID=America/New_York:20240602T150000
DTSTAMP:20260422T185356
CREATED:20240531T152831Z
LAST-MODIFIED:20240531T152831Z
UID:10001851-1717335000-1717340400@sciencenter.org
SUMMARY:Chemsations: Polymer Party
DESCRIPTION:Explore chemistry during this hands-on program! We’ll have lots of messy fun as we explore super-absorbent materials and make slime to explore the properties of polymers!
URL:https://sciencenter.org/event/chemsations-polymer-party-4/
LOCATION:Sciencenter\, 601 1st Street\, Ithaca\, NY\, 14850\, United States
ATTACH;FMTTYPE=image/png:https://sciencenter.org/wp-content/uploads/Slime-2.png
END:VEVENT
BEGIN:VEVENT
DTSTART;TZID=America/New_York:20240601T140000
DTEND;TZID=America/New_York:20240601T150000
DTSTAMP:20260422T185356
CREATED:20240521T160008Z
LAST-MODIFIED:20240521T160008Z
UID:10001780-1717250400-1717254000@sciencenter.org
SUMMARY:Family Workshop: Foam Block Printing
DESCRIPTION:Explore printmaking and create your own works of art!
URL:https://sciencenter.org/event/family-workshop-foam-block-printing/
LOCATION:Sciencenter\, 601 1st Street\, Ithaca\, NY\, 14850\, United States
ATTACH;FMTTYPE=image/png:https://sciencenter.org/wp-content/uploads/Foam-Block-Printing.png
END:VEVENT
BEGIN:VEVENT
DTSTART;TZID=America/New_York:20240531T103000
DTEND;TZID=America/New_York:20240531T110000
DTSTAMP:20260422T185356
CREATED:20240506T192434Z
LAST-MODIFIED:20240506T192434Z
UID:10001762-1717151400-1717153200@sciencenter.org
SUMMARY:Science Together: Ramp Painting
DESCRIPTION:Let’s paint with gravity! Make patterns and test ideas while we roll paint-covered balls down ramps. \nScience Together activities are designed for ages 0-4.
URL:https://sciencenter.org/event/science-together-ramp-painting-2/2024-05-31/
LOCATION:Sciencenter\, 601 1st Street\, Ithaca\, NY\, 14850\, United States
ATTACH;FMTTYPE=image/jpeg:https://sciencenter.org/wp-content/uploads/Ramp-Painting.jpg
END:VEVENT
BEGIN:VEVENT
DTSTART;TZID=America/New_York:20240530T103000
DTEND;TZID=America/New_York:20240530T110000
DTSTAMP:20260422T185356
CREATED:20240506T192434Z
LAST-MODIFIED:20240506T192434Z
UID:10001761-1717065000-1717066800@sciencenter.org
SUMMARY:Science Together: Ramp Painting
DESCRIPTION:Let’s paint with gravity! Make patterns and test ideas while we roll paint-covered balls down ramps. \nScience Together activities are designed for ages 0-4.
URL:https://sciencenter.org/event/science-together-ramp-painting-2/2024-05-30/
LOCATION:Sciencenter\, 601 1st Street\, Ithaca\, NY\, 14850\, United States
ATTACH;FMTTYPE=image/jpeg:https://sciencenter.org/wp-content/uploads/Ramp-Painting.jpg
END:VEVENT
BEGIN:VEVENT
DTSTART;TZID=America/New_York:20240529T160000
DTEND;TZID=America/New_York:20240529T163000
DTSTAMP:20260422T185356
CREATED:20240213T161826Z
LAST-MODIFIED:20240213T161915Z
UID:10000594-1716998400-1717000200@sciencenter.org
SUMMARY:Animal Feeding
DESCRIPTION:Join an Animal Keeper to observe snakes\, lizards\, frogs\, and fish snacking on their preferred prey.
URL:https://sciencenter.org/event/animal-feeding-2-2/2024-05-29/
LOCATION:Sciencenter\, 601 1st Street\, Ithaca\, NY\, 14850\, United States
ATTACH;FMTTYPE=image/png:https://sciencenter.org/wp-content/uploads/Animal-Feeding.png
END:VEVENT
BEGIN:VEVENT
DTSTART;TZID=America/New_York:20240529T103000
DTEND;TZID=America/New_York:20240529T110000
DTSTAMP:20260422T185356
CREATED:20240506T192434Z
LAST-MODIFIED:20240506T192434Z
UID:10001760-1716978600-1716980400@sciencenter.org
SUMMARY:Science Together: Ramp Painting
DESCRIPTION:Let’s paint with gravity! Make patterns and test ideas while we roll paint-covered balls down ramps. \nScience Together activities are designed for ages 0-4.
URL:https://sciencenter.org/event/science-together-ramp-painting-2/2024-05-29/
LOCATION:Sciencenter\, 601 1st Street\, Ithaca\, NY\, 14850\, United States
ATTACH;FMTTYPE=image/jpeg:https://sciencenter.org/wp-content/uploads/Ramp-Painting.jpg
END:VEVENT
BEGIN:VEVENT
DTSTART;TZID=America/New_York:20240528T103000
DTEND;TZID=America/New_York:20240528T110000
DTSTAMP:20260422T185356
CREATED:20240506T192434Z
LAST-MODIFIED:20240506T192434Z
UID:10001759-1716892200-1716894000@sciencenter.org
SUMMARY:Science Together: Ramp Painting
DESCRIPTION:Let’s paint with gravity! Make patterns and test ideas while we roll paint-covered balls down ramps. \nScience Together activities are designed for ages 0-4.
URL:https://sciencenter.org/event/science-together-ramp-painting-2/2024-05-28/
LOCATION:Sciencenter\, 601 1st Street\, Ithaca\, NY\, 14850\, United States
ATTACH;FMTTYPE=image/jpeg:https://sciencenter.org/wp-content/uploads/Ramp-Painting.jpg
END:VEVENT
BEGIN:VEVENT
DTSTART;TZID=America/New_York:20240527T103000
DTEND;TZID=America/New_York:20240527T113000
DTSTAMP:20260422T185356
CREATED:20240506T192603Z
LAST-MODIFIED:20240506T192719Z
UID:10001763-1716805800-1716809400@sciencenter.org
SUMMARY:Playtime with Finger Lakes Toy Library
DESCRIPTION:Join the Sciencenter and the Finger Lakes Toy Library for our May playtime!
URL:https://sciencenter.org/event/playtime-with-finger-lakes-toy-library-2/
LOCATION:Sciencenter\, 601 1st Street\, Ithaca\, NY\, 14850\, United States
ATTACH;FMTTYPE=image/png:https://sciencenter.org/wp-content/uploads/Playtime-with-FLTL.png
END:VEVENT
BEGIN:VEVENT
DTSTART;TZID=America/New_York:20240526T140000
DTEND;TZID=America/New_York:20240526T150000
DTSTAMP:20260422T185356
CREATED:20240523T142836Z
LAST-MODIFIED:20240524T132451Z
UID:10001850-1716732000-1716735600@sciencenter.org
SUMMARY:Science Connections: BeeBots Workshop
DESCRIPTION:Join us to help our BeeBots find their way back to the hive! Together\, we’ll learn to code these awesome robots and practice the skills it takes to be a computer scientist. We hope to see you there!
URL:https://sciencenter.org/event/science-connections-beebots-workshop/
LOCATION:Sciencenter\, 601 1st Street\, Ithaca\, NY\, 14850\, United States
ATTACH;FMTTYPE=image/png:https://sciencenter.org/wp-content/uploads/BeeBots.png
END:VEVENT
BEGIN:VEVENT
DTSTART;TZID=America/New_York:20240525T140000
DTEND;TZID=America/New_York:20240525T150000
DTSTAMP:20260422T185356
CREATED:20240409T193931Z
LAST-MODIFIED:20240409T194108Z
UID:10001626-1716645600-1716649200@sciencenter.org
SUMMARY:Family Workshop: Take Apart
DESCRIPTION:Bring the whole family and use various tools to take apart and explore the inner workings of electronics!
URL:https://sciencenter.org/event/family-workshop-take-apart-2/2024-05-25/
LOCATION:Sciencenter\, 601 1st Street\, Ithaca\, NY\, 14850\, United States
ATTACH;FMTTYPE=image/jpeg:https://sciencenter.org/wp-content/uploads/Take-Apart_-1.jpg
END:VEVENT
BEGIN:VEVENT
DTSTART;TZID=America/New_York:20240524T103000
DTEND;TZID=America/New_York:20240524T110000
DTSTAMP:20260422T185356
CREATED:20240506T184224Z
LAST-MODIFIED:20240506T184224Z
UID:10001754-1716546600-1716548400@sciencenter.org
SUMMARY:Science Together: Sink or Float
DESCRIPTION:Test and sort items with a water play\, sink or float experiment! \nScience Together activities are designed for ages 0-4.
URL:https://sciencenter.org/event/science-together-sink-or-float-3/2024-05-24/
LOCATION:Sciencenter\, 601 1st Street\, Ithaca\, NY\, 14850\, United States
ATTACH;FMTTYPE=image/jpeg:https://sciencenter.org/wp-content/uploads/SinkFloat.jpg
END:VEVENT
BEGIN:VEVENT
DTSTART;TZID=America/New_York:20240523T103000
DTEND;TZID=America/New_York:20240523T110000
DTSTAMP:20260422T185356
CREATED:20240506T184224Z
LAST-MODIFIED:20240506T184224Z
UID:10001753-1716460200-1716462000@sciencenter.org
SUMMARY:Science Together: Sink or Float
DESCRIPTION:Test and sort items with a water play\, sink or float experiment! \nScience Together activities are designed for ages 0-4.
URL:https://sciencenter.org/event/science-together-sink-or-float-3/2024-05-23/
LOCATION:Sciencenter\, 601 1st Street\, Ithaca\, NY\, 14850\, United States
ATTACH;FMTTYPE=image/jpeg:https://sciencenter.org/wp-content/uploads/SinkFloat.jpg
END:VEVENT
BEGIN:VEVENT
DTSTART;TZID=America/New_York:20240522T160000
DTEND;TZID=America/New_York:20240522T163000
DTSTAMP:20260422T185356
CREATED:20240213T161826Z
LAST-MODIFIED:20240213T161915Z
UID:10000593-1716393600-1716395400@sciencenter.org
SUMMARY:Animal Feeding
DESCRIPTION:Join an Animal Keeper to observe snakes\, lizards\, frogs\, and fish snacking on their preferred prey.
URL:https://sciencenter.org/event/animal-feeding-2-2/2024-05-22/
LOCATION:Sciencenter\, 601 1st Street\, Ithaca\, NY\, 14850\, United States
ATTACH;FMTTYPE=image/png:https://sciencenter.org/wp-content/uploads/Animal-Feeding.png
END:VEVENT
BEGIN:VEVENT
DTSTART;TZID=America/New_York:20240522T103000
DTEND;TZID=America/New_York:20240522T110000
DTSTAMP:20260422T185356
CREATED:20240506T184224Z
LAST-MODIFIED:20240506T184224Z
UID:10001752-1716373800-1716375600@sciencenter.org
SUMMARY:Science Together: Sink or Float
DESCRIPTION:Test and sort items with a water play\, sink or float experiment! \nScience Together activities are designed for ages 0-4.
URL:https://sciencenter.org/event/science-together-sink-or-float-3/2024-05-22/
LOCATION:Sciencenter\, 601 1st Street\, Ithaca\, NY\, 14850\, United States
ATTACH;FMTTYPE=image/jpeg:https://sciencenter.org/wp-content/uploads/SinkFloat.jpg
END:VEVENT
BEGIN:VEVENT
DTSTART;TZID=America/New_York:20240521T103000
DTEND;TZID=America/New_York:20240521T110000
DTSTAMP:20260422T185356
CREATED:20240506T184224Z
LAST-MODIFIED:20240506T184224Z
UID:10001751-1716287400-1716289200@sciencenter.org
SUMMARY:Science Together: Sink or Float
DESCRIPTION:Test and sort items with a water play\, sink or float experiment! \nScience Together activities are designed for ages 0-4.
URL:https://sciencenter.org/event/science-together-sink-or-float-3/2024-05-21/
LOCATION:Sciencenter\, 601 1st Street\, Ithaca\, NY\, 14850\, United States
ATTACH;FMTTYPE=image/jpeg:https://sciencenter.org/wp-content/uploads/SinkFloat.jpg
END:VEVENT
BEGIN:VEVENT
DTSTART;TZID=America/New_York:20240519T140000
DTEND;TZID=America/New_York:20240519T150000
DTSTAMP:20260422T185356
CREATED:20240509T133220Z
LAST-MODIFIED:20240509T133220Z
UID:10001779-1716127200-1716130800@sciencenter.org
SUMMARY:Science Connections: Resistance Painting
DESCRIPTION:Join us to create art using watercolors and crayons while making predictions and observations! We can’t wait to see what you create!
URL:https://sciencenter.org/event/science-connections-resistance-painting-2/
LOCATION:Sciencenter\, 601 1st Street\, Ithaca\, NY\, 14850\, United States
ATTACH;FMTTYPE=image/png:https://sciencenter.org/wp-content/uploads/Resistance-Painting-2.png
END:VEVENT
BEGIN:VEVENT
DTSTART;TZID=America/New_York:20240517T103000
DTEND;TZID=America/New_York:20240517T110000
DTSTAMP:20260422T185356
CREATED:20240506T181906Z
LAST-MODIFIED:20240506T181906Z
UID:10001747-1715941800-1715943600@sciencenter.org
SUMMARY:Science Together: Roller Coasters
DESCRIPTION:Explore ups and downs as you make and test a roller coaster! \nScience Together activities are designed for ages 0-4.
URL:https://sciencenter.org/event/science-together-roller-coasters-3/2024-05-17/
LOCATION:Sciencenter\, 601 1st Street\, Ithaca\, NY\, 14850\, United States
ATTACH;FMTTYPE=image/jpeg:https://sciencenter.org/wp-content/uploads/roller-coaster1-crop.jpg
END:VEVENT
BEGIN:VEVENT
DTSTART;TZID=America/New_York:20240516T103000
DTEND;TZID=America/New_York:20240516T110000
DTSTAMP:20260422T185356
CREATED:20240506T181906Z
LAST-MODIFIED:20240506T181906Z
UID:10001746-1715855400-1715857200@sciencenter.org
SUMMARY:Science Together: Roller Coasters
DESCRIPTION:Explore ups and downs as you make and test a roller coaster! \nScience Together activities are designed for ages 0-4.
URL:https://sciencenter.org/event/science-together-roller-coasters-3/2024-05-16/
LOCATION:Sciencenter\, 601 1st Street\, Ithaca\, NY\, 14850\, United States
ATTACH;FMTTYPE=image/jpeg:https://sciencenter.org/wp-content/uploads/roller-coaster1-crop.jpg
END:VEVENT
BEGIN:VEVENT
DTSTART;TZID=America/New_York:20240515T160000
DTEND;TZID=America/New_York:20240515T163000
DTSTAMP:20260422T185356
CREATED:20240213T161826Z
LAST-MODIFIED:20240213T161915Z
UID:10000592-1715788800-1715790600@sciencenter.org
SUMMARY:Animal Feeding
DESCRIPTION:Join an Animal Keeper to observe snakes\, lizards\, frogs\, and fish snacking on their preferred prey.
URL:https://sciencenter.org/event/animal-feeding-2-2/2024-05-15/
LOCATION:Sciencenter\, 601 1st Street\, Ithaca\, NY\, 14850\, United States
ATTACH;FMTTYPE=image/png:https://sciencenter.org/wp-content/uploads/Animal-Feeding.png
END:VEVENT
BEGIN:VEVENT
DTSTART;TZID=America/New_York:20240515T103000
DTEND;TZID=America/New_York:20240515T110000
DTSTAMP:20260422T185356
CREATED:20240506T181906Z
LAST-MODIFIED:20240506T181906Z
UID:10001745-1715769000-1715770800@sciencenter.org
SUMMARY:Science Together: Roller Coasters
DESCRIPTION:Explore ups and downs as you make and test a roller coaster! \nScience Together activities are designed for ages 0-4.
URL:https://sciencenter.org/event/science-together-roller-coasters-3/2024-05-15/
LOCATION:Sciencenter\, 601 1st Street\, Ithaca\, NY\, 14850\, United States
ATTACH;FMTTYPE=image/jpeg:https://sciencenter.org/wp-content/uploads/roller-coaster1-crop.jpg
END:VEVENT
BEGIN:VEVENT
DTSTART;TZID=America/New_York:20240514T103000
DTEND;TZID=America/New_York:20240514T110000
DTSTAMP:20260422T185356
CREATED:20240506T181906Z
LAST-MODIFIED:20240506T181906Z
UID:10001744-1715682600-1715684400@sciencenter.org
SUMMARY:Science Together: Roller Coasters
DESCRIPTION:Explore ups and downs as you make and test a roller coaster! \nScience Together activities are designed for ages 0-4.
URL:https://sciencenter.org/event/science-together-roller-coasters-3/2024-05-14/
LOCATION:Sciencenter\, 601 1st Street\, Ithaca\, NY\, 14850\, United States
ATTACH;FMTTYPE=image/jpeg:https://sciencenter.org/wp-content/uploads/roller-coaster1-crop.jpg
END:VEVENT
BEGIN:VEVENT
DTSTART;TZID=America/New_York:20240512T140000
DTEND;TZID=America/New_York:20240512T150000
DTSTAMP:20260422T185356
CREATED:20240506T172334Z
LAST-MODIFIED:20240507T140411Z
UID:10001740-1715522400-1715526000@sciencenter.org
SUMMARY:Science Connections: Cornell iGEM
DESCRIPTION:Cornell iGEM will be hosting educational science activities for young scientists to learn more about the various different fields of science! We will have activities ranging from making slime\, to learning about DNA to even how we can make medicine from bacteria!
URL:https://sciencenter.org/event/science-connections-cornell-igem/
LOCATION:Sciencenter\, 601 1st Street\, Ithaca\, NY\, 14850\, United States
ATTACH;FMTTYPE=image/png:https://sciencenter.org/wp-content/uploads/Cornell-iGEM.png
END:VEVENT
BEGIN:VEVENT
DTSTART;TZID=America/New_York:20240511T120000
DTEND;TZID=America/New_York:20240511T160000
DTSTAMP:20260422T185356
CREATED:20240506T164117Z
LAST-MODIFIED:20240506T164204Z
UID:10001739-1715428800-1715443200@sciencenter.org
SUMMARY:Science Connections: Cornell Prototyping Demo Day
DESCRIPTION:Join students from Cornell’s Rapid Prototyping class to see demos of their creative inventions and learn about how they made their ideas into real\, working machines!
URL:https://sciencenter.org/event/science-connections-cornell-prototyping-demo-day/
LOCATION:Sciencenter\, 601 1st Street\, Ithaca\, NY\, 14850\, United States
ATTACH;FMTTYPE=image/png:https://sciencenter.org/wp-content/uploads/Cornell-Prototyping.png
END:VEVENT
BEGIN:VEVENT
DTSTART;TZID=America/New_York:20240510T103000
DTEND;TZID=America/New_York:20240510T110000
DTSTAMP:20260422T185356
CREATED:20240425T193809Z
LAST-MODIFIED:20240425T193809Z
UID:10001722-1715337000-1715338800@sciencenter.org
SUMMARY:Science Together: Ice Melting
DESCRIPTION:Test out different methods to melt ice with tools like warm water and salt. See if you can rescue an animal trapped in ice! \nScience Together activities are designed for ages 0-4.
URL:https://sciencenter.org/event/science-together-ice-melting-3/2024-05-10/
LOCATION:Sciencenter\, 601 1st Street\, Ithaca\, NY\, 14850\, United States
ATTACH;FMTTYPE=image/jpeg:https://sciencenter.org/wp-content/uploads/Ice-Melting.jpg
END:VEVENT
BEGIN:VEVENT
DTSTART;TZID=America/New_York:20240509T103000
DTEND;TZID=America/New_York:20240509T110000
DTSTAMP:20260422T185356
CREATED:20240425T193809Z
LAST-MODIFIED:20240425T193809Z
UID:10001721-1715250600-1715252400@sciencenter.org
SUMMARY:Science Together: Ice Melting
DESCRIPTION:Test out different methods to melt ice with tools like warm water and salt. See if you can rescue an animal trapped in ice! \nScience Together activities are designed for ages 0-4.
URL:https://sciencenter.org/event/science-together-ice-melting-3/2024-05-09/
LOCATION:Sciencenter\, 601 1st Street\, Ithaca\, NY\, 14850\, United States
ATTACH;FMTTYPE=image/jpeg:https://sciencenter.org/wp-content/uploads/Ice-Melting.jpg
END:VEVENT
BEGIN:VEVENT
DTSTART;TZID=America/New_York:20240508T160000
DTEND;TZID=America/New_York:20240508T163000
DTSTAMP:20260422T185356
CREATED:20240213T161826Z
LAST-MODIFIED:20240213T161915Z
UID:10000591-1715184000-1715185800@sciencenter.org
SUMMARY:Animal Feeding
DESCRIPTION:Join an Animal Keeper to observe snakes\, lizards\, frogs\, and fish snacking on their preferred prey.
URL:https://sciencenter.org/event/animal-feeding-2-2/2024-05-08/
LOCATION:Sciencenter\, 601 1st Street\, Ithaca\, NY\, 14850\, United States
ATTACH;FMTTYPE=image/png:https://sciencenter.org/wp-content/uploads/Animal-Feeding.png
END:VEVENT
END:VCALENDAR