BEGIN:VCALENDAR
VERSION:2.0
PRODID:-//Sciencenter - ECPv6.15.20//NONSGML v1.0//EN
CALSCALE:GREGORIAN
METHOD:PUBLISH
X-WR-CALNAME:Sciencenter
X-ORIGINAL-URL:https://sciencenter.org
X-WR-CALDESC:Events for Sciencenter
REFRESH-INTERVAL;VALUE=DURATION:PT1H
X-Robots-Tag:noindex
X-PUBLISHED-TTL:PT1H
BEGIN:VTIMEZONE
TZID:America/New_York
BEGIN:DAYLIGHT
TZOFFSETFROM:-0500
TZOFFSETTO:-0400
TZNAME:EDT
DTSTART:20230312T070000
END:DAYLIGHT
BEGIN:STANDARD
TZOFFSETFROM:-0400
TZOFFSETTO:-0500
TZNAME:EST
DTSTART:20231105T060000
END:STANDARD
BEGIN:DAYLIGHT
TZOFFSETFROM:-0500
TZOFFSETTO:-0400
TZNAME:EDT
DTSTART:20240310T070000
END:DAYLIGHT
BEGIN:STANDARD
TZOFFSETFROM:-0400
TZOFFSETTO:-0500
TZNAME:EST
DTSTART:20241103T060000
END:STANDARD
BEGIN:DAYLIGHT
TZOFFSETFROM:-0500
TZOFFSETTO:-0400
TZNAME:EDT
DTSTART:20250309T070000
END:DAYLIGHT
BEGIN:STANDARD
TZOFFSETFROM:-0400
TZOFFSETTO:-0500
TZNAME:EST
DTSTART:20251102T060000
END:STANDARD
END:VTIMEZONE
BEGIN:VEVENT
DTSTART;TZID=America/New_York:20240926T103000
DTEND;TZID=America/New_York:20240926T110000
DTSTAMP:20260420T013802
CREATED:20240828T133603Z
LAST-MODIFIED:20240828T133707Z
UID:10002017-1727346600-1727348400@sciencenter.org
SUMMARY:Science Together: Kinetic Sand
DESCRIPTION:Explore the different properties of kinetic sand! \nScience Together activities are designed for ages 0-4.
URL:https://sciencenter.org/event/science-together-kinetic-sand-3/2024-09-26/
LOCATION:Sciencenter\, 601 1st Street\, Ithaca\, NY\, 14850\, United States
ATTACH;FMTTYPE=image/jpeg:https://sciencenter.org/wp-content/uploads/Kinetic-Sand-1.jpg
END:VEVENT
BEGIN:VEVENT
DTSTART;TZID=America/New_York:20240925T160000
DTEND;TZID=America/New_York:20240925T163000
DTSTAMP:20260420T013802
CREATED:20240904T145525Z
LAST-MODIFIED:20260206T205945Z
UID:10000611-1727280000-1727281800@sciencenter.org
SUMMARY:Animal Feeding
DESCRIPTION:Join an Animal Keeper to observe snakes\, lizards\, frogs\, and fish snacking on their preferred prey.
URL:https://sciencenter.org/event/animal-feeding-2-2-2/2024-09-25/
LOCATION:Sciencenter\, 601 1st Street\, Ithaca\, NY\, 14850\, United States
ATTACH;FMTTYPE=image/png:https://sciencenter.org/wp-content/uploads/Animal-Feeding.png
END:VEVENT
BEGIN:VEVENT
DTSTART;TZID=America/New_York:20240925T103000
DTEND;TZID=America/New_York:20240925T110000
DTSTAMP:20260420T013802
CREATED:20240828T133603Z
LAST-MODIFIED:20240828T133707Z
UID:10002016-1727260200-1727262000@sciencenter.org
SUMMARY:Science Together: Kinetic Sand
DESCRIPTION:Explore the different properties of kinetic sand! \nScience Together activities are designed for ages 0-4.
URL:https://sciencenter.org/event/science-together-kinetic-sand-3/2024-09-25/
LOCATION:Sciencenter\, 601 1st Street\, Ithaca\, NY\, 14850\, United States
ATTACH;FMTTYPE=image/jpeg:https://sciencenter.org/wp-content/uploads/Kinetic-Sand-1.jpg
END:VEVENT
BEGIN:VEVENT
DTSTART;TZID=America/New_York:20240924T103000
DTEND;TZID=America/New_York:20240924T110000
DTSTAMP:20260420T013802
CREATED:20240828T133603Z
LAST-MODIFIED:20240828T133707Z
UID:10002015-1727173800-1727175600@sciencenter.org
SUMMARY:Science Together: Kinetic Sand
DESCRIPTION:Explore the different properties of kinetic sand! \nScience Together activities are designed for ages 0-4.
URL:https://sciencenter.org/event/science-together-kinetic-sand-3/2024-09-24/
LOCATION:Sciencenter\, 601 1st Street\, Ithaca\, NY\, 14850\, United States
ATTACH;FMTTYPE=image/jpeg:https://sciencenter.org/wp-content/uploads/Kinetic-Sand-1.jpg
END:VEVENT
BEGIN:VEVENT
DTSTART;TZID=America/New_York:20240922T140000
DTEND;TZID=America/New_York:20240922T150000
DTSTAMP:20260420T013802
CREATED:20240904T151956Z
LAST-MODIFIED:20240910T150234Z
UID:10002157-1727013600-1727017200@sciencenter.org
SUMMARY:Science Connections: Girls Who Code
DESCRIPTION:Women in Computing at Cornell (WICC) is coming to the Sciencenter to share information about their weekly Girls Who Code program for high school and middle school students in Ithaca! In their program\, students of all genders and any level of programming experience can learn computer science fundamentals through interactive lessons and hands-on projects\, some of which include building games and animations.
URL:https://sciencenter.org/event/science-connections-girls-who-code-2/
LOCATION:Sciencenter\, 601 1st Street\, Ithaca\, NY\, 14850\, United States
ATTACH;FMTTYPE=image/png:https://sciencenter.org/wp-content/uploads/Girls-who-Code.png
END:VEVENT
BEGIN:VEVENT
DTSTART;TZID=America/New_York:20240920T103000
DTEND;TZID=America/New_York:20240920T110000
DTSTAMP:20260420T013802
CREATED:20240828T132058Z
LAST-MODIFIED:20240828T132058Z
UID:10002011-1726828200-1726830000@sciencenter.org
SUMMARY:Science Together: Worms
DESCRIPTION:Observe and measure live worms! \nScience Together activities are designed for ages 0-4.
URL:https://sciencenter.org/event/science-together-worms-3/2024-09-20/
LOCATION:Sciencenter\, 601 1st Street\, Ithaca\, NY\, 14850\, United States
ATTACH;FMTTYPE=image/jpeg:https://sciencenter.org/wp-content/uploads/Worms.jpg
END:VEVENT
BEGIN:VEVENT
DTSTART;TZID=America/New_York:20240919T103000
DTEND;TZID=America/New_York:20240919T110000
DTSTAMP:20260420T013802
CREATED:20240828T132058Z
LAST-MODIFIED:20240828T132058Z
UID:10002010-1726741800-1726743600@sciencenter.org
SUMMARY:Science Together: Worms
DESCRIPTION:Observe and measure live worms! \nScience Together activities are designed for ages 0-4.
URL:https://sciencenter.org/event/science-together-worms-3/2024-09-19/
LOCATION:Sciencenter\, 601 1st Street\, Ithaca\, NY\, 14850\, United States
ATTACH;FMTTYPE=image/jpeg:https://sciencenter.org/wp-content/uploads/Worms.jpg
END:VEVENT
BEGIN:VEVENT
DTSTART;TZID=America/New_York:20240918T160000
DTEND;TZID=America/New_York:20240918T163000
DTSTAMP:20260420T013802
CREATED:20240904T145525Z
LAST-MODIFIED:20260206T205945Z
UID:10000610-1726675200-1726677000@sciencenter.org
SUMMARY:Animal Feeding
DESCRIPTION:Join an Animal Keeper to observe snakes\, lizards\, frogs\, and fish snacking on their preferred prey.
URL:https://sciencenter.org/event/animal-feeding-2-2-2/2024-09-18/
LOCATION:Sciencenter\, 601 1st Street\, Ithaca\, NY\, 14850\, United States
ATTACH;FMTTYPE=image/png:https://sciencenter.org/wp-content/uploads/Animal-Feeding.png
END:VEVENT
BEGIN:VEVENT
DTSTART;TZID=America/New_York:20240918T103000
DTEND;TZID=America/New_York:20240918T110000
DTSTAMP:20260420T013802
CREATED:20240828T132058Z
LAST-MODIFIED:20240828T132058Z
UID:10002009-1726655400-1726657200@sciencenter.org
SUMMARY:Science Together: Worms
DESCRIPTION:Observe and measure live worms! \nScience Together activities are designed for ages 0-4.
URL:https://sciencenter.org/event/science-together-worms-3/2024-09-18/
LOCATION:Sciencenter\, 601 1st Street\, Ithaca\, NY\, 14850\, United States
ATTACH;FMTTYPE=image/jpeg:https://sciencenter.org/wp-content/uploads/Worms.jpg
END:VEVENT
BEGIN:VEVENT
DTSTART;TZID=America/New_York:20240917T103000
DTEND;TZID=America/New_York:20240917T110000
DTSTAMP:20260420T013802
CREATED:20240828T132058Z
LAST-MODIFIED:20240828T132058Z
UID:10002008-1726569000-1726570800@sciencenter.org
SUMMARY:Science Together: Worms
DESCRIPTION:Observe and measure live worms! \nScience Together activities are designed for ages 0-4.
URL:https://sciencenter.org/event/science-together-worms-3/2024-09-17/
LOCATION:Sciencenter\, 601 1st Street\, Ithaca\, NY\, 14850\, United States
ATTACH;FMTTYPE=image/jpeg:https://sciencenter.org/wp-content/uploads/Worms.jpg
END:VEVENT
BEGIN:VEVENT
DTSTART;TZID=America/New_York:20240915T140000
DTEND;TZID=America/New_York:20240915T140000
DTSTAMP:20260420T013802
CREATED:20240904T150739Z
LAST-MODIFIED:20240910T145506Z
UID:10002151-1726408800-1726408800@sciencenter.org
SUMMARY:Science Connections: Cold Show
DESCRIPTION:Join us as we explore the fascinating world of states of matter and discover how temperature affects materials with the cool science of dry ice!
URL:https://sciencenter.org/event/science-connections-cold-show/
LOCATION:Sciencenter\, 601 1st Street\, Ithaca\, NY\, 14850\, United States
ATTACH;FMTTYPE=image/jpeg:https://sciencenter.org/wp-content/uploads/Cold-Show-1.jpg
END:VEVENT
BEGIN:VEVENT
DTSTART;TZID=America/New_York:20240913T103000
DTEND;TZID=America/New_York:20240913T110000
DTSTAMP:20260420T013802
CREATED:20240815T153014Z
LAST-MODIFIED:20240815T153014Z
UID:10002002-1726223400-1726225200@sciencenter.org
SUMMARY:Science Together: Roller Coasters
DESCRIPTION:Explore ups and downs as you make and test a roller coaster! \nScience Together activities are designed for ages 0-4.
URL:https://sciencenter.org/event/science-together-roller-coasters-5/2024-09-13/
LOCATION:Sciencenter\, 601 1st Street\, Ithaca\, NY\, 14850\, United States
ATTACH;FMTTYPE=image/jpeg:https://sciencenter.org/wp-content/uploads/RollerCoasters.jpg
END:VEVENT
BEGIN:VEVENT
DTSTART;TZID=America/New_York:20240912T103000
DTEND;TZID=America/New_York:20240912T110000
DTSTAMP:20260420T013802
CREATED:20240815T153014Z
LAST-MODIFIED:20240815T153014Z
UID:10002001-1726137000-1726138800@sciencenter.org
SUMMARY:Science Together: Roller Coasters
DESCRIPTION:Explore ups and downs as you make and test a roller coaster! \nScience Together activities are designed for ages 0-4.
URL:https://sciencenter.org/event/science-together-roller-coasters-5/2024-09-12/
LOCATION:Sciencenter\, 601 1st Street\, Ithaca\, NY\, 14850\, United States
ATTACH;FMTTYPE=image/jpeg:https://sciencenter.org/wp-content/uploads/RollerCoasters.jpg
END:VEVENT
BEGIN:VEVENT
DTSTART;TZID=America/New_York:20240911T160000
DTEND;TZID=America/New_York:20240911T163000
DTSTAMP:20260420T013802
CREATED:20240904T145525Z
LAST-MODIFIED:20260206T205945Z
UID:10000609-1726070400-1726072200@sciencenter.org
SUMMARY:Animal Feeding
DESCRIPTION:Join an Animal Keeper to observe snakes\, lizards\, frogs\, and fish snacking on their preferred prey.
URL:https://sciencenter.org/event/animal-feeding-2-2-2/2024-09-11/
LOCATION:Sciencenter\, 601 1st Street\, Ithaca\, NY\, 14850\, United States
ATTACH;FMTTYPE=image/png:https://sciencenter.org/wp-content/uploads/Animal-Feeding.png
END:VEVENT
BEGIN:VEVENT
DTSTART;TZID=America/New_York:20240911T103000
DTEND;TZID=America/New_York:20240911T110000
DTSTAMP:20260420T013802
CREATED:20240815T153014Z
LAST-MODIFIED:20240815T153014Z
UID:10002000-1726050600-1726052400@sciencenter.org
SUMMARY:Science Together: Roller Coasters
DESCRIPTION:Explore ups and downs as you make and test a roller coaster! \nScience Together activities are designed for ages 0-4.
URL:https://sciencenter.org/event/science-together-roller-coasters-5/2024-09-11/
LOCATION:Sciencenter\, 601 1st Street\, Ithaca\, NY\, 14850\, United States
ATTACH;FMTTYPE=image/jpeg:https://sciencenter.org/wp-content/uploads/RollerCoasters.jpg
END:VEVENT
BEGIN:VEVENT
DTSTART;TZID=America/New_York:20240910T103000
DTEND;TZID=America/New_York:20240910T110000
DTSTAMP:20260420T013802
CREATED:20240815T153014Z
LAST-MODIFIED:20240815T153014Z
UID:10001999-1725964200-1725966000@sciencenter.org
SUMMARY:Science Together: Roller Coasters
DESCRIPTION:Explore ups and downs as you make and test a roller coaster! \nScience Together activities are designed for ages 0-4.
URL:https://sciencenter.org/event/science-together-roller-coasters-5/2024-09-10/
LOCATION:Sciencenter\, 601 1st Street\, Ithaca\, NY\, 14850\, United States
ATTACH;FMTTYPE=image/jpeg:https://sciencenter.org/wp-content/uploads/RollerCoasters.jpg
END:VEVENT
BEGIN:VEVENT
DTSTART;TZID=America/New_York:20240908T140000
DTEND;TZID=America/New_York:20240908T150000
DTSTAMP:20260420T013802
CREATED:20240828T131900Z
LAST-MODIFIED:20240828T131900Z
UID:10002005-1725804000-1725807600@sciencenter.org
SUMMARY:Science Connections: Resistance Painting
DESCRIPTION:Join us to create art using watercolors and crayons while making predictions and observations! We can’t wait to see what you create!
URL:https://sciencenter.org/event/science-connections-resistance-painting-3/
LOCATION:Sciencenter\, 601 1st Street\, Ithaca\, NY\, 14850\, United States
ATTACH;FMTTYPE=image/png:https://sciencenter.org/wp-content/uploads/Resistance-Painting-2.png
END:VEVENT
BEGIN:VEVENT
DTSTART;TZID=America/New_York:20240906T103000
DTEND;TZID=America/New_York:20240906T110000
DTSTAMP:20260420T013802
CREATED:20240815T152734Z
LAST-MODIFIED:20240815T152734Z
UID:10001996-1725618600-1725620400@sciencenter.org
SUMMARY:Science Together: Ice Melting
DESCRIPTION:Test out different methods to melt ice with tools like warm water and salt. See if you can rescue an animal trapped in ice! \nScience Together activities are designed for ages 0-4.
URL:https://sciencenter.org/event/science-together-ice-melting-5/2024-09-06/
LOCATION:Sciencenter\, 601 1st Street\, Ithaca\, NY\, 14850\, United States
ATTACH;FMTTYPE=image/jpeg:https://sciencenter.org/wp-content/uploads/Ice-Melting-1.jpg
END:VEVENT
BEGIN:VEVENT
DTSTART;TZID=America/New_York:20240905T103000
DTEND;TZID=America/New_York:20240905T110000
DTSTAMP:20260420T013802
CREATED:20240815T152734Z
LAST-MODIFIED:20240815T152734Z
UID:10001995-1725532200-1725534000@sciencenter.org
SUMMARY:Science Together: Ice Melting
DESCRIPTION:Test out different methods to melt ice with tools like warm water and salt. See if you can rescue an animal trapped in ice! \nScience Together activities are designed for ages 0-4.
URL:https://sciencenter.org/event/science-together-ice-melting-5/2024-09-05/
LOCATION:Sciencenter\, 601 1st Street\, Ithaca\, NY\, 14850\, United States
ATTACH;FMTTYPE=image/jpeg:https://sciencenter.org/wp-content/uploads/Ice-Melting-1.jpg
END:VEVENT
BEGIN:VEVENT
DTSTART;TZID=America/New_York:20240904T160000
DTEND;TZID=America/New_York:20240904T163000
DTSTAMP:20260420T013802
CREATED:20240904T145525Z
LAST-MODIFIED:20260206T205945Z
UID:10000608-1725465600-1725467400@sciencenter.org
SUMMARY:Animal Feeding
DESCRIPTION:Join an Animal Keeper to observe snakes\, lizards\, frogs\, and fish snacking on their preferred prey.
URL:https://sciencenter.org/event/animal-feeding-2-2-2/2024-09-04/
LOCATION:Sciencenter\, 601 1st Street\, Ithaca\, NY\, 14850\, United States
ATTACH;FMTTYPE=image/png:https://sciencenter.org/wp-content/uploads/Animal-Feeding.png
END:VEVENT
BEGIN:VEVENT
DTSTART;TZID=America/New_York:20240904T103000
DTEND;TZID=America/New_York:20240904T110000
DTSTAMP:20260420T013802
CREATED:20240815T152734Z
LAST-MODIFIED:20240815T152734Z
UID:10001994-1725445800-1725447600@sciencenter.org
SUMMARY:Science Together: Ice Melting
DESCRIPTION:Test out different methods to melt ice with tools like warm water and salt. See if you can rescue an animal trapped in ice! \nScience Together activities are designed for ages 0-4.
URL:https://sciencenter.org/event/science-together-ice-melting-5/2024-09-04/
LOCATION:Sciencenter\, 601 1st Street\, Ithaca\, NY\, 14850\, United States
ATTACH;FMTTYPE=image/jpeg:https://sciencenter.org/wp-content/uploads/Ice-Melting-1.jpg
END:VEVENT
BEGIN:VEVENT
DTSTART;TZID=America/New_York:20240903T103000
DTEND;TZID=America/New_York:20240903T110000
DTSTAMP:20260420T013802
CREATED:20240815T152734Z
LAST-MODIFIED:20240815T152734Z
UID:10001993-1725359400-1725361200@sciencenter.org
SUMMARY:Science Together: Ice Melting
DESCRIPTION:Test out different methods to melt ice with tools like warm water and salt. See if you can rescue an animal trapped in ice! \nScience Together activities are designed for ages 0-4.
URL:https://sciencenter.org/event/science-together-ice-melting-5/2024-09-03/
LOCATION:Sciencenter\, 601 1st Street\, Ithaca\, NY\, 14850\, United States
ATTACH;FMTTYPE=image/jpeg:https://sciencenter.org/wp-content/uploads/Ice-Melting-1.jpg
END:VEVENT
BEGIN:VEVENT
DTSTART;TZID=America/New_York:20240901T140000
DTEND;TZID=America/New_York:20240901T150000
DTSTAMP:20260420T013802
CREATED:20240821T191017Z
LAST-MODIFIED:20240821T191017Z
UID:10002004-1725199200-1725202800@sciencenter.org
SUMMARY:Science Connections: Cornell iGEM
DESCRIPTION:Join experts from Cornell’s iGEM team to learn about synthetic biology! Make slime\, read along a picture book\, and play with waterbeads!
URL:https://sciencenter.org/event/science-connections-cornell-igem-2/
LOCATION:Sciencenter\, 601 1st Street\, Ithaca\, NY\, 14850\, United States
ATTACH;FMTTYPE=image/png:https://sciencenter.org/wp-content/uploads/Cornell-iGEM.png
END:VEVENT
BEGIN:VEVENT
DTSTART;TZID=America/New_York:20240831T140000
DTEND;TZID=America/New_York:20240831T140000
DTSTAMP:20260420T013802
CREATED:20240603T144448Z
LAST-MODIFIED:20240821T185949Z
UID:10002003-1725112800-1725112800@sciencenter.org
SUMMARY:Cold Show
DESCRIPTION:Get ready for some freezing fun! We’ll explore states of matter and how temperature affects materials as we explore dry ice.
URL:https://sciencenter.org/event/cold-show-3/2024-08-31/
LOCATION:Sciencenter\, 601 1st Street\, Ithaca\, NY\, 14850\, United States
ATTACH;FMTTYPE=image/jpeg:https://sciencenter.org/wp-content/uploads/Cold-Show-1.jpg
END:VEVENT
BEGIN:VEVENT
DTSTART;TZID=America/New_York:20240829T103000
DTEND;TZID=America/New_York:20240829T110000
DTSTAMP:20260420T013802
CREATED:20240704T193749Z
LAST-MODIFIED:20240704T193749Z
UID:10001987-1724927400-1724929200@sciencenter.org
SUMMARY:Science Together: Sink or Float
DESCRIPTION:Test and sort items with a water play\, sink or float experiment! \nScience Together activities are designed for ages 0-4.
URL:https://sciencenter.org/event/science-together-sink-or-float-5/2024-08-29/
LOCATION:Sciencenter\, 601 1st Street\, Ithaca\, NY\, 14850\, United States
ATTACH;FMTTYPE=image/jpeg:https://sciencenter.org/wp-content/uploads/Sink-or-Float.jpg
END:VEVENT
BEGIN:VEVENT
DTSTART;TZID=America/New_York:20240828T160000
DTEND;TZID=America/New_York:20240828T163000
DTSTAMP:20260420T013802
CREATED:20240213T161826Z
LAST-MODIFIED:20240213T161915Z
UID:10000607-1724860800-1724862600@sciencenter.org
SUMMARY:Animal Feeding
DESCRIPTION:Join an Animal Keeper to observe snakes\, lizards\, frogs\, and fish snacking on their preferred prey.
URL:https://sciencenter.org/event/animal-feeding-2-2/2024-08-28/
LOCATION:Sciencenter\, 601 1st Street\, Ithaca\, NY\, 14850\, United States
ATTACH;FMTTYPE=image/png:https://sciencenter.org/wp-content/uploads/Animal-Feeding.png
END:VEVENT
BEGIN:VEVENT
DTSTART;TZID=America/New_York:20240827T103000
DTEND;TZID=America/New_York:20240827T110000
DTSTAMP:20260420T013802
CREATED:20240704T193749Z
LAST-MODIFIED:20240704T193749Z
UID:10001986-1724754600-1724756400@sciencenter.org
SUMMARY:Science Together: Sink or Float
DESCRIPTION:Test and sort items with a water play\, sink or float experiment! \nScience Together activities are designed for ages 0-4.
URL:https://sciencenter.org/event/science-together-sink-or-float-5/2024-08-27/
LOCATION:Sciencenter\, 601 1st Street\, Ithaca\, NY\, 14850\, United States
ATTACH;FMTTYPE=image/jpeg:https://sciencenter.org/wp-content/uploads/Sink-or-Float.jpg
END:VEVENT
BEGIN:VEVENT
DTSTART;TZID=America/New_York:20240825T140000
DTEND;TZID=America/New_York:20240825T150000
DTSTAMP:20260420T013802
CREATED:20240719T145531Z
LAST-MODIFIED:20240719T150339Z
UID:10001989-1724594400-1724598000@sciencenter.org
SUMMARY:Science Connections: Fish Brains & Behavior Through Time
DESCRIPTION:Fish are the champions of our oceans\, lakes\, and streams\, from menacing great white sharks to walking mudskippers and talking toadfish – but what drives the many different behaviors we see among them? Their brains! Join Dr. Bass from Cornell Department of Neurobiology & Behavior for a presentation that will take you on a journey through time by opening your eyes to the brains and senses of fishes. The majesty of fishes is best appreciated by seeing and appreciating the remarkable beauty of their brains and how they use them to sense and move in the world around them.
URL:https://sciencenter.org/event/science-connections-fish-brains-behavior-through-time/
LOCATION:Sciencenter\, 601 1st Street\, Ithaca\, NY\, 14850\, United States
ATTACH;FMTTYPE=image/png:https://sciencenter.org/wp-content/uploads/Fish-Brains-Behavior-Through-Time-1.png
END:VEVENT
BEGIN:VEVENT
DTSTART;TZID=America/New_York:20240824T140000
DTEND;TZID=America/New_York:20240824T150000
DTSTAMP:20260420T013802
CREATED:20240801T203830Z
LAST-MODIFIED:20240813T165841Z
UID:10001990-1724508000-1724511600@sciencenter.org
SUMMARY:Science Connections: Plant Power!
DESCRIPTION:Join Mothers Out Front Tompkins for a craft activity about local plants. Choose real pressed flowers and leaves to decorate a bookmark to take home\, practice using a field guide to identify wildflowers\, and learn about the seed-to-flower cycle.
URL:https://sciencenter.org/event/science-connections-plant-power/
LOCATION:Sciencenter\, 601 1st Street\, Ithaca\, NY\, 14850\, United States
ATTACH;FMTTYPE=image/png:https://sciencenter.org/wp-content/uploads/science-connections-1.png
END:VEVENT
BEGIN:VEVENT
DTSTART;TZID=America/New_York:20240822T103000
DTEND;TZID=America/New_York:20240822T110000
DTSTAMP:20260420T013802
CREATED:20240704T193653Z
LAST-MODIFIED:20240704T193653Z
UID:10001983-1724322600-1724324400@sciencenter.org
SUMMARY:Science Together: Bubbles
DESCRIPTION:Blow bubbles and make observations about how they shine and float! \nScience Together activities are designed for ages 0-4.
URL:https://sciencenter.org/event/science-together-bubbles-2/2024-08-22/
LOCATION:Sciencenter\, 601 1st Street\, Ithaca\, NY\, 14850\, United States
ATTACH;FMTTYPE=image/png:https://sciencenter.org/wp-content/uploads/Bubbles-3.png
END:VEVENT
END:VCALENDAR