BEGIN:VCALENDAR
VERSION:2.0
PRODID:-//Sciencenter - ECPv6.15.20//NONSGML v1.0//EN
CALSCALE:GREGORIAN
METHOD:PUBLISH
X-WR-CALNAME:Sciencenter
X-ORIGINAL-URL:https://sciencenter.org
X-WR-CALDESC:Events for Sciencenter
REFRESH-INTERVAL;VALUE=DURATION:PT1H
X-Robots-Tag:noindex
X-PUBLISHED-TTL:PT1H
BEGIN:VTIMEZONE
TZID:America/New_York
BEGIN:DAYLIGHT
TZOFFSETFROM:-0500
TZOFFSETTO:-0400
TZNAME:EDT
DTSTART:20230312T070000
END:DAYLIGHT
BEGIN:STANDARD
TZOFFSETFROM:-0400
TZOFFSETTO:-0500
TZNAME:EST
DTSTART:20231105T060000
END:STANDARD
BEGIN:DAYLIGHT
TZOFFSETFROM:-0500
TZOFFSETTO:-0400
TZNAME:EDT
DTSTART:20240310T070000
END:DAYLIGHT
BEGIN:STANDARD
TZOFFSETFROM:-0400
TZOFFSETTO:-0500
TZNAME:EST
DTSTART:20241103T060000
END:STANDARD
BEGIN:DAYLIGHT
TZOFFSETFROM:-0500
TZOFFSETTO:-0400
TZNAME:EDT
DTSTART:20250309T070000
END:DAYLIGHT
BEGIN:STANDARD
TZOFFSETFROM:-0400
TZOFFSETTO:-0500
TZNAME:EST
DTSTART:20251102T060000
END:STANDARD
END:VTIMEZONE
BEGIN:VEVENT
DTSTART;TZID=America/New_York:20241101T153000
DTEND;TZID=America/New_York:20241101T163000
DTSTAMP:20260419T221330
CREATED:20241018T133631Z
LAST-MODIFIED:20241018T133631Z
UID:10002181-1730475000-1730478600@sciencenter.org
SUMMARY:Family Workshop: Take Apart
DESCRIPTION:Bring the whole family and use various tools to take apart and explore the inner workings of electronics!
URL:https://sciencenter.org/event/family-workshop-take-apart-3/2024-11-01/
LOCATION:Sciencenter\, 601 1st Street\, Ithaca\, NY\, 14850\, United States
ATTACH;FMTTYPE=image/jpeg:https://sciencenter.org/wp-content/uploads/Take-Apart_-1.jpg
END:VEVENT
BEGIN:VEVENT
DTSTART;TZID=America/New_York:20241101T103000
DTEND;TZID=America/New_York:20241101T110000
DTSTAMP:20260419T221330
CREATED:20240828T135511Z
LAST-MODIFIED:20240828T135511Z
UID:10002052-1730457000-1730458800@sciencenter.org
SUMMARY:Science Together: Worms
DESCRIPTION:Observe and measure live worms! \nScience Together activities are designed for ages 0-4.
URL:https://sciencenter.org/event/science-together-worms-4/2024-11-01/
LOCATION:Sciencenter\, 601 1st Street\, Ithaca\, NY\, 14850\, United States
ATTACH;FMTTYPE=image/jpeg:https://sciencenter.org/wp-content/uploads/Worms.jpg
END:VEVENT
BEGIN:VEVENT
DTSTART;TZID=America/New_York:20241031T103000
DTEND;TZID=America/New_York:20241031T110000
DTSTAMP:20260419T221330
CREATED:20240828T135511Z
LAST-MODIFIED:20240828T135511Z
UID:10002051-1730370600-1730372400@sciencenter.org
SUMMARY:Science Together: Worms
DESCRIPTION:Observe and measure live worms! \nScience Together activities are designed for ages 0-4.
URL:https://sciencenter.org/event/science-together-worms-4/2024-10-31/
LOCATION:Sciencenter\, 601 1st Street\, Ithaca\, NY\, 14850\, United States
ATTACH;FMTTYPE=image/jpeg:https://sciencenter.org/wp-content/uploads/Worms.jpg
END:VEVENT
BEGIN:VEVENT
DTSTART;TZID=America/New_York:20241030T160000
DTEND;TZID=America/New_York:20241030T163000
DTSTAMP:20260419T221330
CREATED:20240904T145525Z
LAST-MODIFIED:20260206T205945Z
UID:10000616-1730304000-1730305800@sciencenter.org
SUMMARY:Animal Feeding
DESCRIPTION:Join an Animal Keeper to observe snakes\, lizards\, frogs\, and fish snacking on their preferred prey.
URL:https://sciencenter.org/event/animal-feeding-2-2-2/2024-10-30/
LOCATION:Sciencenter\, 601 1st Street\, Ithaca\, NY\, 14850\, United States
ATTACH;FMTTYPE=image/png:https://sciencenter.org/wp-content/uploads/Animal-Feeding.png
END:VEVENT
BEGIN:VEVENT
DTSTART;TZID=America/New_York:20241030T103000
DTEND;TZID=America/New_York:20241030T110000
DTSTAMP:20260419T221330
CREATED:20240828T135511Z
LAST-MODIFIED:20240828T135511Z
UID:10002050-1730284200-1730286000@sciencenter.org
SUMMARY:Science Together: Worms
DESCRIPTION:Observe and measure live worms! \nScience Together activities are designed for ages 0-4.
URL:https://sciencenter.org/event/science-together-worms-4/2024-10-30/
LOCATION:Sciencenter\, 601 1st Street\, Ithaca\, NY\, 14850\, United States
ATTACH;FMTTYPE=image/jpeg:https://sciencenter.org/wp-content/uploads/Worms.jpg
END:VEVENT
BEGIN:VEVENT
DTSTART;TZID=America/New_York:20241029T103000
DTEND;TZID=America/New_York:20241029T110000
DTSTAMP:20260419T221330
CREATED:20240828T135511Z
LAST-MODIFIED:20240828T135511Z
UID:10002049-1730197800-1730199600@sciencenter.org
SUMMARY:Science Together: Worms
DESCRIPTION:Observe and measure live worms! \nScience Together activities are designed for ages 0-4.
URL:https://sciencenter.org/event/science-together-worms-4/2024-10-29/
LOCATION:Sciencenter\, 601 1st Street\, Ithaca\, NY\, 14850\, United States
ATTACH;FMTTYPE=image/jpeg:https://sciencenter.org/wp-content/uploads/Worms.jpg
END:VEVENT
BEGIN:VEVENT
DTSTART;TZID=America/New_York:20241027T120000
DTEND;TZID=America/New_York:20241027T160000
DTSTAMP:20260419T221330
CREATED:20240910T151404Z
LAST-MODIFIED:20241007T144653Z
UID:10002161-1730030400-1730044800@sciencenter.org
SUMMARY:Spooky Science
DESCRIPTION:Join us for our annual free community event\, Spooky Science\, on Sunday\, October 27th. Families are invited to explore the museum in their favorite costumes and enjoy a day of eerie experiments\, hands-on activities\, and Halloween magic. It will be a spooky blast – perfect for kids of all ages. \nSpooky Science is sponsored by Tompkins County Tourism Program and Cornell University Community Relations.
URL:https://sciencenter.org/event/spooky-science/
LOCATION:Sciencenter\, 601 1st Street\, Ithaca\, NY\, 14850\, United States
ATTACH;FMTTYPE=image/png:https://sciencenter.org/wp-content/uploads/Spooky-Science-Website-Graphic-2024-1.png
END:VEVENT
BEGIN:VEVENT
DTSTART;TZID=America/New_York:20241025T103000
DTEND;TZID=America/New_York:20241025T110000
DTSTAMP:20260419T221330
CREATED:20240828T135319Z
LAST-MODIFIED:20240904T144349Z
UID:10002044-1729852200-1729854000@sciencenter.org
SUMMARY:Science Together: Flubber
DESCRIPTION:Use a variety of tools to explore and make observations about the fun properties of Flubber! \nScience Together activities are designed for ages 0-4.
URL:https://sciencenter.org/event/science-together-flubber-6/2024-10-25/
LOCATION:Sciencenter\, 601 1st Street\, Ithaca\, NY\, 14850\, United States
ATTACH;FMTTYPE=image/png:https://sciencenter.org/wp-content/uploads/Flubber-3.png
END:VEVENT
BEGIN:VEVENT
DTSTART;TZID=America/New_York:20241024T103000
DTEND;TZID=America/New_York:20241024T110000
DTSTAMP:20260419T221330
CREATED:20240828T135319Z
LAST-MODIFIED:20240904T144349Z
UID:10002043-1729765800-1729767600@sciencenter.org
SUMMARY:Science Together: Flubber
DESCRIPTION:Use a variety of tools to explore and make observations about the fun properties of Flubber! \nScience Together activities are designed for ages 0-4.
URL:https://sciencenter.org/event/science-together-flubber-6/2024-10-24/
LOCATION:Sciencenter\, 601 1st Street\, Ithaca\, NY\, 14850\, United States
ATTACH;FMTTYPE=image/png:https://sciencenter.org/wp-content/uploads/Flubber-3.png
END:VEVENT
BEGIN:VEVENT
DTSTART;TZID=America/New_York:20241023T160000
DTEND;TZID=America/New_York:20241023T163000
DTSTAMP:20260419T221330
CREATED:20240904T145525Z
LAST-MODIFIED:20260206T205945Z
UID:10000615-1729699200-1729701000@sciencenter.org
SUMMARY:Animal Feeding
DESCRIPTION:Join an Animal Keeper to observe snakes\, lizards\, frogs\, and fish snacking on their preferred prey.
URL:https://sciencenter.org/event/animal-feeding-2-2-2/2024-10-23/
LOCATION:Sciencenter\, 601 1st Street\, Ithaca\, NY\, 14850\, United States
ATTACH;FMTTYPE=image/png:https://sciencenter.org/wp-content/uploads/Animal-Feeding.png
END:VEVENT
BEGIN:VEVENT
DTSTART;TZID=America/New_York:20241023T103000
DTEND;TZID=America/New_York:20241023T110000
DTSTAMP:20260419T221330
CREATED:20240828T135319Z
LAST-MODIFIED:20240904T144349Z
UID:10002042-1729679400-1729681200@sciencenter.org
SUMMARY:Science Together: Flubber
DESCRIPTION:Use a variety of tools to explore and make observations about the fun properties of Flubber! \nScience Together activities are designed for ages 0-4.
URL:https://sciencenter.org/event/science-together-flubber-6/2024-10-23/
LOCATION:Sciencenter\, 601 1st Street\, Ithaca\, NY\, 14850\, United States
ATTACH;FMTTYPE=image/png:https://sciencenter.org/wp-content/uploads/Flubber-3.png
END:VEVENT
BEGIN:VEVENT
DTSTART;TZID=America/New_York:20241022T103000
DTEND;TZID=America/New_York:20241022T110000
DTSTAMP:20260419T221330
CREATED:20240828T135319Z
LAST-MODIFIED:20240904T144349Z
UID:10002041-1729593000-1729594800@sciencenter.org
SUMMARY:Science Together: Flubber
DESCRIPTION:Use a variety of tools to explore and make observations about the fun properties of Flubber! \nScience Together activities are designed for ages 0-4.
URL:https://sciencenter.org/event/science-together-flubber-6/2024-10-22/
LOCATION:Sciencenter\, 601 1st Street\, Ithaca\, NY\, 14850\, United States
ATTACH;FMTTYPE=image/png:https://sciencenter.org/wp-content/uploads/Flubber-3.png
END:VEVENT
BEGIN:VEVENT
DTSTART;TZID=America/New_York:20241020T140000
DTEND;TZID=America/New_York:20241020T150000
DTSTAMP:20260419T221330
CREATED:20241002T201729Z
LAST-MODIFIED:20241007T163558Z
UID:10002166-1729432800-1729436400@sciencenter.org
SUMMARY:Science Connections: Wharton Studio Museum
DESCRIPTION:October is Silent Movie Month! Join the Wharton Studio Museum in making flipsticks to demonstrate the art & science of silent movie making.
URL:https://sciencenter.org/event/science-connections-wharton-studio-museum/
LOCATION:Sciencenter\, 601 1st Street\, Ithaca\, NY\, 14850\, United States
ATTACH;FMTTYPE=image/png:https://sciencenter.org/wp-content/uploads/Science-Connections-Wharton-Studio-Museum.png
END:VEVENT
BEGIN:VEVENT
DTSTART;TZID=America/New_York:20241018T103000
DTEND;TZID=America/New_York:20241018T110000
DTSTAMP:20260419T221330
CREATED:20240828T135153Z
LAST-MODIFIED:20240828T135153Z
UID:10002038-1729247400-1729249200@sciencenter.org
SUMMARY:Science Together: Flower Dissection
DESCRIPTION:Practice using tools and making observations as we look at all the parts of a flower! \nScience Together activities are designed for ages 0-4.
URL:https://sciencenter.org/event/science-together-flower-dissection-2/2024-10-18/
LOCATION:Sciencenter\, 601 1st Street\, Ithaca\, NY\, 14850\, United States
ATTACH;FMTTYPE=image/jpeg:https://sciencenter.org/wp-content/uploads/FlowerDissection-.jpg
END:VEVENT
BEGIN:VEVENT
DTSTART;TZID=America/New_York:20241017T103000
DTEND;TZID=America/New_York:20241017T110000
DTSTAMP:20260419T221330
CREATED:20240828T135153Z
LAST-MODIFIED:20240828T135153Z
UID:10002037-1729161000-1729162800@sciencenter.org
SUMMARY:Science Together: Flower Dissection
DESCRIPTION:Practice using tools and making observations as we look at all the parts of a flower! \nScience Together activities are designed for ages 0-4.
URL:https://sciencenter.org/event/science-together-flower-dissection-2/2024-10-17/
LOCATION:Sciencenter\, 601 1st Street\, Ithaca\, NY\, 14850\, United States
ATTACH;FMTTYPE=image/jpeg:https://sciencenter.org/wp-content/uploads/FlowerDissection-.jpg
END:VEVENT
BEGIN:VEVENT
DTSTART;TZID=America/New_York:20241016T160000
DTEND;TZID=America/New_York:20241016T163000
DTSTAMP:20260419T221330
CREATED:20240904T145525Z
LAST-MODIFIED:20260206T205945Z
UID:10000614-1729094400-1729096200@sciencenter.org
SUMMARY:Animal Feeding
DESCRIPTION:Join an Animal Keeper to observe snakes\, lizards\, frogs\, and fish snacking on their preferred prey.
URL:https://sciencenter.org/event/animal-feeding-2-2-2/2024-10-16/
LOCATION:Sciencenter\, 601 1st Street\, Ithaca\, NY\, 14850\, United States
ATTACH;FMTTYPE=image/png:https://sciencenter.org/wp-content/uploads/Animal-Feeding.png
END:VEVENT
BEGIN:VEVENT
DTSTART;TZID=America/New_York:20241016T103000
DTEND;TZID=America/New_York:20241016T110000
DTSTAMP:20260419T221330
CREATED:20240828T135153Z
LAST-MODIFIED:20240828T135153Z
UID:10002036-1729074600-1729076400@sciencenter.org
SUMMARY:Science Together: Flower Dissection
DESCRIPTION:Practice using tools and making observations as we look at all the parts of a flower! \nScience Together activities are designed for ages 0-4.
URL:https://sciencenter.org/event/science-together-flower-dissection-2/2024-10-16/
LOCATION:Sciencenter\, 601 1st Street\, Ithaca\, NY\, 14850\, United States
ATTACH;FMTTYPE=image/jpeg:https://sciencenter.org/wp-content/uploads/FlowerDissection-.jpg
END:VEVENT
BEGIN:VEVENT
DTSTART;TZID=America/New_York:20241015T103000
DTEND;TZID=America/New_York:20241015T110000
DTSTAMP:20260419T221330
CREATED:20240828T135153Z
LAST-MODIFIED:20240828T135153Z
UID:10002035-1728988200-1728990000@sciencenter.org
SUMMARY:Science Together: Flower Dissection
DESCRIPTION:Practice using tools and making observations as we look at all the parts of a flower! \nScience Together activities are designed for ages 0-4.
URL:https://sciencenter.org/event/science-together-flower-dissection-2/2024-10-15/
LOCATION:Sciencenter\, 601 1st Street\, Ithaca\, NY\, 14850\, United States
ATTACH;FMTTYPE=image/jpeg:https://sciencenter.org/wp-content/uploads/FlowerDissection-.jpg
END:VEVENT
BEGIN:VEVENT
DTSTART;TZID=America/New_York:20241013T140000
DTEND;TZID=America/New_York:20241013T150000
DTSTAMP:20260419T221330
CREATED:20240927T183753Z
LAST-MODIFIED:20241211T202445Z
UID:10002164-1728828000-1728831600@sciencenter.org
SUMMARY:Science Connections: Naturalist Outreach
DESCRIPTION:Join us for a special Science Connections series in partnership with Cornell’s Naturalist Outreach Program featuring insects\, reptiles\, and birds!
URL:https://sciencenter.org/event/science-connections-naturalist-outreach/2024-10-13/
LOCATION:Sciencenter\, 601 1st Street\, Ithaca\, NY\, 14850\, United States
ATTACH;FMTTYPE=image/png:https://sciencenter.org/wp-content/uploads/Science-Connections-Naturalist-Outreach-1200-x-675-px-2-1.png
END:VEVENT
BEGIN:VEVENT
DTSTART;TZID=America/New_York:20241011T103000
DTEND;TZID=America/New_York:20241011T110000
DTSTAMP:20260419T221330
CREATED:20240828T134425Z
LAST-MODIFIED:20240828T134425Z
UID:10002030-1728642600-1728644400@sciencenter.org
SUMMARY:Science Together: Baking Soda and Vinegar
DESCRIPTION:Explore the process of experimentation as you create chemical reactions with baking soda and vinegar! \nScience Together activities are designed for ages 0-4.
URL:https://sciencenter.org/event/science-together-baking-soda-and-vinegar-5/2024-10-11/
LOCATION:Sciencenter\, 601 1st Street\, Ithaca\, NY\, 14850\, United States
ATTACH;FMTTYPE=image/jpeg:https://sciencenter.org/wp-content/uploads/BakingSodaVinegar.jpg
END:VEVENT
BEGIN:VEVENT
DTSTART;TZID=America/New_York:20241010T103000
DTEND;TZID=America/New_York:20241010T110000
DTSTAMP:20260419T221330
CREATED:20240828T134425Z
LAST-MODIFIED:20240828T134425Z
UID:10002029-1728556200-1728558000@sciencenter.org
SUMMARY:Science Together: Baking Soda and Vinegar
DESCRIPTION:Explore the process of experimentation as you create chemical reactions with baking soda and vinegar! \nScience Together activities are designed for ages 0-4.
URL:https://sciencenter.org/event/science-together-baking-soda-and-vinegar-5/2024-10-10/
LOCATION:Sciencenter\, 601 1st Street\, Ithaca\, NY\, 14850\, United States
ATTACH;FMTTYPE=image/jpeg:https://sciencenter.org/wp-content/uploads/BakingSodaVinegar.jpg
END:VEVENT
BEGIN:VEVENT
DTSTART;TZID=America/New_York:20241009T160000
DTEND;TZID=America/New_York:20241009T163000
DTSTAMP:20260419T221330
CREATED:20240904T145525Z
LAST-MODIFIED:20260206T205945Z
UID:10000613-1728489600-1728491400@sciencenter.org
SUMMARY:Animal Feeding
DESCRIPTION:Join an Animal Keeper to observe snakes\, lizards\, frogs\, and fish snacking on their preferred prey.
URL:https://sciencenter.org/event/animal-feeding-2-2-2/2024-10-09/
LOCATION:Sciencenter\, 601 1st Street\, Ithaca\, NY\, 14850\, United States
ATTACH;FMTTYPE=image/png:https://sciencenter.org/wp-content/uploads/Animal-Feeding.png
END:VEVENT
BEGIN:VEVENT
DTSTART;TZID=America/New_York:20241009T103000
DTEND;TZID=America/New_York:20241009T110000
DTSTAMP:20260419T221330
CREATED:20240828T134425Z
LAST-MODIFIED:20240828T134425Z
UID:10002028-1728469800-1728471600@sciencenter.org
SUMMARY:Science Together: Baking Soda and Vinegar
DESCRIPTION:Explore the process of experimentation as you create chemical reactions with baking soda and vinegar! \nScience Together activities are designed for ages 0-4.
URL:https://sciencenter.org/event/science-together-baking-soda-and-vinegar-5/2024-10-09/
LOCATION:Sciencenter\, 601 1st Street\, Ithaca\, NY\, 14850\, United States
ATTACH;FMTTYPE=image/jpeg:https://sciencenter.org/wp-content/uploads/BakingSodaVinegar.jpg
END:VEVENT
BEGIN:VEVENT
DTSTART;TZID=America/New_York:20241008T103000
DTEND;TZID=America/New_York:20241008T110000
DTSTAMP:20260419T221330
CREATED:20240828T134425Z
LAST-MODIFIED:20240828T134425Z
UID:10002027-1728383400-1728385200@sciencenter.org
SUMMARY:Science Together: Baking Soda and Vinegar
DESCRIPTION:Explore the process of experimentation as you create chemical reactions with baking soda and vinegar! \nScience Together activities are designed for ages 0-4.
URL:https://sciencenter.org/event/science-together-baking-soda-and-vinegar-5/2024-10-08/
LOCATION:Sciencenter\, 601 1st Street\, Ithaca\, NY\, 14850\, United States
ATTACH;FMTTYPE=image/jpeg:https://sciencenter.org/wp-content/uploads/BakingSodaVinegar.jpg
END:VEVENT
BEGIN:VEVENT
DTSTART;TZID=America/New_York:20241006T140000
DTEND;TZID=America/New_York:20241006T150000
DTSTAMP:20260419T221330
CREATED:20240927T183753Z
LAST-MODIFIED:20241211T202445Z
UID:10002163-1728223200-1728226800@sciencenter.org
SUMMARY:Science Connections: Naturalist Outreach
DESCRIPTION:Join us for a special Science Connections series in partnership with Cornell’s Naturalist Outreach Program featuring insects\, reptiles\, and birds!
URL:https://sciencenter.org/event/science-connections-naturalist-outreach/2024-10-06/
LOCATION:Sciencenter\, 601 1st Street\, Ithaca\, NY\, 14850\, United States
ATTACH;FMTTYPE=image/png:https://sciencenter.org/wp-content/uploads/Science-Connections-Naturalist-Outreach-1200-x-675-px-2-1.png
END:VEVENT
BEGIN:VEVENT
DTSTART;TZID=America/New_York:20241004T103000
DTEND;TZID=America/New_York:20241004T110000
DTSTAMP:20260419T221330
CREATED:20240828T134304Z
LAST-MODIFIED:20240828T134304Z
UID:10002024-1728037800-1728039600@sciencenter.org
SUMMARY:Science Together: Magnet Fishing
DESCRIPTION:Sort and count the fish you catch! \nScience Together activities are designed for ages 0-4.
URL:https://sciencenter.org/event/science-together-magnet-fishing-5/2024-10-04/
LOCATION:Sciencenter\, 601 1st Street\, Ithaca\, NY\, 14850\, United States
ATTACH;FMTTYPE=image/png:https://sciencenter.org/wp-content/uploads/Magnet-Fishing.png
END:VEVENT
BEGIN:VEVENT
DTSTART;TZID=America/New_York:20241003T103000
DTEND;TZID=America/New_York:20241003T113000
DTSTAMP:20260419T221330
CREATED:20240925T180005Z
LAST-MODIFIED:20240925T180005Z
UID:10002162-1727951400-1727955000@sciencenter.org
SUMMARY:Playtime with Finger Lakes Toy Library
DESCRIPTION:Join the Sciencenter and the Finger Lakes Toy Library for our October playtime!
URL:https://sciencenter.org/event/playtime-with-finger-lakes-toy-library-4/
LOCATION:Sciencenter\, 601 1st Street\, Ithaca\, NY\, 14850\, United States
ATTACH;FMTTYPE=image/png:https://sciencenter.org/wp-content/uploads/Playtime-with-FLTL.png
END:VEVENT
BEGIN:VEVENT
DTSTART;TZID=America/New_York:20241003T103000
DTEND;TZID=America/New_York:20241003T110000
DTSTAMP:20260419T221330
CREATED:20240828T134304Z
LAST-MODIFIED:20240828T134304Z
UID:10002023-1727951400-1727953200@sciencenter.org
SUMMARY:Science Together: Magnet Fishing
DESCRIPTION:Sort and count the fish you catch! \nScience Together activities are designed for ages 0-4.
URL:https://sciencenter.org/event/science-together-magnet-fishing-5/2024-10-03/
LOCATION:Sciencenter\, 601 1st Street\, Ithaca\, NY\, 14850\, United States
ATTACH;FMTTYPE=image/png:https://sciencenter.org/wp-content/uploads/Magnet-Fishing.png
END:VEVENT
BEGIN:VEVENT
DTSTART;TZID=America/New_York:20241002T160000
DTEND;TZID=America/New_York:20241002T163000
DTSTAMP:20260419T221330
CREATED:20240904T145525Z
LAST-MODIFIED:20260206T205945Z
UID:10000612-1727884800-1727886600@sciencenter.org
SUMMARY:Animal Feeding
DESCRIPTION:Join an Animal Keeper to observe snakes\, lizards\, frogs\, and fish snacking on their preferred prey.
URL:https://sciencenter.org/event/animal-feeding-2-2-2/2024-10-02/
LOCATION:Sciencenter\, 601 1st Street\, Ithaca\, NY\, 14850\, United States
ATTACH;FMTTYPE=image/png:https://sciencenter.org/wp-content/uploads/Animal-Feeding.png
END:VEVENT
BEGIN:VEVENT
DTSTART;TZID=America/New_York:20241002T103000
DTEND;TZID=America/New_York:20241002T110000
DTSTAMP:20260419T221330
CREATED:20240828T134304Z
LAST-MODIFIED:20240828T134304Z
UID:10002022-1727865000-1727866800@sciencenter.org
SUMMARY:Science Together: Magnet Fishing
DESCRIPTION:Sort and count the fish you catch! \nScience Together activities are designed for ages 0-4.
URL:https://sciencenter.org/event/science-together-magnet-fishing-5/2024-10-02/
LOCATION:Sciencenter\, 601 1st Street\, Ithaca\, NY\, 14850\, United States
ATTACH;FMTTYPE=image/png:https://sciencenter.org/wp-content/uploads/Magnet-Fishing.png
END:VEVENT
END:VCALENDAR