BEGIN:VCALENDAR
VERSION:2.0
PRODID:-//Sciencenter - ECPv6.15.20//NONSGML v1.0//EN
CALSCALE:GREGORIAN
METHOD:PUBLISH
X-WR-CALNAME:Sciencenter
X-ORIGINAL-URL:https://sciencenter.org
X-WR-CALDESC:Events for Sciencenter
REFRESH-INTERVAL;VALUE=DURATION:PT1H
X-Robots-Tag:noindex
X-PUBLISHED-TTL:PT1H
BEGIN:VTIMEZONE
TZID:America/New_York
BEGIN:DAYLIGHT
TZOFFSETFROM:-0500
TZOFFSETTO:-0400
TZNAME:EDT
DTSTART:20230312T070000
END:DAYLIGHT
BEGIN:STANDARD
TZOFFSETFROM:-0400
TZOFFSETTO:-0500
TZNAME:EST
DTSTART:20231105T060000
END:STANDARD
BEGIN:DAYLIGHT
TZOFFSETFROM:-0500
TZOFFSETTO:-0400
TZNAME:EDT
DTSTART:20240310T070000
END:DAYLIGHT
BEGIN:STANDARD
TZOFFSETFROM:-0400
TZOFFSETTO:-0500
TZNAME:EST
DTSTART:20241103T060000
END:STANDARD
BEGIN:DAYLIGHT
TZOFFSETFROM:-0500
TZOFFSETTO:-0400
TZNAME:EDT
DTSTART:20250309T070000
END:DAYLIGHT
BEGIN:STANDARD
TZOFFSETFROM:-0400
TZOFFSETTO:-0500
TZNAME:EST
DTSTART:20251102T060000
END:STANDARD
END:VTIMEZONE
BEGIN:VEVENT
DTSTART;TZID=America/New_York:20241129T103000
DTEND;TZID=America/New_York:20241129T110000
DTSTAMP:20260419T202959
CREATED:20240904T144312Z
LAST-MODIFIED:20240904T145131Z
UID:10002082-1732876200-1732878000@sciencenter.org
SUMMARY:Science Together: Flubber
DESCRIPTION:Use a variety of tools to explore and make observations about the fun properties of Flubber! \nScience Together activities are designed for ages 0-4.
URL:https://sciencenter.org/event/science-together-flubber-7/2024-11-29/
LOCATION:Sciencenter\, 601 1st Street\, Ithaca\, NY\, 14850\, United States
ATTACH;FMTTYPE=image/png:https://sciencenter.org/wp-content/uploads/Flubber-3.png
END:VEVENT
BEGIN:VEVENT
DTSTART;TZID=America/New_York:20241127T160000
DTEND;TZID=America/New_York:20241127T163000
DTSTAMP:20260419T202959
CREATED:20240904T145525Z
LAST-MODIFIED:20260206T205945Z
UID:10000620-1732723200-1732725000@sciencenter.org
SUMMARY:Animal Feeding
DESCRIPTION:Join an Animal Keeper to observe snakes\, lizards\, frogs\, and fish snacking on their preferred prey.
URL:https://sciencenter.org/event/animal-feeding-2-2-2/2024-11-27/
LOCATION:Sciencenter\, 601 1st Street\, Ithaca\, NY\, 14850\, United States
ATTACH;FMTTYPE=image/png:https://sciencenter.org/wp-content/uploads/Animal-Feeding.png
END:VEVENT
BEGIN:VEVENT
DTSTART;TZID=America/New_York:20241127T103000
DTEND;TZID=America/New_York:20241127T110000
DTSTAMP:20260419T202959
CREATED:20240904T144312Z
LAST-MODIFIED:20240904T145131Z
UID:10002080-1732703400-1732705200@sciencenter.org
SUMMARY:Science Together: Flubber
DESCRIPTION:Use a variety of tools to explore and make observations about the fun properties of Flubber! \nScience Together activities are designed for ages 0-4.
URL:https://sciencenter.org/event/science-together-flubber-7/2024-11-27/
LOCATION:Sciencenter\, 601 1st Street\, Ithaca\, NY\, 14850\, United States
ATTACH;FMTTYPE=image/png:https://sciencenter.org/wp-content/uploads/Flubber-3.png
END:VEVENT
BEGIN:VEVENT
DTSTART;TZID=America/New_York:20241126T103000
DTEND;TZID=America/New_York:20241126T110000
DTSTAMP:20260419T202959
CREATED:20240904T144312Z
LAST-MODIFIED:20240904T145131Z
UID:10002079-1732617000-1732618800@sciencenter.org
SUMMARY:Science Together: Flubber
DESCRIPTION:Use a variety of tools to explore and make observations about the fun properties of Flubber! \nScience Together activities are designed for ages 0-4.
URL:https://sciencenter.org/event/science-together-flubber-7/2024-11-26/
LOCATION:Sciencenter\, 601 1st Street\, Ithaca\, NY\, 14850\, United States
ATTACH;FMTTYPE=image/png:https://sciencenter.org/wp-content/uploads/Flubber-3.png
END:VEVENT
BEGIN:VEVENT
DTSTART;TZID=America/New_York:20241124T140000
DTEND;TZID=America/New_York:20241124T150000
DTSTAMP:20260419T202959
CREATED:20240927T183753Z
LAST-MODIFIED:20241211T202445Z
UID:10002170-1732456800-1732460400@sciencenter.org
SUMMARY:Science Connections: Naturalist Outreach
DESCRIPTION:Join us for a special Science Connections series in partnership with Cornell’s Naturalist Outreach Program featuring insects\, reptiles\, and birds!
URL:https://sciencenter.org/event/science-connections-naturalist-outreach/2024-11-24/
LOCATION:Sciencenter\, 601 1st Street\, Ithaca\, NY\, 14850\, United States
ATTACH;FMTTYPE=image/png:https://sciencenter.org/wp-content/uploads/Science-Connections-Naturalist-Outreach-1200-x-675-px-2-1.png
END:VEVENT
BEGIN:VEVENT
DTSTART;TZID=America/New_York:20241122T103000
DTEND;TZID=America/New_York:20241122T110000
DTSTAMP:20260419T202959
CREATED:20240904T144022Z
LAST-MODIFIED:20240904T144022Z
UID:10002074-1732271400-1732273200@sciencenter.org
SUMMARY:Science Together: Roller Coasters
DESCRIPTION:Explore ups and downs as you make and test a roller coaster! \nScience Together activities are designed for ages 0-4.
URL:https://sciencenter.org/event/science-together-roller-coasters-6/2024-11-22/
LOCATION:Sciencenter\, 601 1st Street\, Ithaca\, NY\, 14850\, United States
ATTACH;FMTTYPE=image/jpeg:https://sciencenter.org/wp-content/uploads/RollerCoasters.jpg
END:VEVENT
BEGIN:VEVENT
DTSTART;TZID=America/New_York:20241121T103000
DTEND;TZID=America/New_York:20241121T110000
DTSTAMP:20260419T202959
CREATED:20240904T144022Z
LAST-MODIFIED:20240904T144022Z
UID:10002073-1732185000-1732186800@sciencenter.org
SUMMARY:Science Together: Roller Coasters
DESCRIPTION:Explore ups and downs as you make and test a roller coaster! \nScience Together activities are designed for ages 0-4.
URL:https://sciencenter.org/event/science-together-roller-coasters-6/2024-11-21/
LOCATION:Sciencenter\, 601 1st Street\, Ithaca\, NY\, 14850\, United States
ATTACH;FMTTYPE=image/jpeg:https://sciencenter.org/wp-content/uploads/RollerCoasters.jpg
END:VEVENT
BEGIN:VEVENT
DTSTART;TZID=America/New_York:20241120T160000
DTEND;TZID=America/New_York:20241120T163000
DTSTAMP:20260419T202959
CREATED:20240904T145525Z
LAST-MODIFIED:20260206T205945Z
UID:10000619-1732118400-1732120200@sciencenter.org
SUMMARY:Animal Feeding
DESCRIPTION:Join an Animal Keeper to observe snakes\, lizards\, frogs\, and fish snacking on their preferred prey.
URL:https://sciencenter.org/event/animal-feeding-2-2-2/2024-11-20/
LOCATION:Sciencenter\, 601 1st Street\, Ithaca\, NY\, 14850\, United States
ATTACH;FMTTYPE=image/png:https://sciencenter.org/wp-content/uploads/Animal-Feeding.png
END:VEVENT
BEGIN:VEVENT
DTSTART;TZID=America/New_York:20241120T103000
DTEND;TZID=America/New_York:20241120T110000
DTSTAMP:20260419T202959
CREATED:20240904T144022Z
LAST-MODIFIED:20240904T144022Z
UID:10002072-1732098600-1732100400@sciencenter.org
SUMMARY:Science Together: Roller Coasters
DESCRIPTION:Explore ups and downs as you make and test a roller coaster! \nScience Together activities are designed for ages 0-4.
URL:https://sciencenter.org/event/science-together-roller-coasters-6/2024-11-20/
LOCATION:Sciencenter\, 601 1st Street\, Ithaca\, NY\, 14850\, United States
ATTACH;FMTTYPE=image/jpeg:https://sciencenter.org/wp-content/uploads/RollerCoasters.jpg
END:VEVENT
BEGIN:VEVENT
DTSTART;TZID=America/New_York:20241119T103000
DTEND;TZID=America/New_York:20241119T110000
DTSTAMP:20260419T202959
CREATED:20240904T144022Z
LAST-MODIFIED:20240904T144022Z
UID:10002071-1732012200-1732014000@sciencenter.org
SUMMARY:Science Together: Roller Coasters
DESCRIPTION:Explore ups and downs as you make and test a roller coaster! \nScience Together activities are designed for ages 0-4.
URL:https://sciencenter.org/event/science-together-roller-coasters-6/2024-11-19/
LOCATION:Sciencenter\, 601 1st Street\, Ithaca\, NY\, 14850\, United States
ATTACH;FMTTYPE=image/jpeg:https://sciencenter.org/wp-content/uploads/RollerCoasters.jpg
END:VEVENT
BEGIN:VEVENT
DTSTART;TZID=America/New_York:20241117T140000
DTEND;TZID=America/New_York:20241117T150000
DTSTAMP:20260419T202959
CREATED:20240927T183753Z
LAST-MODIFIED:20241211T202445Z
UID:10002169-1731852000-1731855600@sciencenter.org
SUMMARY:Science Connections: Naturalist Outreach
DESCRIPTION:Join us for a special Science Connections series in partnership with Cornell’s Naturalist Outreach Program featuring insects\, reptiles\, and birds!
URL:https://sciencenter.org/event/science-connections-naturalist-outreach/2024-11-17/
LOCATION:Sciencenter\, 601 1st Street\, Ithaca\, NY\, 14850\, United States
ATTACH;FMTTYPE=image/png:https://sciencenter.org/wp-content/uploads/Science-Connections-Naturalist-Outreach-1200-x-675-px-2-1.png
END:VEVENT
BEGIN:VEVENT
DTSTART;TZID=America/New_York:20241115T103000
DTEND;TZID=America/New_York:20241115T110000
DTSTAMP:20260419T202959
CREATED:20240828T135836Z
LAST-MODIFIED:20240828T135836Z
UID:10002066-1731666600-1731668400@sciencenter.org
SUMMARY:Science Together: Ice Melting
DESCRIPTION:Test out different methods to melt ice with tools like warm water and salt. See if you can rescue an animal trapped in ice! \nScience Together activities are designed for ages 0-4.
URL:https://sciencenter.org/event/science-together-ice-melting-6/2024-11-15/
LOCATION:Sciencenter\, 601 1st Street\, Ithaca\, NY\, 14850\, United States
ATTACH;FMTTYPE=image/jpeg:https://sciencenter.org/wp-content/uploads/Ice-Melting-1.jpg
END:VEVENT
BEGIN:VEVENT
DTSTART;TZID=America/New_York:20241114T103000
DTEND;TZID=America/New_York:20241114T110000
DTSTAMP:20260419T202959
CREATED:20240828T135836Z
LAST-MODIFIED:20240828T135836Z
UID:10002065-1731580200-1731582000@sciencenter.org
SUMMARY:Science Together: Ice Melting
DESCRIPTION:Test out different methods to melt ice with tools like warm water and salt. See if you can rescue an animal trapped in ice! \nScience Together activities are designed for ages 0-4.
URL:https://sciencenter.org/event/science-together-ice-melting-6/2024-11-14/
LOCATION:Sciencenter\, 601 1st Street\, Ithaca\, NY\, 14850\, United States
ATTACH;FMTTYPE=image/jpeg:https://sciencenter.org/wp-content/uploads/Ice-Melting-1.jpg
END:VEVENT
BEGIN:VEVENT
DTSTART;TZID=America/New_York:20241113T160000
DTEND;TZID=America/New_York:20241113T163000
DTSTAMP:20260419T202959
CREATED:20240904T145525Z
LAST-MODIFIED:20260206T205945Z
UID:10000618-1731513600-1731515400@sciencenter.org
SUMMARY:Animal Feeding
DESCRIPTION:Join an Animal Keeper to observe snakes\, lizards\, frogs\, and fish snacking on their preferred prey.
URL:https://sciencenter.org/event/animal-feeding-2-2-2/2024-11-13/
LOCATION:Sciencenter\, 601 1st Street\, Ithaca\, NY\, 14850\, United States
ATTACH;FMTTYPE=image/png:https://sciencenter.org/wp-content/uploads/Animal-Feeding.png
END:VEVENT
BEGIN:VEVENT
DTSTART;TZID=America/New_York:20241113T103000
DTEND;TZID=America/New_York:20241113T110000
DTSTAMP:20260419T202959
CREATED:20240828T135836Z
LAST-MODIFIED:20240828T135836Z
UID:10002064-1731493800-1731495600@sciencenter.org
SUMMARY:Science Together: Ice Melting
DESCRIPTION:Test out different methods to melt ice with tools like warm water and salt. See if you can rescue an animal trapped in ice! \nScience Together activities are designed for ages 0-4.
URL:https://sciencenter.org/event/science-together-ice-melting-6/2024-11-13/
LOCATION:Sciencenter\, 601 1st Street\, Ithaca\, NY\, 14850\, United States
ATTACH;FMTTYPE=image/jpeg:https://sciencenter.org/wp-content/uploads/Ice-Melting-1.jpg
END:VEVENT
BEGIN:VEVENT
DTSTART;TZID=America/New_York:20241112T103000
DTEND;TZID=America/New_York:20241112T110000
DTSTAMP:20260419T202959
CREATED:20240828T135836Z
LAST-MODIFIED:20240828T135836Z
UID:10002063-1731407400-1731409200@sciencenter.org
SUMMARY:Science Together: Ice Melting
DESCRIPTION:Test out different methods to melt ice with tools like warm water and salt. See if you can rescue an animal trapped in ice! \nScience Together activities are designed for ages 0-4.
URL:https://sciencenter.org/event/science-together-ice-melting-6/2024-11-12/
LOCATION:Sciencenter\, 601 1st Street\, Ithaca\, NY\, 14850\, United States
ATTACH;FMTTYPE=image/jpeg:https://sciencenter.org/wp-content/uploads/Ice-Melting-1.jpg
END:VEVENT
BEGIN:VEVENT
DTSTART;TZID=America/New_York:20241110T140000
DTEND;TZID=America/New_York:20241110T150000
DTSTAMP:20260419T202959
CREATED:20240927T183753Z
LAST-MODIFIED:20241211T202445Z
UID:10002168-1731247200-1731250800@sciencenter.org
SUMMARY:Science Connections: Naturalist Outreach
DESCRIPTION:Join us for a special Science Connections series in partnership with Cornell’s Naturalist Outreach Program featuring insects\, reptiles\, and birds!
URL:https://sciencenter.org/event/science-connections-naturalist-outreach/2024-11-10/
LOCATION:Sciencenter\, 601 1st Street\, Ithaca\, NY\, 14850\, United States
ATTACH;FMTTYPE=image/png:https://sciencenter.org/wp-content/uploads/Science-Connections-Naturalist-Outreach-1200-x-675-px-2-1.png
END:VEVENT
BEGIN:VEVENT
DTSTART;TZID=America/New_York:20241108T103000
DTEND;TZID=America/New_York:20241108T110000
DTSTAMP:20260419T202959
CREATED:20240828T135645Z
LAST-MODIFIED:20240828T135645Z
UID:10002058-1731061800-1731063600@sciencenter.org
SUMMARY:Science Together: Sink or Float
DESCRIPTION:Test and sort items with a water play\, sink or float experiment! \nScience Together activities are designed for ages 0-4.
URL:https://sciencenter.org/event/science-together-sink-or-float-6/2024-11-08/
LOCATION:Sciencenter\, 601 1st Street\, Ithaca\, NY\, 14850\, United States
ATTACH;FMTTYPE=image/jpeg:https://sciencenter.org/wp-content/uploads/Sink-or-Float.jpg
END:VEVENT
BEGIN:VEVENT
DTSTART;TZID=America/New_York:20241107T103000
DTEND;TZID=America/New_York:20241107T110000
DTSTAMP:20260419T202959
CREATED:20240828T135645Z
LAST-MODIFIED:20240828T135645Z
UID:10002057-1730975400-1730977200@sciencenter.org
SUMMARY:Science Together: Sink or Float
DESCRIPTION:Test and sort items with a water play\, sink or float experiment! \nScience Together activities are designed for ages 0-4.
URL:https://sciencenter.org/event/science-together-sink-or-float-6/2024-11-07/
LOCATION:Sciencenter\, 601 1st Street\, Ithaca\, NY\, 14850\, United States
ATTACH;FMTTYPE=image/jpeg:https://sciencenter.org/wp-content/uploads/Sink-or-Float.jpg
END:VEVENT
BEGIN:VEVENT
DTSTART;TZID=America/New_York:20241106T160000
DTEND;TZID=America/New_York:20241106T163000
DTSTAMP:20260419T202959
CREATED:20240904T145525Z
LAST-MODIFIED:20260206T205945Z
UID:10000617-1730908800-1730910600@sciencenter.org
SUMMARY:Animal Feeding
DESCRIPTION:Join an Animal Keeper to observe snakes\, lizards\, frogs\, and fish snacking on their preferred prey.
URL:https://sciencenter.org/event/animal-feeding-2-2-2/2024-11-06/
LOCATION:Sciencenter\, 601 1st Street\, Ithaca\, NY\, 14850\, United States
ATTACH;FMTTYPE=image/png:https://sciencenter.org/wp-content/uploads/Animal-Feeding.png
END:VEVENT
BEGIN:VEVENT
DTSTART;TZID=America/New_York:20241106T103000
DTEND;TZID=America/New_York:20241106T110000
DTSTAMP:20260419T202959
CREATED:20240828T135645Z
LAST-MODIFIED:20240828T135645Z
UID:10002056-1730889000-1730890800@sciencenter.org
SUMMARY:Science Together: Sink or Float
DESCRIPTION:Test and sort items with a water play\, sink or float experiment! \nScience Together activities are designed for ages 0-4.
URL:https://sciencenter.org/event/science-together-sink-or-float-6/2024-11-06/
LOCATION:Sciencenter\, 601 1st Street\, Ithaca\, NY\, 14850\, United States
ATTACH;FMTTYPE=image/jpeg:https://sciencenter.org/wp-content/uploads/Sink-or-Float.jpg
END:VEVENT
BEGIN:VEVENT
DTSTART;TZID=America/New_York:20241105T103000
DTEND;TZID=America/New_York:20241105T110000
DTSTAMP:20260419T202959
CREATED:20240828T135645Z
LAST-MODIFIED:20240828T135645Z
UID:10002055-1730802600-1730804400@sciencenter.org
SUMMARY:Science Together: Sink or Float
DESCRIPTION:Test and sort items with a water play\, sink or float experiment! \nScience Together activities are designed for ages 0-4.
URL:https://sciencenter.org/event/science-together-sink-or-float-6/2024-11-05/
LOCATION:Sciencenter\, 601 1st Street\, Ithaca\, NY\, 14850\, United States
ATTACH;FMTTYPE=image/jpeg:https://sciencenter.org/wp-content/uploads/Sink-or-Float.jpg
END:VEVENT
BEGIN:VEVENT
DTSTART;TZID=America/New_York:20241101T153000
DTEND;TZID=America/New_York:20241101T163000
DTSTAMP:20260419T202959
CREATED:20241018T133631Z
LAST-MODIFIED:20241018T133631Z
UID:10002181-1730475000-1730478600@sciencenter.org
SUMMARY:Family Workshop: Take Apart
DESCRIPTION:Bring the whole family and use various tools to take apart and explore the inner workings of electronics!
URL:https://sciencenter.org/event/family-workshop-take-apart-3/2024-11-01/
LOCATION:Sciencenter\, 601 1st Street\, Ithaca\, NY\, 14850\, United States
ATTACH;FMTTYPE=image/jpeg:https://sciencenter.org/wp-content/uploads/Take-Apart_-1.jpg
END:VEVENT
BEGIN:VEVENT
DTSTART;TZID=America/New_York:20241101T103000
DTEND;TZID=America/New_York:20241101T110000
DTSTAMP:20260419T202959
CREATED:20240828T135511Z
LAST-MODIFIED:20240828T135511Z
UID:10002052-1730457000-1730458800@sciencenter.org
SUMMARY:Science Together: Worms
DESCRIPTION:Observe and measure live worms! \nScience Together activities are designed for ages 0-4.
URL:https://sciencenter.org/event/science-together-worms-4/2024-11-01/
LOCATION:Sciencenter\, 601 1st Street\, Ithaca\, NY\, 14850\, United States
ATTACH;FMTTYPE=image/jpeg:https://sciencenter.org/wp-content/uploads/Worms.jpg
END:VEVENT
BEGIN:VEVENT
DTSTART;TZID=America/New_York:20241031T103000
DTEND;TZID=America/New_York:20241031T110000
DTSTAMP:20260419T202959
CREATED:20240828T135511Z
LAST-MODIFIED:20240828T135511Z
UID:10002051-1730370600-1730372400@sciencenter.org
SUMMARY:Science Together: Worms
DESCRIPTION:Observe and measure live worms! \nScience Together activities are designed for ages 0-4.
URL:https://sciencenter.org/event/science-together-worms-4/2024-10-31/
LOCATION:Sciencenter\, 601 1st Street\, Ithaca\, NY\, 14850\, United States
ATTACH;FMTTYPE=image/jpeg:https://sciencenter.org/wp-content/uploads/Worms.jpg
END:VEVENT
BEGIN:VEVENT
DTSTART;TZID=America/New_York:20241030T160000
DTEND;TZID=America/New_York:20241030T163000
DTSTAMP:20260419T202959
CREATED:20240904T145525Z
LAST-MODIFIED:20260206T205945Z
UID:10000616-1730304000-1730305800@sciencenter.org
SUMMARY:Animal Feeding
DESCRIPTION:Join an Animal Keeper to observe snakes\, lizards\, frogs\, and fish snacking on their preferred prey.
URL:https://sciencenter.org/event/animal-feeding-2-2-2/2024-10-30/
LOCATION:Sciencenter\, 601 1st Street\, Ithaca\, NY\, 14850\, United States
ATTACH;FMTTYPE=image/png:https://sciencenter.org/wp-content/uploads/Animal-Feeding.png
END:VEVENT
BEGIN:VEVENT
DTSTART;TZID=America/New_York:20241030T103000
DTEND;TZID=America/New_York:20241030T110000
DTSTAMP:20260419T202959
CREATED:20240828T135511Z
LAST-MODIFIED:20240828T135511Z
UID:10002050-1730284200-1730286000@sciencenter.org
SUMMARY:Science Together: Worms
DESCRIPTION:Observe and measure live worms! \nScience Together activities are designed for ages 0-4.
URL:https://sciencenter.org/event/science-together-worms-4/2024-10-30/
LOCATION:Sciencenter\, 601 1st Street\, Ithaca\, NY\, 14850\, United States
ATTACH;FMTTYPE=image/jpeg:https://sciencenter.org/wp-content/uploads/Worms.jpg
END:VEVENT
BEGIN:VEVENT
DTSTART;TZID=America/New_York:20241029T103000
DTEND;TZID=America/New_York:20241029T110000
DTSTAMP:20260419T202959
CREATED:20240828T135511Z
LAST-MODIFIED:20240828T135511Z
UID:10002049-1730197800-1730199600@sciencenter.org
SUMMARY:Science Together: Worms
DESCRIPTION:Observe and measure live worms! \nScience Together activities are designed for ages 0-4.
URL:https://sciencenter.org/event/science-together-worms-4/2024-10-29/
LOCATION:Sciencenter\, 601 1st Street\, Ithaca\, NY\, 14850\, United States
ATTACH;FMTTYPE=image/jpeg:https://sciencenter.org/wp-content/uploads/Worms.jpg
END:VEVENT
BEGIN:VEVENT
DTSTART;TZID=America/New_York:20241027T120000
DTEND;TZID=America/New_York:20241027T160000
DTSTAMP:20260419T202959
CREATED:20240910T151404Z
LAST-MODIFIED:20241007T144653Z
UID:10002161-1730030400-1730044800@sciencenter.org
SUMMARY:Spooky Science
DESCRIPTION:Join us for our annual free community event\, Spooky Science\, on Sunday\, October 27th. Families are invited to explore the museum in their favorite costumes and enjoy a day of eerie experiments\, hands-on activities\, and Halloween magic. It will be a spooky blast – perfect for kids of all ages. \nSpooky Science is sponsored by Tompkins County Tourism Program and Cornell University Community Relations.
URL:https://sciencenter.org/event/spooky-science/
LOCATION:Sciencenter\, 601 1st Street\, Ithaca\, NY\, 14850\, United States
ATTACH;FMTTYPE=image/png:https://sciencenter.org/wp-content/uploads/Spooky-Science-Website-Graphic-2024-1.png
END:VEVENT
BEGIN:VEVENT
DTSTART;TZID=America/New_York:20241025T103000
DTEND;TZID=America/New_York:20241025T110000
DTSTAMP:20260419T202959
CREATED:20240828T135319Z
LAST-MODIFIED:20240904T144349Z
UID:10002044-1729852200-1729854000@sciencenter.org
SUMMARY:Science Together: Flubber
DESCRIPTION:Use a variety of tools to explore and make observations about the fun properties of Flubber! \nScience Together activities are designed for ages 0-4.
URL:https://sciencenter.org/event/science-together-flubber-6/2024-10-25/
LOCATION:Sciencenter\, 601 1st Street\, Ithaca\, NY\, 14850\, United States
ATTACH;FMTTYPE=image/png:https://sciencenter.org/wp-content/uploads/Flubber-3.png
END:VEVENT
END:VCALENDAR