BEGIN:VCALENDAR
VERSION:2.0
PRODID:-//Sciencenter - ECPv6.15.20//NONSGML v1.0//EN
CALSCALE:GREGORIAN
METHOD:PUBLISH
X-WR-CALNAME:Sciencenter
X-ORIGINAL-URL:https://sciencenter.org
X-WR-CALDESC:Events for Sciencenter
REFRESH-INTERVAL;VALUE=DURATION:PT1H
X-Robots-Tag:noindex
X-PUBLISHED-TTL:PT1H
BEGIN:VTIMEZONE
TZID:America/New_York
BEGIN:DAYLIGHT
TZOFFSETFROM:-0500
TZOFFSETTO:-0400
TZNAME:EDT
DTSTART:20230312T070000
END:DAYLIGHT
BEGIN:STANDARD
TZOFFSETFROM:-0400
TZOFFSETTO:-0500
TZNAME:EST
DTSTART:20231105T060000
END:STANDARD
BEGIN:DAYLIGHT
TZOFFSETFROM:-0500
TZOFFSETTO:-0400
TZNAME:EDT
DTSTART:20240310T070000
END:DAYLIGHT
BEGIN:STANDARD
TZOFFSETFROM:-0400
TZOFFSETTO:-0500
TZNAME:EST
DTSTART:20241103T060000
END:STANDARD
BEGIN:DAYLIGHT
TZOFFSETFROM:-0500
TZOFFSETTO:-0400
TZNAME:EDT
DTSTART:20250309T070000
END:DAYLIGHT
BEGIN:STANDARD
TZOFFSETFROM:-0400
TZOFFSETTO:-0500
TZNAME:EST
DTSTART:20251102T060000
END:STANDARD
BEGIN:DAYLIGHT
TZOFFSETFROM:-0500
TZOFFSETTO:-0400
TZNAME:EDT
DTSTART:20260308T070000
END:DAYLIGHT
BEGIN:STANDARD
TZOFFSETFROM:-0400
TZOFFSETTO:-0500
TZNAME:EST
DTSTART:20261101T060000
END:STANDARD
END:VTIMEZONE
BEGIN:VEVENT
DTSTART;TZID=America/New_York:20250114T103000
DTEND;TZID=America/New_York:20250114T110000
DTSTAMP:20260419T203012
CREATED:20241211T210608Z
LAST-MODIFIED:20241211T210608Z
UID:10002203-1736850600-1736852400@sciencenter.org
SUMMARY:Science Together: Ice Melting
DESCRIPTION:Test out different methods to melt ice with tools like warm water and salt. See if you can rescue an animal trapped in ice! \nScience Together activities are designed for ages 0-4.
URL:https://sciencenter.org/event/science-together-ice-melting-7/2025-01-14/
LOCATION:Sciencenter\, 601 1st Street\, Ithaca\, NY\, 14850\, United States
ATTACH;FMTTYPE=image/jpeg:https://sciencenter.org/wp-content/uploads/Ice-Melting-1.jpg
END:VEVENT
BEGIN:VEVENT
DTSTART;TZID=America/New_York:20250112T140000
DTEND;TZID=America/New_York:20250112T150000
DTSTAMP:20260419T203012
CREATED:20241217T161215Z
LAST-MODIFIED:20241231T205423Z
UID:10002214-1736690400-1736694000@sciencenter.org
SUMMARY:Science Connections: OJI:SDA Sustainable Futures
DESCRIPTION:OJI:SDA’ expands Indigenous visibility\, land literacy and good health by using innovative methods of sharing ancestral knowledge. \nJoin facilitators in hands-on activities!
URL:https://sciencenter.org/event/science-connections-ojisda-sustainable-futures/
LOCATION:Sciencenter\, 601 1st Street\, Ithaca\, NY\, 14850\, United States
ATTACH;FMTTYPE=image/png:https://sciencenter.org/wp-content/uploads/OJISDA-Sustainable-Futures-1.png
END:VEVENT
BEGIN:VEVENT
DTSTART;TZID=America/New_York:20250110T103000
DTEND;TZID=America/New_York:20250110T110000
DTSTAMP:20260419T203012
CREATED:20241211T204532Z
LAST-MODIFIED:20241211T204731Z
UID:10002198-1736505000-1736506800@sciencenter.org
SUMMARY:Science Together: Sink or Float
DESCRIPTION:Test and sort items with a water play\, sink or float experiment! \nScience Together activities are designed for ages 0-4.
URL:https://sciencenter.org/event/science-together-sink-or-float-7/2025-01-10/
LOCATION:Sciencenter\, 601 1st Street\, Ithaca\, NY\, 14850\, United States
ATTACH;FMTTYPE=image/jpeg:https://sciencenter.org/wp-content/uploads/Sink-or-Float.jpg
END:VEVENT
BEGIN:VEVENT
DTSTART;TZID=America/New_York:20250109T103000
DTEND;TZID=America/New_York:20250109T110000
DTSTAMP:20260419T203012
CREATED:20241211T204532Z
LAST-MODIFIED:20241211T204731Z
UID:10002197-1736418600-1736420400@sciencenter.org
SUMMARY:Science Together: Sink or Float
DESCRIPTION:Test and sort items with a water play\, sink or float experiment! \nScience Together activities are designed for ages 0-4.
URL:https://sciencenter.org/event/science-together-sink-or-float-7/2025-01-09/
LOCATION:Sciencenter\, 601 1st Street\, Ithaca\, NY\, 14850\, United States
ATTACH;FMTTYPE=image/jpeg:https://sciencenter.org/wp-content/uploads/Sink-or-Float.jpg
END:VEVENT
BEGIN:VEVENT
DTSTART;TZID=America/New_York:20250108T160000
DTEND;TZID=America/New_York:20250108T163000
DTSTAMP:20260419T203012
CREATED:20240904T145525Z
LAST-MODIFIED:20260206T205945Z
UID:10000626-1736352000-1736353800@sciencenter.org
SUMMARY:Animal Feeding
DESCRIPTION:Join an Animal Keeper to observe snakes\, lizards\, frogs\, and fish snacking on their preferred prey.
URL:https://sciencenter.org/event/animal-feeding-2-2-2/2025-01-08/
LOCATION:Sciencenter\, 601 1st Street\, Ithaca\, NY\, 14850\, United States
ATTACH;FMTTYPE=image/png:https://sciencenter.org/wp-content/uploads/Animal-Feeding.png
END:VEVENT
BEGIN:VEVENT
DTSTART;TZID=America/New_York:20250108T103000
DTEND;TZID=America/New_York:20250108T110000
DTSTAMP:20260419T203012
CREATED:20241211T204532Z
LAST-MODIFIED:20241211T204731Z
UID:10002196-1736332200-1736334000@sciencenter.org
SUMMARY:Science Together: Sink or Float
DESCRIPTION:Test and sort items with a water play\, sink or float experiment! \nScience Together activities are designed for ages 0-4.
URL:https://sciencenter.org/event/science-together-sink-or-float-7/2025-01-08/
LOCATION:Sciencenter\, 601 1st Street\, Ithaca\, NY\, 14850\, United States
ATTACH;FMTTYPE=image/jpeg:https://sciencenter.org/wp-content/uploads/Sink-or-Float.jpg
END:VEVENT
BEGIN:VEVENT
DTSTART;TZID=America/New_York:20250107T103000
DTEND;TZID=America/New_York:20250107T110000
DTSTAMP:20260419T203012
CREATED:20241211T204532Z
LAST-MODIFIED:20241211T204731Z
UID:10002195-1736245800-1736247600@sciencenter.org
SUMMARY:Science Together: Sink or Float
DESCRIPTION:Test and sort items with a water play\, sink or float experiment! \nScience Together activities are designed for ages 0-4.
URL:https://sciencenter.org/event/science-together-sink-or-float-7/2025-01-07/
LOCATION:Sciencenter\, 601 1st Street\, Ithaca\, NY\, 14850\, United States
ATTACH;FMTTYPE=image/jpeg:https://sciencenter.org/wp-content/uploads/Sink-or-Float.jpg
END:VEVENT
BEGIN:VEVENT
DTSTART;TZID=America/New_York:20250105T140000
DTEND;TZID=America/New_York:20250105T150000
DTSTAMP:20260419T203012
CREATED:20241217T160722Z
LAST-MODIFIED:20241217T160722Z
UID:10002213-1736085600-1736089200@sciencenter.org
SUMMARY:Chemsations: Incredible Indicators
DESCRIPTION:Investigate color-changing liquids\, explore the importance of acids and bases in our daily lives\, and make your very own chemistry watercolor artwork to take home!
URL:https://sciencenter.org/event/chemsations-incredible-indicators-2/
LOCATION:Sciencenter\, 601 1st Street\, Ithaca\, NY\, 14850\, United States
ATTACH;FMTTYPE=image/png:https://sciencenter.org/wp-content/uploads/Chemsations-Incredible-Indicators-1.png
END:VEVENT
BEGIN:VEVENT
DTSTART;TZID=America/New_York:20250103T103000
DTEND;TZID=America/New_York:20250103T110000
DTSTAMP:20260419T203012
CREATED:20240904T145038Z
LAST-MODIFIED:20240904T145038Z
UID:10002121-1735900200-1735902000@sciencenter.org
SUMMARY:Science Together: Roller Coasters
DESCRIPTION:Explore ups and downs as you make and test a roller coaster! \nScience Together activities are designed for ages 0-4.
URL:https://sciencenter.org/event/science-together-roller-coasters-7/2025-01-03/
LOCATION:Sciencenter\, 601 1st Street\, Ithaca\, NY\, 14850\, United States
ATTACH;FMTTYPE=image/jpeg:https://sciencenter.org/wp-content/uploads/RollerCoasters.jpg
END:VEVENT
BEGIN:VEVENT
DTSTART;TZID=America/New_York:20250102T103000
DTEND;TZID=America/New_York:20250102T110000
DTSTAMP:20260419T203012
CREATED:20240904T145038Z
LAST-MODIFIED:20240904T145038Z
UID:10002120-1735813800-1735815600@sciencenter.org
SUMMARY:Science Together: Roller Coasters
DESCRIPTION:Explore ups and downs as you make and test a roller coaster! \nScience Together activities are designed for ages 0-4.
URL:https://sciencenter.org/event/science-together-roller-coasters-7/2025-01-02/
LOCATION:Sciencenter\, 601 1st Street\, Ithaca\, NY\, 14850\, United States
ATTACH;FMTTYPE=image/jpeg:https://sciencenter.org/wp-content/uploads/RollerCoasters.jpg
END:VEVENT
BEGIN:VEVENT
DTSTART;TZID=America/New_York:20241231T103000
DTEND;TZID=America/New_York:20241231T110000
DTSTAMP:20260419T203012
CREATED:20240904T145038Z
LAST-MODIFIED:20240904T145038Z
UID:10002119-1735641000-1735642800@sciencenter.org
SUMMARY:Science Together: Roller Coasters
DESCRIPTION:Explore ups and downs as you make and test a roller coaster! \nScience Together activities are designed for ages 0-4.
URL:https://sciencenter.org/event/science-together-roller-coasters-7/2024-12-31/
LOCATION:Sciencenter\, 601 1st Street\, Ithaca\, NY\, 14850\, United States
ATTACH;FMTTYPE=image/jpeg:https://sciencenter.org/wp-content/uploads/RollerCoasters.jpg
END:VEVENT
BEGIN:VEVENT
DTSTART;TZID=America/New_York:20241229T140000
DTEND;TZID=America/New_York:20241229T150000
DTSTAMP:20260419T203012
CREATED:20241211T211619Z
LAST-MODIFIED:20241211T211929Z
UID:10002208-1735480800-1735484400@sciencenter.org
SUMMARY:Science Connections: Confetti Poppers
DESCRIPTION:Get ready to ring in the New Year by building your very own confetti popper to take home!
URL:https://sciencenter.org/event/science-connections-confetti-poppers/
LOCATION:Sciencenter\, 601 1st Street\, Ithaca\, NY\, 14850\, United States
ATTACH;FMTTYPE=image/png:https://sciencenter.org/wp-content/uploads/NEW-eNews-Header-Graphics-1200-x-675-px-1.png
END:VEVENT
BEGIN:VEVENT
DTSTART;TZID=America/New_York:20241227T103000
DTEND;TZID=America/New_York:20241227T110000
DTSTAMP:20260419T203012
CREATED:20240904T144924Z
LAST-MODIFIED:20240904T145323Z
UID:10002114-1735295400-1735297200@sciencenter.org
SUMMARY:Science Together: Kinetic Sand
DESCRIPTION:Explore the different properties of kinetic sand! \nScience Together activities are designed for ages 0-4.
URL:https://sciencenter.org/event/science-together-kinetic-sand-4/2024-12-27/
LOCATION:Sciencenter\, 601 1st Street\, Ithaca\, NY\, 14850\, United States
ATTACH;FMTTYPE=image/jpeg:https://sciencenter.org/wp-content/uploads/Kinetic-Sand-1.jpg
END:VEVENT
BEGIN:VEVENT
DTSTART;TZID=America/New_York:20241226T103000
DTEND;TZID=America/New_York:20241226T110000
DTSTAMP:20260419T203012
CREATED:20240904T144924Z
LAST-MODIFIED:20240904T145323Z
UID:10002113-1735209000-1735210800@sciencenter.org
SUMMARY:Science Together: Kinetic Sand
DESCRIPTION:Explore the different properties of kinetic sand! \nScience Together activities are designed for ages 0-4.
URL:https://sciencenter.org/event/science-together-kinetic-sand-4/2024-12-26/
LOCATION:Sciencenter\, 601 1st Street\, Ithaca\, NY\, 14850\, United States
ATTACH;FMTTYPE=image/jpeg:https://sciencenter.org/wp-content/uploads/Kinetic-Sand-1.jpg
END:VEVENT
BEGIN:VEVENT
DTSTART;TZID=America/New_York:20241224T103000
DTEND;TZID=America/New_York:20241224T110000
DTSTAMP:20260419T203012
CREATED:20240904T144924Z
LAST-MODIFIED:20240904T145323Z
UID:10002111-1735036200-1735038000@sciencenter.org
SUMMARY:Science Together: Kinetic Sand
DESCRIPTION:Explore the different properties of kinetic sand! \nScience Together activities are designed for ages 0-4.
URL:https://sciencenter.org/event/science-together-kinetic-sand-4/2024-12-24/
LOCATION:Sciencenter\, 601 1st Street\, Ithaca\, NY\, 14850\, United States
ATTACH;FMTTYPE=image/jpeg:https://sciencenter.org/wp-content/uploads/Kinetic-Sand-1.jpg
END:VEVENT
BEGIN:VEVENT
DTSTART;TZID=America/New_York:20241222T140000
DTEND;TZID=America/New_York:20241222T150000
DTSTAMP:20260419T203012
CREATED:20241217T160312Z
LAST-MODIFIED:20241217T165553Z
UID:10002212-1734876000-1734879600@sciencenter.org
SUMMARY:Science Connections: Rigamajig Design Challenge
DESCRIPTION:Join us for a Sciencenter staff-led engineering design challenge! Using our Rigamajig building kit\, we’ll craft cranes\, cars\, and more.
URL:https://sciencenter.org/event/science-connections-rigamajig-design-challenge/
LOCATION:Sciencenter\, 601 1st Street\, Ithaca\, NY\, 14850\, United States
ATTACH;FMTTYPE=image/png:https://sciencenter.org/wp-content/uploads/Rigamajig-Design-Challenge.png
END:VEVENT
BEGIN:VEVENT
DTSTART;TZID=America/New_York:20241220T103000
DTEND;TZID=America/New_York:20241220T110000
DTSTAMP:20260419T203012
CREATED:20240904T144812Z
LAST-MODIFIED:20240904T144812Z
UID:10002106-1734690600-1734692400@sciencenter.org
SUMMARY:Science Together: Baking Soda and Vinegar
DESCRIPTION:Explore the process of experimentation as you create chemical reactions with baking soda and vinegar! \nScience Together activities are designed for ages 0-4.
URL:https://sciencenter.org/event/science-together-baking-soda-and-vinegar-6/2024-12-20/
LOCATION:Sciencenter\, 601 1st Street\, Ithaca\, NY\, 14850\, United States
ATTACH;FMTTYPE=image/jpeg:https://sciencenter.org/wp-content/uploads/BakingSodaVinegar.jpg
END:VEVENT
BEGIN:VEVENT
DTSTART;TZID=America/New_York:20241219T153000
DTEND;TZID=America/New_York:20241219T163000
DTSTAMP:20260419T203012
CREATED:20241018T133631Z
LAST-MODIFIED:20241018T133631Z
UID:10002182-1734622200-1734625800@sciencenter.org
SUMMARY:Family Workshop: Take Apart
DESCRIPTION:Bring the whole family and use various tools to take apart and explore the inner workings of electronics!
URL:https://sciencenter.org/event/family-workshop-take-apart-3/2024-12-19/
LOCATION:Sciencenter\, 601 1st Street\, Ithaca\, NY\, 14850\, United States
ATTACH;FMTTYPE=image/jpeg:https://sciencenter.org/wp-content/uploads/Take-Apart_-1.jpg
END:VEVENT
BEGIN:VEVENT
DTSTART;TZID=America/New_York:20241219T103000
DTEND;TZID=America/New_York:20241219T110000
DTSTAMP:20260419T203012
CREATED:20240904T144812Z
LAST-MODIFIED:20240904T144812Z
UID:10002105-1734604200-1734606000@sciencenter.org
SUMMARY:Science Together: Baking Soda and Vinegar
DESCRIPTION:Explore the process of experimentation as you create chemical reactions with baking soda and vinegar! \nScience Together activities are designed for ages 0-4.
URL:https://sciencenter.org/event/science-together-baking-soda-and-vinegar-6/2024-12-19/
LOCATION:Sciencenter\, 601 1st Street\, Ithaca\, NY\, 14850\, United States
ATTACH;FMTTYPE=image/jpeg:https://sciencenter.org/wp-content/uploads/BakingSodaVinegar.jpg
END:VEVENT
BEGIN:VEVENT
DTSTART;TZID=America/New_York:20241218T160000
DTEND;TZID=America/New_York:20241218T163000
DTSTAMP:20260419T203012
CREATED:20240904T145525Z
LAST-MODIFIED:20260206T205945Z
UID:10000623-1734537600-1734539400@sciencenter.org
SUMMARY:Animal Feeding
DESCRIPTION:Join an Animal Keeper to observe snakes\, lizards\, frogs\, and fish snacking on their preferred prey.
URL:https://sciencenter.org/event/animal-feeding-2-2-2/2024-12-18/
LOCATION:Sciencenter\, 601 1st Street\, Ithaca\, NY\, 14850\, United States
ATTACH;FMTTYPE=image/png:https://sciencenter.org/wp-content/uploads/Animal-Feeding.png
END:VEVENT
BEGIN:VEVENT
DTSTART;TZID=America/New_York:20241218T103000
DTEND;TZID=America/New_York:20241218T110000
DTSTAMP:20260419T203012
CREATED:20240904T144812Z
LAST-MODIFIED:20240904T144812Z
UID:10002104-1734517800-1734519600@sciencenter.org
SUMMARY:Science Together: Baking Soda and Vinegar
DESCRIPTION:Explore the process of experimentation as you create chemical reactions with baking soda and vinegar! \nScience Together activities are designed for ages 0-4.
URL:https://sciencenter.org/event/science-together-baking-soda-and-vinegar-6/2024-12-18/
LOCATION:Sciencenter\, 601 1st Street\, Ithaca\, NY\, 14850\, United States
ATTACH;FMTTYPE=image/jpeg:https://sciencenter.org/wp-content/uploads/BakingSodaVinegar.jpg
END:VEVENT
BEGIN:VEVENT
DTSTART;TZID=America/New_York:20241217T103000
DTEND;TZID=America/New_York:20241217T110000
DTSTAMP:20260419T203012
CREATED:20240904T144812Z
LAST-MODIFIED:20240904T144812Z
UID:10002103-1734431400-1734433200@sciencenter.org
SUMMARY:Science Together: Baking Soda and Vinegar
DESCRIPTION:Explore the process of experimentation as you create chemical reactions with baking soda and vinegar! \nScience Together activities are designed for ages 0-4.
URL:https://sciencenter.org/event/science-together-baking-soda-and-vinegar-6/2024-12-17/
LOCATION:Sciencenter\, 601 1st Street\, Ithaca\, NY\, 14850\, United States
ATTACH;FMTTYPE=image/jpeg:https://sciencenter.org/wp-content/uploads/BakingSodaVinegar.jpg
END:VEVENT
BEGIN:VEVENT
DTSTART;TZID=America/New_York:20241215T140000
DTEND;TZID=America/New_York:20241215T150000
DTSTAMP:20260419T203012
CREATED:20241213T181958Z
LAST-MODIFIED:20260213T145052Z
UID:10002209-1734271200-1734274800@sciencenter.org
SUMMARY:Science Connections
DESCRIPTION:Join local science experts with hands-on activities and demonstrations.
URL:https://sciencenter.org/event/science-connections/2024-12-15/
LOCATION:Sciencenter\, 601 1st Street\, Ithaca\, NY\, 14850\, United States
ATTACH;FMTTYPE=image/png:https://sciencenter.org/wp-content/uploads/NEW-eNews-Header-Graphics-1200-x-675-px.png
END:VEVENT
BEGIN:VEVENT
DTSTART;TZID=America/New_York:20241215T110000
DTEND;TZID=America/New_York:20241215T120000
DTSTAMP:20260419T203012
CREATED:20241211T202349Z
LAST-MODIFIED:20241211T202349Z
UID:10002183-1734260400-1734264000@sciencenter.org
SUMMARY:Science Connections: Naturalist Outreach
DESCRIPTION:Join us for a special Science Connections series in partnership with Cornell’s Naturalist Outreach Program featuring insects\, reptiles\, and birds!
URL:https://sciencenter.org/event/science-connections-naturalist-outreach-2/
LOCATION:Sciencenter\, 601 1st Street\, Ithaca\, NY\, 14850\, United States
ATTACH;FMTTYPE=image/png:https://sciencenter.org/wp-content/uploads/Science-Connections-Naturalist-Outreach-1200-x-675-px-2-1.png
END:VEVENT
BEGIN:VEVENT
DTSTART;TZID=America/New_York:20241214T120000
DTEND;TZID=America/New_York:20241214T160000
DTSTAMP:20260419T203012
CREATED:20241014T152554Z
LAST-MODIFIED:20241211T202121Z
UID:10002173-1734177600-1734192000@sciencenter.org
SUMMARY:Science Connections: Cornell Prototyping Demo Day
DESCRIPTION:Join students from Cornell’s Rapid Prototyping class to see demos of their creative inventions and learn about how they made their ideas into real\, working machines!
URL:https://sciencenter.org/event/science-connections-cornell-prototyping-demo/
LOCATION:Sciencenter\, 601 1st Street\, Ithaca\, NY\, 14850\, United States
ATTACH;FMTTYPE=image/png:https://sciencenter.org/wp-content/uploads/Cornell-Prototyping.png
END:VEVENT
BEGIN:VEVENT
DTSTART;TZID=America/New_York:20241213T103000
DTEND;TZID=America/New_York:20241213T110000
DTSTAMP:20260419T203012
CREATED:20240904T144651Z
LAST-MODIFIED:20240904T144651Z
UID:10002098-1734085800-1734087600@sciencenter.org
SUMMARY:Science Together: Flower Dissection
DESCRIPTION:Practice using tools and making observations as we look at all the parts of a flower! \nScience Together activities are designed for ages 0-4.
URL:https://sciencenter.org/event/science-together-flower-dissection-3/2024-12-13/
LOCATION:Sciencenter\, 601 1st Street\, Ithaca\, NY\, 14850\, United States
ATTACH;FMTTYPE=image/jpeg:https://sciencenter.org/wp-content/uploads/FlowerDissection-.jpg
END:VEVENT
BEGIN:VEVENT
DTSTART;TZID=America/New_York:20241212T103000
DTEND;TZID=America/New_York:20241212T110000
DTSTAMP:20260419T203012
CREATED:20240904T144651Z
LAST-MODIFIED:20240904T144651Z
UID:10002097-1733999400-1734001200@sciencenter.org
SUMMARY:Science Together: Flower Dissection
DESCRIPTION:Practice using tools and making observations as we look at all the parts of a flower! \nScience Together activities are designed for ages 0-4.
URL:https://sciencenter.org/event/science-together-flower-dissection-3/2024-12-12/
LOCATION:Sciencenter\, 601 1st Street\, Ithaca\, NY\, 14850\, United States
ATTACH;FMTTYPE=image/jpeg:https://sciencenter.org/wp-content/uploads/FlowerDissection-.jpg
END:VEVENT
BEGIN:VEVENT
DTSTART;TZID=America/New_York:20241211T160000
DTEND;TZID=America/New_York:20241211T163000
DTSTAMP:20260419T203012
CREATED:20240904T145525Z
LAST-MODIFIED:20260206T205945Z
UID:10000622-1733932800-1733934600@sciencenter.org
SUMMARY:Animal Feeding
DESCRIPTION:Join an Animal Keeper to observe snakes\, lizards\, frogs\, and fish snacking on their preferred prey.
URL:https://sciencenter.org/event/animal-feeding-2-2-2/2024-12-11/
LOCATION:Sciencenter\, 601 1st Street\, Ithaca\, NY\, 14850\, United States
ATTACH;FMTTYPE=image/png:https://sciencenter.org/wp-content/uploads/Animal-Feeding.png
END:VEVENT
BEGIN:VEVENT
DTSTART;TZID=America/New_York:20241211T103000
DTEND;TZID=America/New_York:20241211T110000
DTSTAMP:20260419T203012
CREATED:20240904T144651Z
LAST-MODIFIED:20240904T144651Z
UID:10002096-1733913000-1733914800@sciencenter.org
SUMMARY:Science Together: Flower Dissection
DESCRIPTION:Practice using tools and making observations as we look at all the parts of a flower! \nScience Together activities are designed for ages 0-4.
URL:https://sciencenter.org/event/science-together-flower-dissection-3/2024-12-11/
LOCATION:Sciencenter\, 601 1st Street\, Ithaca\, NY\, 14850\, United States
ATTACH;FMTTYPE=image/jpeg:https://sciencenter.org/wp-content/uploads/FlowerDissection-.jpg
END:VEVENT
BEGIN:VEVENT
DTSTART;TZID=America/New_York:20241210T103000
DTEND;TZID=America/New_York:20241210T110000
DTSTAMP:20260419T203012
CREATED:20240904T144651Z
LAST-MODIFIED:20240904T144651Z
UID:10002095-1733826600-1733828400@sciencenter.org
SUMMARY:Science Together: Flower Dissection
DESCRIPTION:Practice using tools and making observations as we look at all the parts of a flower! \nScience Together activities are designed for ages 0-4.
URL:https://sciencenter.org/event/science-together-flower-dissection-3/2024-12-10/
LOCATION:Sciencenter\, 601 1st Street\, Ithaca\, NY\, 14850\, United States
ATTACH;FMTTYPE=image/jpeg:https://sciencenter.org/wp-content/uploads/FlowerDissection-.jpg
END:VEVENT
END:VCALENDAR